Workbook

Sheet Deklarācija
K1: Deklarācija par komercsabiedrības atbilstību mazajai (sīkajai) vai vidējai komercsabiedrībai
S2: Šo deklarāciju pilda, ņemot vērā Eiropas Komisijas 2014. gada 17. jūnija Regulas (ES) Nr. 651/2014, ar ko noteiktas atbalsta kategorijas atzīst par saderīgām ar iekšējo tirgu, piemērojot Līguma 107. un 108. pantu, I pielikumā ietvertos nosacījumus ar mērķi noteikt uzņēmuma kategoriju (statusu). Detalizētāki nosacījumi deklarācijas aizpildīšanai un saites uz palīgmateriāliem pieejamas izklājlapā "INFO". Zemāk vispārīga informācija deklarācijas aizpildīšanai.
K3: Izstrādāta pamatojoties uz 16.12.2024. MK noteikumiem Nr.776 "Kārtība, kādā komercsabiedrības deklarē savu atbilstību mazās (sīkās) un vidējās komercsabiedrības statusam" | S3: Vispārīgā informācija:
B4: Robežvērtības: STATUSA NOTEIKŠANA | J4: Ar šo | S4: Aizpildāmie lauki ir iekrāsoti dzelteni (ciktāl nepieciešams) | W4: Šo lauku informāciju var labot (šūnas ir atvērtas, vai pastāv izvēlne)
J5: Juridiskas personas nosaukums | S5: Vispirms jāaizpilda informācija par uzņēmumu par kuru deklarācija tiek pildīta ( šūna L5-L7). Šūnas L5 informācija ielasīsies šūnā O21. Norāda, vai uzņēmums ir Valsts vai pasvaldībai piederošs uzņēmums. Norāda, cik Gada pārskati vai Gada ienākuma deklarācijas Atbalsta pretendetam pieejami. No tā ir atkarīgs kopējais rezultāts. Ja ir pieejami 3 gadu pārskati, pilda informāciju par pēdējiem 2 gadu pārskatiem. Ja rezultāts neuzrādās, pilda informāciju par 3 gadu. Tabulā ieraksta informāciju par uzņēmuma finanšu datiem atkarībā no pieejamo Gada pārskatu/Gada ienākuma deklarāciju skaita.
J6: Reģistrācijas numurs
D7: IZPILDĀS | G7: JĀ | J7: Pārstāvja Vārds, Uzvārds | S7: Ja Uzņēmuma statusa laukā ( šūnā O10, J27) ir teksts "Jānosaka statuss" vai (šūnā J27,L30,M30) "Nav visa informācija", tas nozīmē, ka: - nav aizpildīti visi nepieciešamie finanšu dati statusa noteikšanai (šūnas O26:Q28), vai - nav ievadīts darbinieku skaits. Ja darbinieku skaits ir 0, ir jāievada 1 un Piezīmēs atrunāt, ka faktiskais darbinieku skaits ir 0.
D8: NEIZPILDĀS | G8: NĒ | J8: apliecinu, ka deklarācijā sniegtā informācija ir pilnīga un patiesa.
J9: Datums: | K9: laika zīmogā | O9: Uzņēmums atbilst kategorijai: | R9: Darbinieku skaits | S9: Norāda pilnas slodzes ekvivalentu.
B10: Uzņēmuma statuss | C10: Nosacījumi | D10: Kritērijs | E10: Robeža | H10: Izvēlnes: | J10: Dokuments ir parakstīts ar drošu elektronisko parakstu | O10: =IF(J26="Lielais","Lielais uzņēmums",IF(J26="Vidējais","Vidējais uzņēmums",IF(J26="Mazais","Mazais uzņēmums",IF(J26="Mikro","Mikro uzņēmums",J26)))) -> Jānosaka statuss | R10: Gada apgrozījums, EUR | S10: Norāda Neto apgrozījumu no PZA.
B11: Mikro | C11: Darbinieku skaits | D11: ≤9 | E11: 10 | H11: 1 | R11: Bilances vērtība, EUR | S11: Norāda Bilances kopsummu.
C12: Gada apgrozījums, EUR | D12: ≤ 2 milj. EUR | E12: 2000000 | H12: 2 | S12: Grupas uzņēmumu (Grupas uzņēmums-#) datu lauku aizpildīšana:
C13: Bilances vērtības, EUR | D13: ≤ 2 milj. EUR | E13: 2000000 | H13: 3 | R13: Saistību veids | S13: Jāizvēlas saistību veids- Saistītais vai Partneruzņēmums. Ja izvēle ir "Saistītais", Dalība (%) autmoātiski ir 100%, ja izvēle ir "Partneris" - dalība automātiski ielasīsies 49.99%. Ja partnerība ir mazāka,manuāli koriģē Dalību (%). Kā noteikt saistību veidu skat. izklājlapu "INFO".
H14: Saistītais | J14: Vai uzņēmums ir valstij vai pašvaldībai piederošs uzņēmums?
B15: Mazais | C15: Darbinieku skaits | D15: 10–49 | E15: 50 | H15: Partneris | R15: Nosaukums | S15: Attiecīgā uzņēmuma nosaukums.
C16: Gada apgrozījums, EUR | D16: 2–10 milj. EUR | E16: 10000000 | R16: Reģistrācijas Nr. | S16: Norāda uzņēmuma reģistrācijas numuru vai fiziskas personas kodu, ja fiziskā persona reģistrēta VID kā saimnieciskās darbības veicējs. Deklarācijā nenorāda fiziskās personas caur kurām rodas saistības ar citiem uzņēmumiem.
C17: Bilances vērtības, EUR | D17: 2–10 milj. EUR | E17: 10000000 | J17: Cik gada pārskati/Gada ienākuma deklarācijas ir pieejami/-as? | R17: Periods | S17: Šis aizpildās automātiski atbilstoši Atbalsta pretendenta sadaļā aizpildīto gadu par kuru ir pieejams gada pārskats (šūna O25).
B18: Vidējais | C18: Darbinieku skaits | D18: 50–249 | E18: 250 | R18: Dalība (%) | S18: Skat.INFO izklājlapu par dalības nosacījumiem! Dalības % norāda atbilstoši tam vai attiecīgais uzņēmums ir definējams kā Saistītais uzņēmums vai Partneruzņēmums. Saistītajiem uzņēmumiem dalība ir jānorāda 100%, jo uzņēmuma lieluma noteikšanās saistīto uzņēmumu dati ir jāņem vērā pilnā apmērā (piemēram, faktiskā dalība ir 50%, bet deklarācijā aprēķinu nolūkā šūnā jāievada 100%). Partneruzņēmumiem, t.sk., partneruzņēmumu saistīto uzņēmumu dalība ir jānorāda atbilstoši to dalības % grupas struktūrā (25%-49.99%). Automātiski ielasās 49.99%, bet šo šūnu var labot manuāli.
C19: Gada apgrozījums, EUR | D19: 10–50 milj. EUR | E19: 50000000 | R19: Piezīmes | S19: Pie konkrētā uzņēmuma vai fiziskās personas norāda pamatojumu (ja attiecināms): Līgumu/vienošanos, ja tiek izmantota saistību veidošanai/pārtraukšanai; Norādi uz konsolidēto gada pārskatu vai citām situācijām.
C20: Bilances vērtības, EUR | D20: 10–43 milj. EUR | E20: 43000000 | J20: STATUSS | K20: KRITĒRIJS | L20: Grupa kopā | O20: =L5 -> 0 | S20: Grupas uzņēmums-1 | V20: Grupas uzņēmums-2 | Y20: Grupas uzņēmums-3 | AB20: Grupas uzņēmums-4 | AE20: Grupas uzņēmums-5 | AH20: Grupas uzņēmums-6 | AK20: Grupas uzņēmums-7 | AN20: Grupas uzņēmums-8 | AQ20: Grupas uzņēmums-9 | AT20: Grupas uzņēmums-10 | AW20: Grupas uzņēmums-11 | AZ20: Grupas uzņēmums-12 | BC20: Grupas uzņēmums-13 | BF20: Grupas uzņēmums-14 | BI20: Grupas uzņēmums-15 | BL20: Grupas uzņēmums-16 | BO20: Grupas uzņēmums-17 | BR20: Grupas uzņēmums-18 | BU20: Grupas uzņēmums-19 | BX20: Grupas uzņēmums-20 | CA20: Grupas uzņēmums-21 | CD20: Grupas uzņēmums-22 | CG20: Grupas uzņēmums-23 | CJ20: Grupas uzņēmums-24 | CM20: Grupas uzņēmums-25
B21: Lielais | C21: Darbinieku skaits | D21: ≥250 | E21: 250 | R21: Saistību veids
C22: Gada apgrozījums, EUR | D22: >50 milj. EUR | E22: 50000000 | R22: Nosaukums
C23: Bilances vērtības, EUR | D23: >43 milj. EUR | E23: 43000000 | R23: Reģistrācijas Nr.
L24: =O24 -> 2025 | M24: =P24 -> 2024 | N24: =Q24 -> 2023 | O24: 2025 | P24: =O24-1 -> 2024 | Q24: =O24-2 -> 2023 | R24: Periods | S24: =O24 -> 2025 | T24: =P24 -> 2024 | U24: =Q24 -> 2023 | V24: =O24 -> 2025 | W24: =P24 -> 2024 | X24: =Q24 -> 2023 | Y24: =O24 -> 2025 | Z24: =P24 -> 2024 | AA24: =Q24 -> 2023 | AB24: =O24 -> 2025 | AC24: =P24 -> 2024 | AD24: =Q24 -> 2023 | AE24: =O24 -> 2025 | AF24: =P24 -> 2024 | AG24: =Q24 -> 2023 | AH24: =O24 -> 2025 | AI24: =P24 -> 2024 | AJ24: =Q24 -> 2023 | AK24: =O24 -> 2025 | AL24: =P24 -> 2024 | AM24: =Q24 -> 2023 | AN24: =O24 -> 2025 | AO24: =P24 -> 2024 | AP24: =Q24 -> 2023 | AQ24: =O24 -> 2025 | AR24: =P24 -> 2024 | AS24: =Q24 -> 2023 | AT24: =O24 -> 2025 | AU24: =P24 -> 2024 | AV24: =Q24 -> 2023 | AW24: =O24 -> 2025 | AX24: =P24 -> 2024 | AY24: =Q24 -> 2023 | AZ24: =O24 -> 2025 | BA24: =P24 -> 2024 | BB24: =Q24 -> 2023 | BC24: =O24 -> 2025 | BD24: =P24 -> 2024 | BE24: =Q24 -> 2023 | BF24: =$L$24 -> 2025 | BG24: =$M$24 -> 2024 | BH24: =N24 -> 2023 | BI24: =$L$24 -> 2025 | BJ24: =$M$24 -> 2024 | BK24: =N24 -> 2023 | BL24: =$L$24 -> 2025 | BM24: =$M$24 -> 2024 | BN24: =N24 -> 2023 | BO24: =$L$24 -> 2025 | BP24: =$M$24 -> 2024 | BQ24: =N24 -> 2023 | BR24: =$L$24 -> 2025 | BS24: =$M$24 -> 2024 | BT24: =N24 -> 2023 | BU24: =$L$24 -> 2025 | BV24: =$M$24 -> 2024 | BW24: =N24 -> 2023 | BX24: =$L$24 -> 2025 | BY24: =$M$24 -> 2024 | BZ24: =N24 -> 2023 | CA24: =$L$24 -> 2025 | CB24: =$M$24 -> 2024 | CC24: =N24 -> 2023 | CD24: =$L$24 -> 2025 | CE24: =$M$24 -> 2024 | CF24: =N24 -> 2023 | CG24: =$L$24 -> 2025 | CH24: =$M$24 -> 2024 | CI24: =N24 -> 2023 | CJ24: =$L$24 -> 2025 | CK24: =$M$24 -> 2024 | CL24: =N24 -> 2023 | CM24: =$L$24 -> 2025 | CN24: =$M$24 -> 2024 | CO24: =N24 -> 2023
B25: =L24 -> 2025 | C25: Jā/Nē | D25: =M24 -> 2024 | E25: Jā/Nē | F25: =N24 -> 2023 | G25: Jā/Nē | O25: 1 | P25: 1 | Q25: 1 | R25: Dalība (%) | S25: =IF(S21="Saistītais",100%,IF(S21="Partneris",49.99%,0)) -> 0 | T25: =IF(S21="Saistītais",100%,IF(S21="Partneris",49.99%,0)) -> 0 | U25: =IF(S21="Saistītais",100%,IF(S21="Partneris",49.99%,0)) -> 0 | V25: 0.25 | W25: 0.25 | X25: 0.25 | Y25: =IF(Y21="Saistītais",100%,IF(Y21="Partneris",49.99%,0)) -> 0 | Z25: =IF(Y21="Saistītais",100%,IF(Y21="Partneris",49.99%,0)) -> 0 | AA25: =IF(Y21="Saistītais",100%,IF(Y21="Partneris",49.99%,0)) -> 0 | AB25: =IF(AB21="Saistītais",100%,IF(AB21="Partneris",49.99%,0)) -> 0 | AC25: =IF(AB21="Saistītais",100%,IF(AB21="Partneris",49.99%,0)) -> 0 | AD25: =IF(AB21="Saistītais",100%,IF(AB21="Partneris",49.99%,0)) -> 0 | AE25: =IF(AE21="Saistītais",100%,IF(AE21="Partneris",49.99%,0)) -> 0 | AF25: =IF(AE21="Saistītais",100%,IF(AE21="Partneris",49.99%,0)) -> 0 | AG25: =IF(AE21="Saistītais",100%,IF(AE21="Partneris",49.99%,0)) -> 0 | AH25: =IF(AH21="Saistītais",100%,IF(AH21="Partneris",49.99%,0)) -> 0 | AI25: =IF(AH21="Saistītais",100%,IF(AH21="Partneris",49.99%,0)) -> 0 | AJ25: =IF(AH21="Saistītais",100%,IF(AH21="Partneris",49.99%,0)) -> 0 | AK25: =IF(AK21="Saistītais",100%,IF(AK21="Partneris",49.99%,0)) -> 0 | AL25: =IF(AK21="Saistītais",100%,IF(AK21="Partneris",49.99%,0)) -> 0 | AM25: =IF(AK21="Saistītais",100%,IF(AK21="Partneris",49.99%,0)) -> 0 | AN25: =IF(AN21="Saistītais",100%,IF(AN21="Partneris",49.99%,0)) -> 0 | AO25: =IF(AN21="Saistītais",100%,IF(AN21="Partneris",49.99%,0)) -> 0 | AP25: =IF(AN21="Saistītais",100%,IF(AN21="Partneris",49.99%,0)) -> 0 | AQ25: =IF(AQ21="Saistītais",100%,IF(AQ21="Partneris",49.99%,0)) -> 0 | AR25: =IF(AQ21="Saistītais",100%,IF(AQ21="Partneris",49.99%,0)) -> 0 | AS25: =IF(AQ21="Saistītais",100%,IF(AQ21="Partneris",49.99%,0)) -> 0 | AT25: =IF(AT21="Saistītais",100%,IF(AT21="Partneris",49.99%,0)) -> 0 | AU25: =IF(AT21="Saistītais",100%,IF(AT21="Partneris",49.99%,0)) -> 0 | AV25: =IF(AT21="Saistītais",100%,IF(AT21="Partneris",49.99%,0)) -> 0 | AW25: =IF(AW21="Saistītais",100%,IF(AW21="Partneris",49.99%,0)) -> 0 | AX25: =IF(AW21="Saistītais",100%,IF(AW21="Partneris",49.99%,0)) -> 0 | AY25: =IF(AW21="Saistītais",100%,IF(AW21="Partneris",49.99%,0)) -> 0 | AZ25: =IF(AZ21="Saistītais",100%,IF(AZ21="Partneris",49.99%,0)) -> 0 | BA25: =IF(AZ21="Saistītais",100%,IF(AZ21="Partneris",49.99%,0)) -> 0 | BB25: =IF(AZ21="Saistītais",100%,IF(AZ21="Partneris",49.99%,0)) -> 0 | BC25: =IF(BC21="Saistītais",100%,IF(BC21="Partneris",49.99%,0)) -> 0 | BD25: =IF(BC21="Saistītais",100%,IF(BC21="Partneris",49.99%,0)) -> 0 | BE25: =IF(BC21="Saistītais",100%,IF(BC21="Partneris",49.99%,0)) -> 0 | BF25: =IF(BF21="Saistītais",100%,IF(BF21="Partneris",49.99%,0)) -> 0 | BG25: =IF(BF21="Saistītais",100%,IF(BF21="Partneris",49.99%,0)) -> 0 | BH25: =IF(BF21="Saistītais",100%,IF(BF21="Partneris",49.99%,0)) -> 0 | BI25: =IF(BI21="Saistītais",100%,IF(BI21="Partneris",49.99%,0)) -> 0 | BJ25: =IF(BI21="Saistītais",100%,IF(BI21="Partneris",49.99%,0)) -> 0 | BK25: =IF(BI21="Saistītais",100%,IF(BI21="Partneris",49.99%,0)) -> 0 | BL25: =IF(BL21="Saistītais",100%,IF(BL21="Partneris",49.99%,0)) -> 0 | BM25: =IF(BL21="Saistītais",100%,IF(BL21="Partneris",49.99%,0)) -> 0 | BN25: =IF(BL21="Saistītais",100%,IF(BL21="Partneris",49.99%,0)) -> 0 | BO25: =IF(BO21="Saistītais",100%,IF(BO21="Partneris",49.99%,0)) -> 0 | BP25: =IF(BO21="Saistītais",100%,IF(BO21="Partneris",49.99%,0)) -> 0 | BQ25: =IF(BO21="Saistītais",100%,IF(BO21="Partneris",49.99%,0)) -> 0 | BR25: =IF(BR21="Saistītais",100%,IF(BR21="Partneris",49.99%,0)) -> 0 | BS25: =IF(BR21="Saistītais",100%,IF(BR21="Partneris",49.99%,0)) -> 0 | BT25: =IF(BR21="Saistītais",100%,IF(BR21="Partneris",49.99%,0)) -> 0 | BU25: =IF(BU21="Saistītais",100%,IF(BU21="Partneris",49.99%,0)) -> 0 | BV25: =IF(BU21="Saistītais",100%,IF(BU21="Partneris",49.99%,0)) -> 0 | BW25: =IF(BU21="Saistītais",100%,IF(BU21="Partneris",49.99%,0)) -> 0 | BX25: =IF(BX21="Saistītais",100%,IF(BX21="Partneris",49.99%,0)) -> 0 | BY25: =IF(BX21="Saistītais",100%,IF(BX21="Partneris",49.99%,0)) -> 0 | BZ25: =IF(BX21="Saistītais",100%,IF(BX21="Partneris",49.99%,0)) -> 0 | CA25: =IF(CA21="Saistītais",100%,IF(CA21="Partneris",49.99%,0)) -> 0 | CB25: =IF(CA21="Saistītais",100%,IF(CA21="Partneris",49.99%,0)) -> 0 | CC25: =IF(CA21="Saistītais",100%,IF(CA21="Partneris",49.99%,0)) -> 0 | CD25: =IF(CD21="Saistītais",100%,IF(CD21="Partneris",49.99%,0)) -> 0 | CE25: =IF(CD21="Saistītais",100%,IF(CD21="Partneris",49.99%,0)) -> 0 | CF25: =IF(CD21="Saistītais",100%,IF(CD21="Partneris",49.99%,0)) -> 0 | CG25: =IF(CG21="Saistītais",100%,IF(CG21="Partneris",49.99%,0)) -> 0 | CH25: =IF(CG21="Saistītais",100%,IF(CG21="Partneris",49.99%,0)) -> 0 | CI25: =IF(CG21="Saistītais",100%,IF(CG21="Partneris",49.99%,0)) -> 0 | CJ25: =IF(CJ21="Saistītais",100%,IF(CJ21="Partneris",49.99%,0)) -> 0 | CK25: =IF(CJ21="Saistītais",100%,IF(CJ21="Partneris",49.99%,0)) -> 0 | CL25: =IF(CJ21="Saistītais",100%,IF(CJ21="Partneris",49.99%,0)) -> 0 | CM25: =IF(CM21="Saistītais",100%,IF(CM21="Partneris",49.99%,0)) -> 0 | CN25: =IF(CM21="Saistītais",100%,IF(CM21="Partneris",49.99%,0)) -> 0 | CO25: =IF(CM21="Saistītais",100%,IF(CM21="Partneris",49.99%,0)) -> 0
B26: =IF($L$26=0,"",IF(AND($L$26>0,$L$26<$E$11),$D$7,$D$8)) | C26: =IF(AND(B26=$D$7,OR(B27=$D$7,B28=$D$7)),$G$7,$G$8) -> NĒ | D26: =IF($M$26=0,"",IF(AND(M26>0,M26<E11),$D$7,$D$8)) | E26: =IF(AND(D26=$D$7,OR(D27=$D$7,D28=$D$7)),$G$7,$G$8) -> NĒ | F26: =IF($N$26=0,"",IF(AND(N26>0,N26<E11),$D$7,$D$8)) | G26: =IF(AND(F26=$D$7,OR(F27=$D$7,F28=$D$7)),$G$7,$G$8) -> NĒ | J26: =IF(M14="JĀ","Lielais uzņēmums",IF(M17=1,L29,IF(M17=2,M29,IF(AND(M17=3,L29=M29),M29,IF(AND(M17=3,L29<>N29),"Aizpildi informāciju par 3 gadiem",IF(AND(M17=3,OR(L29="Nav visa informācija",M29="Nav visa informācija",N29="Nav visa informācija")),"Nav visa informācija",IF(M17=3,Algoritms!M3,"Jānosaka statuss"))))))) -> Jānosaka statuss | K26: Darbinieku skaits | L26: =O26*O$25+S26*S$25+V26*V$25+Y26*Y$25+AB26*AB$25+AE26*AE$25+AH26*AH$25+AK26*AK$25+AN26*AN$25+AQ26*AQ$25+AT26*AT$25+AW26*AW$25+AZ26*AZ$25+BC26*BC$25+BF26*BF$25+BI26*BI$25+BL26*BL$25+BO26*BO$25+BR26*BR$25+BU26*BU$25+BX26*BX$25+CA26*CA$25+CD26*CD$25+CG26*CG$25+CJ26*CJ$25+CM26*CM$25+$S$36*S37+$V$36*V37+$Y$36*Y37+$AB$36*AB37+$AE$36*AE37+$AH$36*AH37+$AK$36*AK37+$AN$36*AN37+$AQ$36*AQ37+$AT$36*AT37+$AW$36*AW37+$AZ$36*AZ37+$BC$36*BC37+$BF$36*BF37+$BI$36*BI37+$BL$36*BL37+$BO$36*BO37+$BR$36*BR37+$BU$36*BU37+$BX$36*BX37+$CA$36*CA37+$CD$36*CD37+$CG$36*CG37+$CJ$36*CJ37+$CM$36*CM37+$S$47*S48+$V$47*V48+$Y$47*Y48+$AB$47*AB48+$AE$47*AE48+$AH$47*AH48+$AK$47*AK48+$AN$47*AN48+$AQ$47*AQ48+$AT$47*AT48+$AW$47*AW48+$AZ$47*AZ48+$BC$47*BC48+$BF$47*BF48+$BI$47*BI48+$BL$47*BL48+$BO$47*BO48+$BR$47*BR48+$BU$47*BU48+$BX$47*BX48+$CA$47*CA48+$CD$47*CD48+$CG$47*CG48+$CJ$47*CJ48+$CM$47*CM48+S58*S59+V58*V59+Y58*Y59+AB58*AB59+AE58*AE59+AH58*AH59+AK58*AK59+AN58*AN59+AQ58*AQ59+AT58*AT59+AW58*AW59+AZ58*AZ59+BC58*BC59+BF58*BF59+BI58*BI59+BL58*BL59+BO58*BO59+BR58*BR59+BU58*BU59+BX58*BX59+CA58*CA59+CD58*CD59+CG58*CG59+CJ58*CJ59+CM58*CM59 -> 0 | M26: =P26*P$25+T26*T$25+W26*W$25+Z26*Z$25+AC26*AC$25+AF26*AF$25+AI26*AI$25+AL26*AL$25+AO26*AO$25+AR26*AR$25+AU26*AU$25+AX26*AX$25+BA26*BA$25+BD26*BD$25+BG26*BG$25+BJ26*BJ$25+BM26*BM$25+BP26*BP$25+BS26*BS$25+BV26*BV$25+BY26*BY$25+CB26*CB$25+CE26*CE$25+CH26*CH$25+CK26*CK$25+CN26*CN$25+$T$36*T37+$W$36*W37+$Z$36*Z37+$AC$36*AC37+$AF$36*AF37+$AI$36*AI37+$AL$36*AL37+$AO$36*AO37+$AR$36*AR37+$AU$36*AU37+$AX$36*AX37+$BA$36*BA37+$BD$36*BD37+$BG$36*BG37+$BJ$36*BJ37+$BM$36*BM37+$BP$36*BP37+$BS$36*BS37+$BV$36*BV37+$BY$36*BY37+$CB$36*CB37+$CE$36*CE37+$CH$36*CH37+$CK$36*CK37+$CN$36*CN37+$T$47*T48+$W$47*W48+$Z$47*Z48+$AC$47*AC48+$AF$47*AF48+$AI$47*AI48+$AL$47*AL48+$AO$47*AO48+$AR$47*AR48+$AU$47*AU48+$AX$47*AX48+$BA$47*BA48+$BD$47*BD48+$BG$47*BG48+$BJ$47*BJ48+$BM$47*BM48+$BP$47*BP48+$BS$47*BS48+$BV$47*BV48+$BY$47*BY48+$CB$47*CB48+$CE$47*CE48+$CH$47*CH48+$CK$47*CK48+$CN$47*CN48+T58*T59+W58*W59+Z58*Z59+AC58*AC59+AF58*AF59+AI58*AI59+AL58*AL59+AO58*AO59+AR58*AR59+AU58*AU59+AX58*AX59+BA58*BA59+BD58*BD59+BG58*BG59+BJ58*BJ59+BM58*BM59+BP58*BP59+BS58*BS59+BV58*BV59+BY58*BY59+CB58*CB59+CE58*CE59+CH58*CH59+CK58*CK59+CN58*CN59 -> 0 | N26: =Q26*Q$25+U26*U$25+X26*X$25+AA26*AA$25+AD26*AD$25+AG26*AG$25+AJ26*AJ$25+AM26*AM$25+AP26*AP$25+AS26*AS$25+AV26*AV$25+AY26*AY$25+BB26*BB$25+BE26*BE$25+BH26*BH$25+BK26*BK$25+BN26*BN$25+BQ26*BQ$25+BT26*BT$25+BW26*BW$25+BZ26*BZ$25+CC26*CC$25+CF26*CF$25+CI26*CI$25+CL26*CL$25+CO26*CO$25+U36*U37+X36*X37+AA36*AA37+AD36*AD37+AG36*AG37+AJ36*AJ37+AM36*AM37+AP36*AP37+AS36*AS37+AV36*AV37+AY36*AY37+BB36*BB37+BE36*BE37+BH36*BH37+BK36*BK37+BN36*BN37+BQ36*BQ37+BT36*BT37+BW36*BW37+BZ36*BZ37+CC36*CC37+CF36*CF37+CI36*CI37+CL36*CL37+CO36*CO37+U47*U48+X47*X48+AA47*AA48+AD47*AD48+AG47*AG48+AJ47*AJ48+AM47*AM48+AP47*AP48+AS47*AS48+AV47*AV48+AY47*AY48+BB47*BB48+BE47*BE48+BH47*BH48+BK47*BK48+BN47*BN48+BQ47*BQ48+BT47*BT48+BW47*BW48+BZ47*BZ48+CC47*CC48+CF47*CF48+CI47*CI48+CL47*CL48+CO47*CO48+U58*U59+X58*X59+AA58*AA59+AD58*AD59+AG58*AG59+AJ58*AJ59+AM58*AM59+AP58*AP59+AS58*AS59+AV58*AV59+AY58*AY59+BB58*BB59+BE58*BE59+BH58*BH59+BK58*BK59+BN58*BN59+BQ58*BQ59+BT58*BT59+BW58*BW59+BZ58*BZ59+CC58*CC59+CF58*CF59+CI58*CI59+CL58*CL59+CO58*CO59 -> 0 | R26: Darbinieku skaits
B27: =IF($L$27=0,"",IF($L$27<=$E$12,$D$7,$D$8)) | D27: =IF($M$27=0,"",IF($M$27<=E12,$D$7,$D$8)) | F27: =IF($N$27=0,"",IF($N$27<=E12,$D$7,$D$8)) | K27: Gada apgrozījums, EUR | L27: =O27*O$25+S27*S$25+V27*V$25+Y27*Y$25+AB27*AB$25+AE27*AE$25+AH27*AH$25+AK27*AK$25+AN27*AN$25+AQ27*AQ$25+AT27*AT$25+AW27*AW$25+AZ27*AZ$25+BC27*BC$25+BF27*BF$25+BI27*BI$25+BL27*BL$25+BO27*BO$25+BR27*BR$25+BU27*BU$25+BX27*BX$25+CA27*CA$25+CD27*CD$25+CG27*CG$25+CJ27*CJ$25+CM27*CM$25+$S$36*S38+$V$36*V38+$Y$36*Y38+$AB$36*AB38+$AE$36*AE38+$AH$36*AH38+$AK$36*AK38+$AN$36*AN38+$AQ$36*AQ38+$AT$36*AT38+$AW$36*AW38+$AZ$36*AZ38+$BC$36*BC38+$BF$36*BF38+$BI$36*BI38+$BL$36*BL38+$BO$36*BO38+$BR$36*BR38+$BU$36*BU38+$BX$36*BX38+$CA$36*CA38+$CD$36*CD38+$CG$36*CG38+$CJ$36*CJ38+$CM$36*CM38+$S$47*S49+$V$47*V49+$Y$47*Y49+$AB$47*AB49+$AE$47*AE49+$AH$47*AH49+$AK$47*AK49+$AN$47*AN49+$AQ$47*AQ49+$AT$47*AT49+$AW$47*AW49+$AZ$47*AZ49+$BC$47*BC49+$BF$47*BF49+$BI$47*BI49+$BL$47*BL49+$BO$47*BO49+$BR$47*BR49+$BU$47*BU49+$BX$47*BX49+$CA$47*CA49+$CD$47*CD49+$CG$47*CG49+$CJ$47*CJ49+$CM$47*CM49+S58*S60+V58*V60+Y58*Y60+AB58*AB60+AE58*AE60+AH58*AH60+AK58*AK60+AN58*AN60+AQ58*AQ60+AT58*AT60+AW58*AW60+AZ58*AZ60+BC58*BC60+BF58*BF60+BI58*BI60+BL58*BL60+BO58*BO60+BR58*BR60+BU58*BU60+BX58*BX60+CA58*CA60+CD58*CD60+CG58*CG60+CJ58*CJ60+CM58*CM60 -> 0 | M27: =P27*P$25+T27*T$25+W27*W$25+Z27*Z$25+AC27*AC$25+AF27*AF$25+AI27*AI$25+AL27*AL$25+AO27*AO$25+AR27*AR$25+AU27*AU$25+AX27*AX$25+BA27*BA$25+BD27*BD$25+BG27*BG$25+BJ27*BJ$25+BM27*BM$25+BP27*BP$25+BS27*BS$25+BV27*BV$25+BY27*BY$25+CB27*CB$25+CE27*CE$25+CH27*CH$25+CK27*CK$25+CN27*CN$25+$T$36*T38+$W$36*W38+$Z$36*Z38+$AC$36*AC38+$AF$36*AF38+$AI$36*AI38+$AL$36*AL38+$AO$36*AO38+$AR$36*AR38+$AU$36*AU38+$AX$36*AX38+$BA$36*BA38+$BD$36*BD38+$BG$36*BG38+$BJ$36*BJ38+$BM$36*BM38+$BP$36*BP38+$BS$36*BS38+$BV$36*BV38+$BY$36*BY38+$CB$36*CB38+$CE$36*CE38+$CH$36*CH38+$CK$36*CK38+$CN$36*CN38+$T$47*T49+$W$47*W49+$Z$47*Z49+$AC$47*AC49+$AF$47*AF49+$AI$47*AI49+$AL$47*AL49+$AO$47*AO49+$AR$47*AR49+$AU$47*AU49+$AX$47*AX49+$BA$47*BA49+$BD$47*BD49+$BG$47*BG49+$BJ$47*BJ49+$BM$47*BM49+$BP$47*BP49+$BS$47*BS49+$BV$47*BV49+$BY$47*BY49+$CB$47*CB49+$CE$47*CE49+$CH$47*CH49+$CK$47*CK49+$CN$47*CN49+T58*T60+W58*W60+Z58*Z60+AC58*AC60+AF58*AF60+AI58*AI60+AL58*AL60+AO58*AO60+AR58*AR60+AU58*AU60+AX58*AX60+BA58*BA60+BD58*BD60+BG58*BG60+BJ58*BJ60+BM58*BM60+BP58*BP60+BS58*BS60+BV58*BV60+BY58*BY60+CB58*CB60+CE58*CE60+CH58*CH60+CK58*CK60+CN58*CN60 -> 0 | N27: =Q27*Q$25+U27*U$25+X27*X$25+AA27*AA$25+AD27*AD$25+AG27*AG$25+AJ27*AJ$25+AM27*AM$25+AP27*AP$25+AS27*AS$25+AV27*AV$25+AY27*AY$25+BB27*BB$25+BE27*BE$25+BH27*BH$25+BK27*BK$25+BN27*BN$25+BQ27*BQ$25+BT27*BT$25+BW27*BW$25+BZ27*BZ$25+CC27*CC$25+CF27*CF$25+CI27*CI$25+CL27*CL$25+CO27*CO$25+U36*U38+X36*X38+AA36*AA38+AD36*AD38+AG36*AG38+AJ36*AJ38+AM36*AM38+AP36*AP38+AS36*AS38+AV36*AV38+AY36*AY38+BB36*BB38+BE36*BE38+BH36*BH38+BK36*BK38+BN36*BN38+BQ36*BQ38+BT36*BT38+BW36*BW38+BZ36*BZ38+CC36*CC38+CF36*CF38+CI36*CI38+CL36*CL38+CO36*CO38+U47*U49+X47*X49+AA47*AA49+AD47*AD49+AG47*AG49+AJ47*AJ49+AM47*AM49+AP47*AP49+AS47*AS49+AV47*AV49+AY47*AY49+BB47*BB49+BE47*BE49+BH47*BH49+BK47*BK49+BN47*BN49+BQ47*BQ49+BT47*BT49+BW47*BW49+BZ47*BZ49+CC47*CC49+CF47*CF49+CI47*CI49+CL47*CL49+CO47*CO49+U58*U60+X58*X60+AA58*AA60+AD58*AD60+AG58*AG60+AJ58*AJ60+AM58*AM60+AP58*AP60+AS58*AS60+AV58*AV60+AY58*AY60+BB58*BB60+BE58*BE60+BH58*BH60+BK58*BK60+BN58*BN60+BQ58*BQ60+BT58*BT60+BW58*BW60+BZ58*BZ60+CC58*CC60+CF58*CF60+CI58*CI60+CL58*CL60+CO58*CO60 -> 0 | R27: Gada apgrozījums, EUR
B28: =IF($L$28=0,"",IF($L$28<=$E$13,$D$7,$D$8)) | D28: =IF($M$28=0,"",IF(M28<=E13,$D$7,$D$8)) | F28: =IF($N$28=0,"",IF(N28<=E13,$D$7,$D$8)) | K28: Bilances vērtība, EUR | L28: =O28*O$25+S28*S$25+V28*V$25+Y28*Y$25+AB28*AB$25+AE28*AE$25+AH28*AH$25+AK28*AK$25+AN28*AN$25+AQ28*AQ$25+AT28*AT$25+AW28*AW$25+AZ28*AZ$25+BC28*BC$25+BF28*BF$25+BI28*BI$25+BL28*BL$25+BO28*BO$25+BR28*BR$25+BU28*BU$25+BX28*BX$25+CA28*CA$25+CD28*CD$25+CG28*CG$25+CJ28*CJ$25+CM28*CM$25+$S$36*S39+$V$36*V39+$Y$36*Y39+$AB$36*AB39+$AE$36*AE39+$AH$36*AH39+$AK$36*AK39+$AN$36*AN39+$AQ$36*AQ39+$AT$36*AT39+$AW$36*AW39+$AZ$36*AZ39+$BC$36*BC39+$BF$36*BF39+$BI$36*BI39+$BL$36*BL39+$BO$36*BO39+$BR$36*BR39+$BU$36*BU39+$BX$36*BX39+$CA$36*CA39+$CD$36*CD39+$CG$36*CG39+$CJ$36*CJ39+$CM$36*CM39+$S$47*S50+$V$47*V50+$Y$47*Y50+$AB$47*AB50+$AE$47*AE50+$AH$47*AH50+$AK$47*AK50+$AN$47*AN50+$AQ$47*AQ50+$AT$47*AT50+$AW$47*AW50+$AZ$47*AZ50+$BC$47*BC50+$BF$47*BF50+$BI$47*BI50+$BL$47*BL50+$BO$47*BO50+$BR$47*BR50+$BU$47*BU50+$BX$47*BX50+$CA$47*CA50+$CD$47*CD50+$CG$47*CG50+$CJ$47*CJ50+$CM$47*CM50+S58*S61+V58*V61+Y58*Y61+AB58*AB61+AE58*AE61+AH58*AH61+AK58*AK61+AN58*AN61+AQ58*AQ61+AT58*AT61+AW58*AW61+AZ58*AZ61+BC58*BC61+BF58*BF61+BI58*BI61+BL58*BL61+BO58*BO61+BR58*BR61+BU58*BU61+BX58*BX61+CA58*CA61+CD58*CD61+CG58*CG61+CJ58*CJ61+CM58*CM61 -> 0 | M28: =P28*P$25+T28*T$25+W28*W$25+Z28*Z$25+AC28*AC$25+AF28*AF$25+AI28*AI$25+AL28*AL$25+AO28*AO$25+AR28*AR$25+AU28*AU$25+AX28*AX$25+BA28*BA$25+BD28*BD$25+BG28*BG$25+BJ28*BJ$25+BM28*BM$25+BP28*BP$25+BS28*BS$25+BV28*BV$25+BY28*BY$25+CB28*CB$25+CE28*CE$25+CH28*CH$25+CK28*CK$25+CN28*CN$25+$T$36*T39+$W$36*W39+$Z$36*Z39+$AC$36*AC39+$AF$36*AF39+$AI$36*AI39+$AL$36*AL39+$AO$36*AO39+$AR$36*AR39+$AU$36*AU39+$AX$36*AX39+$BA$36*BA39+$BD$36*BD39+$BG$36*BG39+$BJ$36*BJ39+$BM$36*BM39+$BP$36*BP39+$BS$36*BS39+$BV$36*BV39+$BY$36*BY39+$CB$36*CB39+$CE$36*CE39+$CH$36*CH39+$CK$36*CK39+$CN$36*CN39+$T$47*T50+$W$47*W50+$Z$47*Z50+$AC$47*AC50+$AF$47*AF50+$AI$47*AI50+$AL$47*AL50+$AO$47*AO50+$AR$47*AR50+$AU$47*AU50+$AX$47*AX50+$BA$47*BA50+$BD$47*BD50+$BG$47*BG50+$BJ$47*BJ50+$BM$47*BM50+$BP$47*BP50+$BS$47*BS50+$BV$47*BV50+$BY$47*BY50+$CB$47*CB50+$CE$47*CE50+$CH$47*CH50+$CK$47*CK50+$CN$47*CN50+T58*T61+W58*W61+Z58*Z61+AC58*AC61+AF58*AF61+AI58*AI61+AL58*AL61+AO58*AO61+AR58*AR61+AU58*AU61+AX58*AX61+BA58*BA61+BD58*BD61+BG58*BG61+BJ58*BJ61+BM58*BM61+BP58*BP61+BS58*BS61+BV58*BV61+BY58*BY61+CB58*CB61+CE58*CE61+CH58*CH61+CK58*CK61+CN58*CN61 -> 0 | N28: =Q28*Q$25+U28*U$25+X28*X$25+AA28*AA$25+AD28*AD$25+AG28*AG$25+AJ28*AJ$25+AM28*AM$25+AP28*AP$25+AS28*AS$25+AV28*AV$25+AY28*AY$25+BB28*BB$25+BE28*BE$25+BH28*BH$25+BK28*BK$25+BN28*BN$25+BQ28*BQ$25+BT28*BT$25+BW28*BW$25+BZ28*BZ$25+CC28*CC$25+CF28*CF$25+CI28*CI$25+CL28*CL$25+CO28*CO$25+U36*U39+X36*X39+AA36*AA39+AD36*AD39+AG36*AG39+AJ36*AJ39+AM36*AM39+AP36*AP39+AS36*AS39+AV36*AV39+AY36*AY39+BB36*BB39+BE36*BE39+BH36*BH39+BK36*BK39+BN36*BN39+BQ36*BQ39+BT36*BT39+BW36*BW39+BZ36*BZ39+CC36*CC39+CF36*CF39+CI36*CI39+CL36*CL39+CO36*CO39+U47*U50+X47*X50+AA47*AA50+AD47*AD50+AG47*AG50+AJ47*AJ50+AM47*AM50+AP47*AP50+AS47*AS50+AV47*AV50+AY47*AY50+BB47*BB50+BE47*BE50+BH47*BH50+BK47*BK50+BN47*BN50+BQ47*BQ50+BT47*BT50+BW47*BW50+BZ47*BZ50+CC47*CC50+CF47*CF50+CI47*CI50+CL47*CL50+CO47*CO50+U58*U61+X58*X61+AA58*AA61+AD58*AD61+AG58*AG61+AJ58*AJ61+AM58*AM61+AP58*AP61+AS58*AS61+AV58*AV61+AY58*AY61+BB58*BB61+BE58*BE61+BH58*BH61+BK58*BK61+BN58*BN61+BQ58*BQ61+BT58*BT61+BW58*BW61+BZ58*BZ61+CC58*CC61+CF58*CF61+CI58*CI61+CL58*CL61+CO58*CO61 -> 0 | R28: Bilances vērtība, EUR
L29: =B42 -> Jānosaka statuss | M29: =D42 -> Jānosaka statuss | N29: =F42 -> Jānosaka statuss | R29: PIEZĪMES
B30: =IF(L$26=0,"",IF($L$26<$E$15,$D$7,$D$8)) | C30: =IF(AND(B30=$D$7,OR(B31=$D$7,B32=$D$7)),$G$7,$G$8) -> NĒ | D30: =IF(M26=0,"",IF(M26<$E$15,$D$7,$D$8)) | E30: =IF(AND(D30=$D$7,OR(D31=$D$7,D32=$D$7)),$G$7,$G$8) -> NĒ | F30: =IF(N26=0,"",IF(N26<$E$15,$D$7,$D$8)) | G30: =IF(AND(F30=$D$7,OR(F31=$D$7,F32=$D$7)),$G$7,$G$8) -> NĒ | J30: Piezīmes:
B31: =IF($L$27=0,"",IF($L$27<=$E$16,$D$7,$D$8)) | D31: =IF(M27=0,"",IF(M27<=$E$16,$D$7,$D$8)) | F31: =IF(N27=0,"",IF(N27<=$E$16,$D$7,$D$8)) | J31: Piezīmēs norāda tādu informāciju kā, piemēram, - konsolidācijā ietvertie uzņēmumi, ja tiek izmantoti konsolidētā gada pārskata dati (šajā gadījumā nepilda atsevišķi datus par konsolidācijā ietvertajiem uzņēmumiem); - fizisko personu grupas identificēšana (ja saistība veidojas caur fizisko personu grupu, norāda konkrētas personas); - ja saistība veidojas caur Līgumu/vienošanos par noteicošās ietekmes* veidošanos - norāda fizisko personu vai uzņēmumu, kuram šīs tiesības piešķirtas; - ja saistības pārtrūkst, jo noslēgts Līgums/vienošanās par noteicošās ietekmes* veidošanos - norāda fizisko personu vai uzņēmumu, kuram šīs tiesības noņemtas kā rezultātā turpmāko saistību neiekļauj deklarācijā; - ka uzņēmums ir jaundibināts un tiek izmantota finanšu prognoze vai operatīvais pārskats; - ja ir atšķirīgi finanšu periodi objektīvu apstākļu dēļ; -uzņēmums ticis pārpirkts un tāpēc deklarācijā tiek pildīta informācija kopš tā brīža/gada, kad uzņēmums ticis pārpirkts. | S31: Grupas uzņēmums-26 | V31: Grupas uzņēmums-27 | Y31: Grupas uzņēmums-28 | AB31: Grupas uzņēmums-29 | AE31: Grupas uzņēmums-30 | AH31: Grupas uzņēmums-31 | AK31: Grupas uzņēmums-32 | AN31: Grupas uzņēmums-33 | AQ31: Grupas uzņēmums-34 | AT31: Grupas uzņēmums-35 | AW31: Grupas uzņēmums-36 | AZ31: Grupas uzņēmums-37 | BC31: Grupas uzņēmums-38 | BF31: Grupas uzņēmums-39 | BI31: Grupas uzņēmums-40 | BL31: Grupas uzņēmums-41 | BO31: Grupas uzņēmums-42 | BR31: Grupas uzņēmums-43 | BU31: Grupas uzņēmums-44 | BX31: Grupas uzņēmums-45 | CA31: Grupas uzņēmums-46 | CD31: Grupas uzņēmums-47 | CG31: Grupas uzņēmums-48 | CJ31: GU-49 | CM31: GU-50
B32: =IF($L$28=0,"",IF($L$28<=$E$17,$D$7,$D$8)) | D32: =IF(M28=0,"",IF(M28<=$E$17,$D$7,$D$8)) | F32: =IF(N28=0,"",IF(N28<=$E$17,$D$7,$D$8)) | R32: Saistību veids
R33: Nosaukums
B34: =IF($L$26=0,"",IF($L$26<$E$18,$D$7,$D$8)) | C34: =IF(AND(B34=$D$7,OR(B35=$D$7,B36=$D$7)),$G$7,$G$8) -> NĒ | D34: =IF(M26=0,"",IF(M26<$E$18,$D$7,$D$8)) | E34: =IF(AND(D34=$D$7,OR(D35=$D$7,D36=$D$7)),$G$7,$G$8) -> NĒ | F34: =IF(N26=0,"",IF(N26<$E$18,$D$7,$D$8)) | G34: =IF(AND(F34=$D$7,OR(F35=$D$7,F36=$D$7)),$G$7,$G$8) -> NĒ | R34: Reģistrācijas Nr.
B35: =IF($L$27=0,"",IF($L$27<=$E$19,$D$7,$D$8)) | D35: =IF(M27=0,"",IF(M27<=$E$19,$D$7,$D$8)) | F35: =IF(N27=0,"",IF(N27<=$E$19,$D$7,$D$8)) | R35: Periods | S35: =$L$24 -> 2025 | T35: =$M$24 -> 2024 | U35: =N24 -> 2023 | V35: =$L$24 -> 2025 | W35: =M24 -> 2024 | X35: =N24 -> 2023 | Y35: =L24 -> 2025 | Z35: =M24 -> 2024 | AA35: =N24 -> 2023 | AB35: =L24 -> 2025 | AC35: =M24 -> 2024 | AD35: =N24 -> 2023 | AE35: =$L$24 -> 2025 | AF35: =$M$24 -> 2024 | AG35: =N24 -> 2023 | AH35: =$L$24 -> 2025 | AI35: =$M$24 -> 2024 | AJ35: =N24 -> 2023 | AK35: =$L$24 -> 2025 | AL35: =$M$24 -> 2024 | AM35: =N24 -> 2023 | AN35: =$L$24 -> 2025 | AO35: =$M$24 -> 2024 | AP35: =N24 -> 2023 | AQ35: =$L$24 -> 2025 | AR35: =$M$24 -> 2024 | AS35: =N24 -> 2023 | AT35: =$L$24 -> 2025 | AU35: =$M$24 -> 2024 | AV35: =N24 -> 2023 | AW35: =$L$24 -> 2025 | AX35: =$M$24 -> 2024 | AY35: =N24 -> 2023 | AZ35: =$L$24 -> 2025 | BA35: =$M$24 -> 2024 | BB35: =N24 -> 2023 | BC35: =$L$24 -> 2025 | BD35: =$M$24 -> 2024 | BE35: =N24 -> 2023 | BF35: =$L$24 -> 2025 | BG35: =$M$24 -> 2024 | BH35: =N24 -> 2023 | BI35: =$L$24 -> 2025 | BJ35: =$M$24 -> 2024 | BK35: =Q24 -> 2023 | BL35: =$L$24 -> 2025 | BM35: =$M$24 -> 2024 | BN35: =N24 -> 2023 | BO35: =$L$24 -> 2025 | BP35: =$M$24 -> 2024 | BQ35: =N24 -> 2023 | BR35: =$L$24 -> 2025 | BS35: =$M$24 -> 2024 | BT35: =N24 -> 2023 | BU35: =$L$24 -> 2025 | BV35: =$M$24 -> 2024 | BW35: =N24 -> 2023 | BX35: =$L$24 -> 2025 | BY35: =$M$24 -> 2024 | BZ35: =N24 -> 2023 | CA35: =$L$24 -> 2025 | CB35: =$M$24 -> 2024 | CC35: =N24 -> 2023 | CD35: =$L$24 -> 2025 | CE35: =$M$24 -> 2024 | CF35: =N24 -> 2023 | CG35: =$L$24 -> 2025 | CH35: =$M$24 -> 2024 | CI35: =N24 -> 2023 | CJ35: =$L$24 -> 2025 | CK35: =$M$24 -> 2024 | CL35: =N24 -> 2023 | CM35: =$L$24 -> 2025 | CN35: =$M$24 -> 2024 | CO35: =N24 -> 2023
B36: =IF($L$28=0,"",IF($L$28<=E20,$D$7,$D$8)) | D36: =IF(M28=0,"",IF(M28<=E20,$D$7,$D$8)) | F36: =IF(N28=0,"",IF(N28<=E20,$D$7,$D$8)) | R36: Dalība (%) | S36: =IF(S32="Saistītais",100%,IF(S32="Partneris",49.99%,0)) -> 0 | T36: =IF(S32="Saistītais",100%,IF(S32="Partneris",49.99%,0)) -> 0 | U36: =IF(S32="Saistītais",100%,IF(S32="Partneris",49.99%,0)) -> 0 | V36: =IF(V32="Saistītais",100%,IF(V32="Partneris",49.99%,0)) -> 0 | W36: =IF(V32="Saistītais",100%,IF(V32="Partneris",49.99%,0)) -> 0 | X36: =IF(V32="Saistītais",100%,IF(V32="Partneris",49.99%,0)) -> 0 | Y36: =IF(Y32="Saistītais",100%,IF(Y32="Partneris",49.99%,0)) -> 0 | Z36: =IF(Y32="Saistītais",100%,IF(Y32="Partneris",49.99%,0)) -> 0 | AA36: =IF(Y32="Saistītais",100%,IF(Y32="Partneris",49.99%,0)) -> 0 | AB36: =IF(AB32="Saistītais",100%,IF(AB32="Partneris",49.99%,0)) -> 0 | AC36: =IF(AB32="Saistītais",100%,IF(AB32="Partneris",49.99%,0)) -> 0 | AD36: =IF(AB32="Saistītais",100%,IF(AB32="Partneris",49.99%,0)) -> 0 | AE36: =IF(AE32="Saistītais",100%,IF(AE32="Partneris",49.99%,0)) -> 0 | AF36: =IF(AE32="Saistītais",100%,IF(AE32="Partneris",49.99%,0)) -> 0 | AG36: =IF(AE32="Saistītais",100%,IF(AE32="Partneris",49.99%,0)) -> 0 | AH36: =IF(AH32="Saistītais",100%,IF(AH32="Partneris",49.99%,0)) -> 0 | AI36: =IF(AH32="Saistītais",100%,IF(AH32="Partneris",49.99%,0)) -> 0 | AJ36: =IF(AH32="Saistītais",100%,IF(AH32="Partneris",49.99%,0)) -> 0 | AK36: =IF(AK32="Saistītais",100%,IF(AK32="Partneris",49.99%,0)) -> 0 | AL36: =IF(AK32="Saistītais",100%,IF(AK32="Partneris",49.99%,0)) -> 0 | AM36: =IF(AK32="Saistītais",100%,IF(AK32="Partneris",49.99%,0)) -> 0 | AN36: =IF(AN32="Saistītais",100%,IF(AN32="Partneris",49.99%,0)) -> 0 | AO36: =IF(AN32="Saistītais",100%,IF(AN32="Partneris",49.99%,0)) -> 0 | AP36: =IF(AN32="Saistītais",100%,IF(AN32="Partneris",49.99%,0)) -> 0 | AQ36: =IF(AQ32="Saistītais",100%,IF(AQ32="Partneris",49.99%,0)) -> 0 | AR36: =IF(AQ32="Saistītais",100%,IF(AQ32="Partneris",49.99%,0)) -> 0 | AS36: =IF(AQ32="Saistītais",100%,IF(AQ32="Partneris",49.99%,0)) -> 0 | AT36: =IF(AT32="Saistītais",100%,IF(AT32="Partneris",49.99%,0)) -> 0 | AU36: =IF(AT32="Saistītais",100%,IF(AT32="Partneris",49.99%,0)) -> 0 | AV36: =IF(AT32="Saistītais",100%,IF(AT32="Partneris",49.99%,0)) -> 0 | AW36: =IF(AW32="Saistītais",100%,IF(AW32="Partneris",49.99%,0)) -> 0 | AX36: =IF(AW32="Saistītais",100%,IF(AW32="Partneris",49.99%,0)) -> 0 | AY36: =IF(AW32="Saistītais",100%,IF(AW32="Partneris",49.99%,0)) -> 0 | AZ36: =IF(AZ32="Saistītais",100%,IF(AZ32="Partneris",49.99%,0)) -> 0 | BA36: =IF(AZ32="Saistītais",100%,IF(AZ32="Partneris",49.99%,0)) -> 0 | BB36: =IF(AZ32="Saistītais",100%,IF(AZ32="Partneris",49.99%,0)) -> 0 | BC36: =IF(BC32="Saistītais",100%,IF(BC32="Partneris",49.99%,0)) -> 0 | BD36: =IF(BC32="Saistītais",100%,IF(BC32="Partneris",49.99%,0)) -> 0 | BE36: =IF(BC32="Saistītais",100%,IF(BC32="Partneris",49.99%,0)) -> 0 | BF36: =IF(BF32="Saistītais",100%,IF(BF32="Partneris",49.99%,0)) -> 0 | BG36: =IF(BF32="Saistītais",100%,IF(BF32="Partneris",49.99%,0)) -> 0 | BH36: =IF(BF32="Saistītais",100%,IF(BF32="Partneris",49.99%,0)) -> 0 | BI36: =IF(BI32="Saistītais",100%,IF(BI32="Partneris",49.99%,0)) -> 0 | BJ36: =IF(BI32="Saistītais",100%,IF(BI32="Partneris",49.99%,0)) -> 0 | BK36: =IF(BI32="Saistītais",100%,IF(BI32="Partneris",49.99%,0)) -> 0 | BL36: =IF(BL32="Saistītais",100%,IF(BL32="Partneris",49.99%,0)) -> 0 | BM36: =IF(BL32="Saistītais",100%,IF(BL32="Partneris",49.99%,0)) -> 0 | BN36: =IF(BL32="Saistītais",100%,IF(BL32="Partneris",49.99%,0)) -> 0 | BO36: =IF(BO32="Saistītais",100%,IF(BO32="Partneris",49.99%,0)) -> 0 | BP36: =IF(BO32="Saistītais",100%,IF(BO32="Partneris",49.99%,0)) -> 0 | BQ36: =IF(BO32="Saistītais",100%,IF(BO32="Partneris",49.99%,0)) -> 0 | BR36: =IF(BR32="Saistītais",100%,IF(BR32="Partneris",49.99%,0)) -> 0 | BS36: =IF(BR32="Saistītais",100%,IF(BR32="Partneris",49.99%,0)) -> 0 | BT36: =IF(BR32="Saistītais",100%,IF(BR32="Partneris",49.99%,0)) -> 0 | BU36: =IF(BU32="Saistītais",100%,IF(BU32="Partneris",49.99%,0)) -> 0 | BV36: =IF(BU32="Saistītais",100%,IF(BU32="Partneris",49.99%,0)) -> 0 | BW36: =IF(BU32="Saistītais",100%,IF(BU32="Partneris",49.99%,0)) -> 0 | BX36: =IF(BX32="Saistītais",100%,IF(BX32="Partneris",49.99%,0)) -> 0 | BY36: =IF(BX32="Saistītais",100%,IF(BX32="Partneris",49.99%,0)) -> 0 | BZ36: =IF(BX32="Saistītais",100%,IF(BX32="Partneris",49.99%,0)) -> 0 | CA36: =IF(CA32="Saistītais",100%,IF(CA32="Partneris",49.99%,0)) -> 0 | CB36: =IF(CA32="Saistītais",100%,IF(CA32="Partneris",49.99%,0)) -> 0 | CC36: =IF(CA32="Saistītais",100%,IF(CA32="Partneris",49.99%,0)) -> 0 | CD36: =IF(CD32="Saistītais",100%,IF(CD32="Partneris",49.99%,0)) -> 0 | CE36: =IF(CD32="Saistītais",100%,IF(CD32="Partneris",49.99%,0)) -> 0 | CF36: =IF(CD32="Saistītais",100%,IF(CD32="Partneris",49.99%,0)) -> 0 | CG36: =IF(CG32="Saistītais",100%,IF(CG32="Partneris",49.99%,0)) -> 0 | CH36: =IF(CG32="Saistītais",100%,IF(CG32="Partneris",49.99%,0)) -> 0 | CI36: =IF(CG32="Saistītais",100%,IF(CG32="Partneris",49.99%,0)) -> 0 | CJ36: =IF(CJ32="Saistītais",100%,IF(CJ32="Partneris",49.99%,0)) -> 0 | CK36: =IF(CJ32="Saistītais",100%,IF(CJ32="Partneris",49.99%,0)) -> 0 | CL36: =IF(CJ32="Saistītais",100%,IF(CJ32="Partneris",49.99%,0)) -> 0 | CM36: =IF(CM32="Saistītais",100%,IF(CM32="Partneris",49.99%,0)) -> 0 | CN36: =IF(CM32="Saistītais",100%,IF(CM32="Partneris",49.99%,0)) -> 0 | CO36: =IF(CM32="Saistītais",100%,IF(CM32="Partneris",49.99%,0)) -> 0
R37: Darbinieku skaits
B38: =IF($L$26=0,"",IF($L$26>=0,$D$7,$D$8)) | C38: =IF(B38=D7,G7,IF(AND(B38=$D$7,OR(B39=$D$7,B40=$D$7)),$G$7,$G$8)) -> NĒ | D38: =IF(M26=0,"",IF(M26>=0,$D$7,$D$8)) | E38: =IF(D38=D7,G7,IF(AND(D38=$D$7,OR(D39=$D$7,D40=$D$7)),$G$7,$G$8)) -> NĒ | F38: =IF(N26=0,"",IF(N26>=0,$D$7,$D$8)) | G38: =IF(F38=D7,G7,IF(AND(F38=$D$7,OR(F39=$D$7,F40=$D$7)),$G$7,$G$8)) -> NĒ | R38: Gada apgrozījums, EUR
B39: =IF(L27>50000000,D7,D8) -> NEIZPILDĀS | D39: =IF(M27>50000000,D7,D8) -> NEIZPILDĀS | F39: =IF(N27>50000000,D7,D8) -> NEIZPILDĀS | R39: Bilances vērtība, EUR
B40: =IF(L28>43000000,D7,D8) -> NEIZPILDĀS | D40: =IF(M28>43000000,D7,D8) -> NEIZPILDĀS | F40: =IF(N28>43000000,D7,D8) -> NEIZPILDĀS | R40: PIEZĪMES
...

Sheet INFO
A6: Nosacījumi un palīgmateriāli MVK grupas noteikšanai:
Q7: (turpmāk - EK Regula Nr.651/2014)
A8: 2014. gada 17. jūnija KOMISIJAS REGULA (ES) Nr. 651/2014, ar ko noteiktas atbalsta kategorijas atzīst par saderīgām ar iekšējo tirgu, piemērojot Līguma 107. un 108. pantu
A9: Lietotāja rokasgrāmata par MVU definīcijas piemērošanu
A10: Informatīvs materiāls par mikro, mazā un vidējā uzņēmuma, viena vienota uzņēmuma un grūtībās nonākuša uzņēmuma statusa noteikšanu
A12: Norādījumi izklājlapas "MVK_statuss" aizpildīšanai:
A14: Uzņēmumu formas | B14: Šī deklarācija ir AS “Attīstības finanšu institūcija Altum” izstrādāta aprēķina forma, kuras mērķis ir noteikt uzņēmuma MVU kategoriju saskaņā ar EK Regulas Nr. 651/2014 I pielikuma nosacījumiem. Saskaņā ar EK Regulas Nr. 651/2014 I pielikuma 3.pantu, ir iespējami 3 uzņēmumu tipi: -autonoms; -partneruzņēmums (uzņēmums pārvalda 25 % vai vairāk kapitāla vai balsstiesību citā uzņēmumā uzņēmumā); -saistītais uzņēmums. To starpā pastāv kādas no zemāk minētajām attiecībām: a) uzņēmumam ir akcionāru vai dalībnieku balsstiesību vairākums citā uzņēmumā (sākot no 50%); b) uzņēmumam ir tiesības iecelt vai atlaist pārvaldes, vadības vai uzraudzības struktūras dalībnieku vairākumu citā uzņēmumā; c) uzņēmumam ir tiesības īstenot noteicošu ietekmi pār citu uzņēmumu saskaņā ar līgumu, kas noslēgts ar šo uzņēmumu, vai saskaņā ar tā dibināšanas līguma klauzulu vai statūtiem; d) uzņēmums, kas ir cita uzņēmuma akcionārs vai dalībnieks, vienpersoniski kontrolē akcionāru vai dalībnieku vairākuma balsstiesības minētajā uzņēmumā saskaņā ar vienošanos, kas panākta ar pārējiem uzņēmuma akcionāriem vai dalībniekiem. Vēršam uzmanību, ka Uzņēmums EK Līguma konkurences noteikumu nozīmē ir ikviens subjekts – fiziska vai juridiska persona, kas veic saimniecisku darbību, – neatkarīgi no tā juridiskā statusa un finansēšanas veida . Eiropas Savienības Tiesa ir precizējusi, ka subjekts, kuram “pieder kapitāldaļu kontrolpakete kādā sabiedrībā” un kurš “šo kontroli īsteno, tieši vai netieši ietekmējot sabiedrības pārvaldību”, ir jāuzskata par tādu, kas piedalās šīs sabiedrības veiktajā saimnieciskajā darbībā. Tāpēc pats subjekts ir uzskatāms par uzņēmumu LESD 107. panta 1. punkta nozīmē. Tiesa ir atzinusi, ka visi subjekti, kurus (juridiski vai faktiski) kontrolē viens un tas pats subjekts, ir jāuzskata par vienu vienotu uzņēmumu .
A15: Dalība | B15: Statusa noteikšanai tiek ņemti vērā dati no saistītajiem uzņēmumiem (faktiskā dalība ≥ 50%, bet deklarācijā norāda 100%, jo saistītā uzņēmuma dati jāņem pilnā apmērā) un partneruzņēmumiem (faktiskā dalība no 25% līdz 49.99%, deklarācijā liek faktisko dalību). Uzņēmumi, kuros dalība ir <25%, grupas statusa aprēķinā netiek pildīti, ja vien tie neveido saistīto personu grupu. Ja veidojas saistīto personu grupa, piezīmēs norāda, kāpēc liek proporciju kā partneriem vai kā saistītajam uzņēmumam. Lai noteiktu, kas ir saistītā persona, partneruzņēmums vai saistīto personu grupa, skat. palīgmateriālus.
A16: Pārskati | B16: Statusu nosaka, ņemot vērā atbalsta pretendenta un tā saistīto un partneruzņēmumu struktūru uz pieteikuma par atbalsta saņemšanu brīdi, kā arī ievada datus par noslēgtiem finanšu gada pārskatiem, kas revidēti un iesniegti VID vai attiecīgās ārvalsts institūcijā. Saskaņā ar EK Regulas Nr. 651/2014 I pielikuma 4.panta 2.punktu, ja, ņemot par pamatu pēdējo noslēgto finanšu gada pārskatu atklājas, ka darbinieku skaita vai finanšu robežvērtība ir pārsniegta vai nav sasniegta, tas nenozīmē, ka uzņēmums zaudēs vai iegūs vidējā, mazā uzņēmuma vai mikrouzņēmuma statusu, ja vien šīs robežvērtības nav pārsniegtas divos pārskata periodos pēc kārtas. Attiecīgi Uzņēmums zaudē vai iegūst mikrouzņēmuma, mazā, vidējā vai lielā uzņēmuma statusu tikai, ja uzņēmuma darbības rādītāji pārsniedz robežvērtības divos pārskata periodos pēc kārtas. Ja grupas uzņēmumiem ir dažādi finanšu gadi, piemēram, no janvāra līdz decembrim un no septembra līdz augustam, tad šādi finanšu pārskata dati ir savstarpēji salīdzināmi, neveicot papildu aprēķinus. Nestandarta finanšu gada pārskati ir korekti jāpielīdzina attiecīgā gada standarta perioda pārskatam, t.i., ja standarta periodam 01.01.2024.–31.12.2024. sagatavotais gada pārskats būs par 2024. gadu, savukārt nestandarta periodam 2024.gada pārskats būs par periodu 01.09.2023.–30.09.2024., bet periodam 01.03.2023.–28.02.2024. šis būs pārskats par 2023. gadu. Piezīmēs norāda skaidrojumu. Par atbalsta pretendentu un/vai tā saistītajiem vai partneruzņēmumiem, kuriem nav pienākums sagatavot un iesniegt gada pārskatu (piem., pašnodarbinātie; individuālie komersanti un zemnieku/zvejnieku saimniecības ar gada apgrozījumu (ieņēmumiem) zem 300 tūkst. EUR u.c.), sniedz MVU deklarācijā prasīto informāciju. Darbinieku skaits ir jānorāda vismaz 1; Gada apgrozījums, EUR jāaizpilda klienta deklarētie ieņēmumi, savukārt Bilances vērtība, EUR nav jāaizpilda.
A17: Valūta | B17: Datu apkopošana jāveic EUR valūtā. Ja kādam uzņēmumam finanšu gada pārskats ir sagatavots ārvalstu valūtā, jāveic apgrozījuma un bilances rādītāju konvertēšana atbilstoši pārskata sagatavošanas Latvijas bankas oficiālajam kursam pārskata beigu periodā.
A18: Fiziska persona | B18: Fiziska persona var aizpildīt formu, norādot tikai Darbinieku skaitu (vismaz 1) un Gada apgrozījumu. Bilances vērtību atstāj neaizpilditu vai liek 0.
A19: Jaundibināts uzņēmums | B19: Jaundibināta uzņēmuma gadījumā, kam vēl nav apstiprinātu gada pārskatu, ievada labā ticībā veiktu aplēsi. Šim plānam ir jāaptver viss periods (finanšu gadi) līdz laikam, kad uzņēmums sāks radīt apgrozījumu. Deklarācijā M17 šūnā norāda, ka ir pieejams 1 gada pārskats, pat tad, ja tā ir tikai aplēse vai operatīvais pārskats. Ja jaundibinātam uzņēmumam ir saistītās personas, kurām ir gada pārskats, bet periodi atšķiras, piemēram, Atbalsta pretendents dibināts 2026.gada sākumā, bet saistītajam uzņēmumam ir pieejams 2025.gada vai 2024.gada pārskats, O24 šūnā raksta 2024.gadu - ar mērķi Grupas uzņēmumu sadaļā ievadīt datus par 2024.gadu, bet tai pat laikā aplēsi par sava jaundibinātā uzņēmuma datiem pilda šūnā O26,O27 un O28, piezīmēs norādot kā dati ir 2026.gada aplēse. Šādi dati summēsies kopā ar saistīto uzņēmumu datiem.
A20: Valsts vai Pašvaldības uzņēmumi | B20: Saskaņā ar EK Regulas Nr. 651/2014 I pielikuma 3.panta 4.punktu, uzņēmums nav uzskatāms par MVU, ja 25 % vai vairāk tā kapitāla vai balsstiesību kopā vai atsevišķi tieši vai netieši kontrolē viena vai vairākas publiskas struktūras. Deklarācijā atzīmē, ka ir valsts pašvaldības uzņēmums - deklarācijā automātiski norādās, ka uzņēmuma statuss ir Lielais uzņēmums. Deklarācijā nav jāpilda dati par partneruzņēmumiem un saistītajiem uzņēmumiem. Ja piesakās atbalsta programmai, kura sniedz atbalstu saskaņā ar: - EK Regulu Nr. 651/2014, - KOMISIJAS REGULU (ES) 2022/2472 (2022. gada 14. decembris), ar kuru, piemērojot Līguma par Eiropas Savienības darbību 107. un 108. pantu, dažu kategoriju atbalstu lauksaimniecības un mežsaimniecības nozarē un lauku apvidos atzīst par saderīgu ar iekšējo tirgu; vai -KOMISIJAS REGULA (ES) 2022/2473 (2022. gada 14. decembris), ar kuru, piemērojot Līguma par Eiropas Savienības darbību 107. un 108. pantu, dažu kategoriju atbalstu uzņēmumiem, kas nodarbojas ar zvejas un akvakultūras produktu ražošanu, apstrādi un tirdzniecību, atzīst par saderīgu ar iekšējo tirgu, MVK deklarācijā var nebūt norādīti visi saistītie uzņēmumi, bet līdz ar deklarāciju ir jāiesniedz finanšu pārskati, lai atbalsta sniedzējs varētu izvērtēt atbalsta pretendenta grupas uzņēmumus grūtībās nonākuša uzņēmuma pazīmēm.
A21: Piezīmes | B21: Piezīmēs norāda tādu informāciju kā, piemēram, - konsolidācijā ietvertie uzņēmumi, ja tiek izmantoti konsolidētā gada pārskata dati (šajā gadījumā nepilda atsevišķi datus par konsolidācijā ietvertajiem uzņēmumiem); - fizisko personu grupas identificēšana (ja saistība veidojas caur fizisko personu grupu, norāda konkrētas personas); - ja saistība veidojas caur Līgumu/vienošanos par noteicošās ietekmes* veidošanos - norāda fizisko personu vai uzņēmumu, kuram šīs tiesības piešķirtas; - ja saistības pārtrūkst, jo noslēgts Līgums/vienošanās par noteicošās ietekmes* veidošanos - norāda fizisko personu vai uzņēmumu, kuram šīs tiesības noņemtas kā rezultātā turpmāko saistību neiekļauj deklarācijā; - ka uzņēmums ir jaundibināts un tiek izmantota finanšu prognoze vai operatīvais pārskats; - ja ir atšķirīgi finanšu periodi objektīvu apstākļu dēļ; --uzņēmums ticis pārpirkts un tāpēc deklarācijā tiek pildīta informācija kopš tā brīža/gada, kad uzņēmums ticis pārpirkts. *Noteicošā ietekme pār citu uzņēmumu - viena uzņēmuma (t.sk. valsts uzņēmuma, privāta uzņēmuma, fiziskas personas) spēja (veto tiesības, akcijas ar īpašām tiesībām, ilgtermiņa līgumos paredzētas pilnvaras u.tml.) pēc savām vēlmēm noteikt otra uzņēmuma finanšu un pamatdarbības politikas lēmumus (par uzņēmuma budžetu, biznesa plānu, lēmumu par investīciju veikšanu vai augstākā līmeņa vadības iecelšanu u.tml.).
A22: Tehniskās norādes | B22: Ja Uzņēmuma statusa laukā ( šūnā O10, J27) ir teksts "Jānosaka statuss" vai (šūnā J27,L30,M30) "Nav visa informācija", tas nozīmē, ka: - nav aizpildīti visi nepieciešamie finanšu dati statusa noteikšanai (šūnas O26:Q28), vai - nav ievadīts darbinieku skaits. Ja darbinieku skaits ir 0, ir jāievada 1 un Piezīmēs atrunāt, ka faktiskais darbinieku skaits ir 0. Ja Atbalsta pretendents ir ietverts konsolidēta gada pārskatā, tad šūnās O26:Q28 norāda konsolidētā pārskata datus un Piezīmēs norāda, ka tie ir konsolidētie dati un lielajā Piezīmju blokā norāda uzņēmumus (saistītos un partneruzņēmumus), kuri ir ietverti konsolidacijā. Nav jāveic konsoldēto datu pārdalīšana pa uzņēmumiem! Līdzīgi pilda situācijā, ja saistītais uzņēmums ietverts konsolidētajā gada pārskatā. Ja uzņēmums tiek apvienots vai to iegādājas lielāka grupa - tad uzņēmums zaudē savu MVU statusu nekavējoties, sākot no darījuma dienas. Piemēram, ja deklaraciju pilda, lai pretendētu uz valsts atbalstu 2026.gada jūlijā, bet 2026.gada maijā uzņēmums ticis apvienots, MVK statusu vērtē aktuālajai uzņēmumu grupai, t.i., M17 šūnā norāda, ka ir pieejams 1 gada pārskats un pilda informāciju saskaņā ar pēdejo gada pārskatu jeb 2025.gadu. Piezīmēs norāda skaidrojumu.

Sheet Piemērs
K1: Deklarācija par komercsabiedrības atbilstību mazajai (sīkajai) vai vidējai komercsabiedrībai
S2: Šo deklarāciju pilda, ņemot vērā Eiropas Komisijas 2014. gada 17. jūnija Regulas (ES) Nr. 651/2014, ar ko noteiktas atbalsta kategorijas atzīst par saderīgām ar iekšējo tirgu, piemērojot Līguma 107. un 108. pantu, I pielikumā ietvertos nosacījumus ar mērķi noteikt uzņēmuma kategoriju (statusu). Detalizētāki nosacījumi deklarācijas aizpildīšanai un saites uz palīgmateriāliem pieejamas izklājlapā "INFO". Zemāk vispārīga informācija deklarācijas aizpildīšanai.
K3: Izstrādāta pamatojoties uz 16.12.2024. MK noteikumiem Nr.776 "Kārtība, kādā komercsabiedrības deklarē savu atbilstību mazās (sīkās) un vidējās komercsabiedrības statusam" | S3: Vispārīgā informācija:
B4: Robežvērtības: STATUSA NOTEIKŠANA | J4: Ar šo | S4: Aizpildāmie lauki ir iekrāsoti dzelteni (ciktāl nepieciešams) | W4: Šo lauku informāciju var labot (šūnas ir atvērtas, vai pastāv izvēlne)
J5: Juridiskas personas nosaukums | L5: Jaundibināts uzņēmums 2026 SIA | S5: Vispirms jāaizpilda informācija par uzņēmumu par kuru deklarācija tiek pildīta ( šūna L5-L7). Šūnas L5 informācija ielasīsies šūnā O21. Norāda, vai uzņēmums ir Valsts vai pasvaldībai piederošs uzņēmums. Norāda, cik Gada pārskati vai Gada ienākuma deklarācijas Atbalsta pretendetam pieejami. No tā ir atkarīgs kopējais rezultāts. Tabulā ieraksta informāciju par uzņēmuma finanšu datiem atkarībā no pieejamo Gada pārskatu/Gada ienākuma deklarāciju skaita.
J6: Reģistrācijas numurs | L6: 40001234567
D7: IZPILDĀS | G7: JĀ | J7: Pārstāvja Vārds, Uzvārds | L7: Jānis Kalniņš | S7: Ja Uzņēmuma statusa laukā ( šūnā O10, J27) ir teksts "Jānosaka statuss" vai (šūnā J27,L30,M30) "Nav visa informācija", tas nozīmē, ka: - nav aizpildīti visi nepieciešamie finanšu dati statusa noteikšanai (šūnas O26:Q28), vai - nav ievadīts darbinieku skaits. Ja darbinieku skaits ir 0, ir jāievada 1 un Piezīmēs atrunāt, ka faktiskais darbinieku skaits ir 0.
D8: NEIZPILDĀS | G8: NĒ | J8: apliecinu, ka deklarācijā sniegtā informācija ir pilnīga un patiesa.
J9: Datums: | K9: laika zīmogā | O9: Uzņēmums atbilst kategorijai: | R9: Darbinieku skaits | S9: Norāda pilnas slodzes ekvivalentu.
B10: Uzņēmuma statuss | C10: Nosacījumi | D10: Kritērijs | E10: Robeža | H10: Izvēlnes: | J10: Dokuments ir parakstīts ar drošu elektronisko parakstu | O10: =IF(J26="Lielais","Lielais uzņēmums",IF(J26="Vidējais","Vidējais uzņēmums",IF(J26="Mazais","Mazais uzņēmums",IF(J26="Mikro","Mikro uzņēmums",J26)))) -> Vidējais uzņēmums | R10: Gada apgrozījums, EUR | S10: Norāda Neto apgrozījumu no PZA.
B11: Mikro | C11: Darbinieku skaits | D11: ≤9 | E11: 10 | H11: 1 | R11: Bilances vērtība, EUR | S11: Norāda Bilances kopsummu.
C12: Gada apgrozījums, EUR | D12: ≤ 2 milj. EUR | E12: 2000000 | H12: 2 | S12: Grupas uzņēmumu (Grupas uzņēmums-#) datu lauku aizpildīšana:
C13: Bilances vērtības, EUR | D13: ≤ 2 milj. EUR | E13: 2000000 | H13: Vairāk | R13: Saistību veids | S13: Jāizvēlas saistību veids- Saistītais vai Partneruzņēmums. Ja izvēle ir "Saistītais", Dalība (%) autmoātiski ir 100%, ja izvēle ir "Partneris" - dalība automātiski ielasīsies 49.99%. Ja partnerība ir mazāka,manuāli koriģē Dalību (%). Kā noteikt saistību veidu skat. izklājlapu "INFO".
H14: Saistītais | J14: Vai uzņēmums ir valstij vai pašvaldībai piederošs uzņēmums? | M14: NĒ
B15: Mazais | C15: Darbinieku skaits | D15: 10–49 | E15: 50 | H15: Partneris | R15: Nosaukums | S15: Attiecīgā uzņēmuma nosaukums.
C16: Gada apgrozījums, EUR | D16: 2–10 milj. EUR | E16: 10000000 | R16: Reģistrācijas Nr. | S16: Norāda uzņēmuma reģistrācijas numuru vai fiziskas personas kodu, ja fiziskā persona reģistrēta VID kā saimnieciskās darbības veicējs. Deklarācijā nenorāda fiziskās personas caur kurām rodas saistības ar citiem uzņēmumiem.
C17: Bilances vērtības, EUR | D17: 2–10 milj. EUR | E17: 10000000 | J17: Cik gada pārskati/Gada ienākuma deklarācijas ir pieejami/-as? | M17: 1 | R17: Periods | S17: Šis aizpildās automātiski atbilstoši Atbalsta pretendenta sadaļā aizpildīto gadu par kuru ir pieejams gada pārskats (šūna O25).
B18: Vidējais | C18: Darbinieku skaits | D18: 50–249 | E18: 250 | R18: Dalība (%) | S18: Skat.INFO izklājlapu par dalības nosacījumiem! Dalības % norāda atbilstoši tam vai attiecīgais uzņēmums ir definējams kā Saistītais uzņēmums vai Partneruzņēmums. Saistītajiem uzņēmumiem dalība ir jānorāda 100%, jo uzņēmuma lieluma noteikšanās saistīto uzņēmumu dati ir jāņem vērā pilnā apmērā (piemēram, faktiskā dalība ir 50%, bet deklarācijā aprēķinu nolūkā šūnā jāievada 100%). Partneruzņēmumiem, t.sk., partneruzņēmumu saistīto uzņēmumu dalība ir jānorāda atbilstoši to dalības % grupas struktūrā (25%-49.99%). Automātiski ielasās 49.99%, bet šo šūnu var labot manuāli.
C19: Gada apgrozījums, EUR | D19: 10–50 milj. EUR | E19: 50000000 | R19: Piezīmes | S19: Pie konkrētā uzņēmuma vai fiziskās personas norāda pamatojumu (ja attiecināms): Līgumu/vienošanos, ja tiek izmantota saistību veidošanai/pārtraukšanai; Norādi uz konsolidēto gada pārskatu vai citām situācijām.
C20: Bilances vērtības, EUR | D20: 10–43 milj. EUR | E20: 43000000 | J20: STATUSS | K20: KRITĒRIJS | L20: Grupa kopā | O20: =L5 -> Jaundibināts uzņēmums 2026 SIA | S20: Grupas uzņēmums-1 | V20: Grupas uzņēmums-2 | Y20: Grupas uzņēmums-3 | AB20: Grupas uzņēmums-4 | AE20: Grupas uzņēmums-5 | AH20: Grupas uzņēmums-6 | AK20: Grupas uzņēmums-7 | AN20: Grupas uzņēmums-8 | AQ20: Grupas uzņēmums-9 | AT20: Grupas uzņēmums-10 | AW20: Grupas uzņēmums-11 | AZ20: Grupas uzņēmums-12 | BC20: Grupas uzņēmums-13 | BF20: Grupas uzņēmums-14 | BI20: Grupas uzņēmums-15 | BL20: Grupas uzņēmums-16 | BO20: Grupas uzņēmums-17 | BR20: Grupas uzņēmums-18 | BU20: Grupas uzņēmums-19 | BX20: Grupas uzņēmums-20 | CA20: Grupas uzņēmums-21 | CD20: Grupas uzņēmums-22 | CG20: Grupas uzņēmums-23 | CJ20: Grupas uzņēmums-24 | CM20: Grupas uzņēmums-25
B21: Lielais | C21: Darbinieku skaits | D21: ≥250 | E21: 250 | R21: Saistību veids | S21: Saistītais | V21: Partneris
C22: Gada apgrozījums, EUR | D22: >50 milj. EUR | E22: 50000000 | R22: Nosaukums | S22: Saistītais Nr.1 | V22: Parneris Nr.1
C23: Bilances vērtības, EUR | D23: >43 milj. EUR | E23: 43000000 | R23: Reģistrācijas Nr. | S23: 40001234567
L24: =O24 -> 2025 | M24: =P24 -> 2024 | N24: =Q24 -> 2023 | O24: 2025 | P24: =O24-1 -> 2024 | Q24: =O24-2 -> 2023 | R24: Periods | S24: =O24 -> 2025 | T24: =P24 -> 2024 | U24: =Q24 -> 2023 | V24: =O24 -> 2025 | W24: =P24 -> 2024 | X24: =Q24 -> 2023 | Y24: =O24 -> 2025 | Z24: =P24 -> 2024 | AA24: =Q24 -> 2023 | AB24: =O24 -> 2025 | AC24: =P24 -> 2024 | AD24: =Q24 -> 2023 | AE24: =O24 -> 2025 | AF24: =P24 -> 2024 | AG24: =Q24 -> 2023 | AH24: =O24 -> 2025 | AI24: =P24 -> 2024 | AJ24: =Q24 -> 2023 | AK24: =O24 -> 2025 | AL24: =P24 -> 2024 | AM24: =Q24 -> 2023 | AN24: =O24 -> 2025 | AO24: =P24 -> 2024 | AP24: =Q24 -> 2023 | AQ24: =O24 -> 2025 | AR24: =P24 -> 2024 | AS24: =Q24 -> 2023 | AT24: =O24 -> 2025 | AU24: =P24 -> 2024 | AV24: =Q24 -> 2023 | AW24: =O24 -> 2025 | AX24: =P24 -> 2024 | AY24: =Q24 -> 2023 | AZ24: =O24 -> 2025 | BA24: =P24 -> 2024 | BB24: =Q24 -> 2023 | BC24: =O24 -> 2025 | BD24: =P24 -> 2024 | BE24: =Q24 -> 2023 | BF24: =$L$24 -> 2025 | BG24: =$M$24 -> 2024 | BH24: =N24 -> 2023 | BI24: =$L$24 -> 2025 | BJ24: =$M$24 -> 2024 | BK24: =N24 -> 2023 | BL24: =$L$24 -> 2025 | BM24: =$M$24 -> 2024 | BN24: =N24 -> 2023 | BO24: =$L$24 -> 2025 | BP24: =$M$24 -> 2024 | BQ24: =N24 -> 2023 | BR24: =$L$24 -> 2025 | BS24: =$M$24 -> 2024 | BT24: =N24 -> 2023 | BU24: =$L$24 -> 2025 | BV24: =$M$24 -> 2024 | BW24: =N24 -> 2023 | BX24: =$L$24 -> 2025 | BY24: =$M$24 -> 2024 | BZ24: =N24 -> 2023 | CA24: =$L$24 -> 2025 | CB24: =$M$24 -> 2024 | CC24: =N24 -> 2023 | CD24: =$L$24 -> 2025 | CE24: =$M$24 -> 2024 | CF24: =N24 -> 2023 | CG24: =$L$24 -> 2025 | CH24: =$M$24 -> 2024 | CI24: =N24 -> 2023 | CJ24: =$L$24 -> 2025 | CK24: =$M$24 -> 2024 | CL24: =N24 -> 2023 | CM24: =$L$24 -> 2025 | CN24: =$M$24 -> 2024 | CO24: =N24 -> 2023
B25: =L24 -> 2025 | C25: Jā/Nē | D25: =M24 -> 2024 | E25: Jā/Nē | F25: =N24 -> 2023 | G25: Jā/Nē | O25: 1 | P25: 1 | Q25: 1 | R25: Dalība (%) | S25: =IF(S21="Saistītais",100%,IF(S21="Partneris",49.99%,0)) -> 1 | T25: =IF(S21="Saistītais",100%,IF(S21="Partneris",49.99%,0)) -> 1 | U25: =IF(S21="Saistītais",100%,IF(S21="Partneris",49.99%,0)) -> 1 | V25: 0.25 | W25: 0.25 | X25: 0.25 | Y25: =IF(Y21="Saistītais",100%,IF(Y21="Partneris",49.99%,0)) -> 0 | Z25: =IF(Y21="Saistītais",100%,IF(Y21="Partneris",49.99%,0)) -> 0 | AA25: =IF(Y21="Saistītais",100%,IF(Y21="Partneris",49.99%,0)) -> 0 | AB25: =IF(AB21="Saistītais",100%,IF(AB21="Partneris",49.99%,0)) -> 0 | AC25: =IF(AB21="Saistītais",100%,IF(AB21="Partneris",49.99%,0)) -> 0 | AD25: =IF(AB21="Saistītais",100%,IF(AB21="Partneris",49.99%,0)) -> 0 | AE25: =IF(AE21="Saistītais",100%,IF(AE21="Partneris",49.99%,0)) -> 0 | AF25: =IF(AE21="Saistītais",100%,IF(AE21="Partneris",49.99%,0)) -> 0 | AG25: =IF(AE21="Saistītais",100%,IF(AE21="Partneris",49.99%,0)) -> 0 | AH25: =IF(AH21="Saistītais",100%,IF(AH21="Partneris",49.99%,0)) -> 0 | AI25: =IF(AH21="Saistītais",100%,IF(AH21="Partneris",49.99%,0)) -> 0 | AJ25: =IF(AH21="Saistītais",100%,IF(AH21="Partneris",49.99%,0)) -> 0 | AK25: =IF(AK21="Saistītais",100%,IF(AK21="Partneris",49.99%,0)) -> 0 | AL25: =IF(AK21="Saistītais",100%,IF(AK21="Partneris",49.99%,0)) -> 0 | AM25: =IF(AK21="Saistītais",100%,IF(AK21="Partneris",49.99%,0)) -> 0 | AN25: =IF(AN21="Saistītais",100%,IF(AN21="Partneris",49.99%,0)) -> 0 | AO25: =IF(AN21="Saistītais",100%,IF(AN21="Partneris",49.99%,0)) -> 0 | AP25: =IF(AN21="Saistītais",100%,IF(AN21="Partneris",49.99%,0)) -> 0 | AQ25: =IF(AQ21="Saistītais",100%,IF(AQ21="Partneris",49.99%,0)) -> 0 | AR25: =IF(AQ21="Saistītais",100%,IF(AQ21="Partneris",49.99%,0)) -> 0 | AS25: =IF(AQ21="Saistītais",100%,IF(AQ21="Partneris",49.99%,0)) -> 0 | AT25: =IF(AT21="Saistītais",100%,IF(AT21="Partneris",49.99%,0)) -> 0 | AU25: =IF(AT21="Saistītais",100%,IF(AT21="Partneris",49.99%,0)) -> 0 | AV25: =IF(AT21="Saistītais",100%,IF(AT21="Partneris",49.99%,0)) -> 0 | AW25: =IF(AW21="Saistītais",100%,IF(AW21="Partneris",49.99%,0)) -> 0 | AX25: =IF(AW21="Saistītais",100%,IF(AW21="Partneris",49.99%,0)) -> 0 | AY25: =IF(AW21="Saistītais",100%,IF(AW21="Partneris",49.99%,0)) -> 0 | AZ25: =IF(AZ21="Saistītais",100%,IF(AZ21="Partneris",49.99%,0)) -> 0 | BA25: =IF(AZ21="Saistītais",100%,IF(AZ21="Partneris",49.99%,0)) -> 0 | BB25: =IF(AZ21="Saistītais",100%,IF(AZ21="Partneris",49.99%,0)) -> 0 | BC25: =IF(BC21="Saistītais",100%,IF(BC21="Partneris",49.99%,0)) -> 0 | BD25: =IF(BC21="Saistītais",100%,IF(BC21="Partneris",49.99%,0)) -> 0 | BE25: =IF(BC21="Saistītais",100%,IF(BC21="Partneris",49.99%,0)) -> 0 | BF25: =IF(BF21="Saistītais",100%,IF(BF21="Partneris",49.99%,0)) -> 0 | BG25: =IF(BF21="Saistītais",100%,IF(BF21="Partneris",49.99%,0)) -> 0 | BH25: =IF(BF21="Saistītais",100%,IF(BF21="Partneris",49.99%,0)) -> 0 | BI25: =IF(BI21="Saistītais",100%,IF(BI21="Partneris",49.99%,0)) -> 0 | BJ25: =IF(BI21="Saistītais",100%,IF(BI21="Partneris",49.99%,0)) -> 0 | BK25: =IF(BI21="Saistītais",100%,IF(BI21="Partneris",49.99%,0)) -> 0 | BL25: =IF(BL21="Saistītais",100%,IF(BL21="Partneris",49.99%,0)) -> 0 | BM25: =IF(BL21="Saistītais",100%,IF(BL21="Partneris",49.99%,0)) -> 0 | BN25: =IF(BL21="Saistītais",100%,IF(BL21="Partneris",49.99%,0)) -> 0 | BO25: =IF(BO21="Saistītais",100%,IF(BO21="Partneris",49.99%,0)) -> 0 | BP25: =IF(BO21="Saistītais",100%,IF(BO21="Partneris",49.99%,0)) -> 0 | BQ25: =IF(BO21="Saistītais",100%,IF(BO21="Partneris",49.99%,0)) -> 0 | BR25: =IF(BR21="Saistītais",100%,IF(BR21="Partneris",49.99%,0)) -> 0 | BS25: =IF(BR21="Saistītais",100%,IF(BR21="Partneris",49.99%,0)) -> 0 | BT25: =IF(BR21="Saistītais",100%,IF(BR21="Partneris",49.99%,0)) -> 0 | BU25: =IF(BU21="Saistītais",100%,IF(BU21="Partneris",49.99%,0)) -> 0 | BV25: =IF(BU21="Saistītais",100%,IF(BU21="Partneris",49.99%,0)) -> 0 | BW25: =IF(BU21="Saistītais",100%,IF(BU21="Partneris",49.99%,0)) -> 0 | BX25: =IF(BX21="Saistītais",100%,IF(BX21="Partneris",49.99%,0)) -> 0 | BY25: =IF(BX21="Saistītais",100%,IF(BX21="Partneris",49.99%,0)) -> 0 | BZ25: =IF(BX21="Saistītais",100%,IF(BX21="Partneris",49.99%,0)) -> 0 | CA25: =IF(CA21="Saistītais",100%,IF(CA21="Partneris",49.99%,0)) -> 0 | CB25: =IF(CA21="Saistītais",100%,IF(CA21="Partneris",49.99%,0)) -> 0 | CC25: =IF(CA21="Saistītais",100%,IF(CA21="Partneris",49.99%,0)) -> 0 | CD25: =IF(CD21="Saistītais",100%,IF(CD21="Partneris",49.99%,0)) -> 0 | CE25: =IF(CD21="Saistītais",100%,IF(CD21="Partneris",49.99%,0)) -> 0 | CF25: =IF(CD21="Saistītais",100%,IF(CD21="Partneris",49.99%,0)) -> 0 | CG25: =IF(CG21="Saistītais",100%,IF(CG21="Partneris",49.99%,0)) -> 0 | CH25: =IF(CG21="Saistītais",100%,IF(CG21="Partneris",49.99%,0)) -> 0 | CI25: =IF(CG21="Saistītais",100%,IF(CG21="Partneris",49.99%,0)) -> 0 | CJ25: =IF(CJ21="Saistītais",100%,IF(CJ21="Partneris",49.99%,0)) -> 0 | CK25: =IF(CJ21="Saistītais",100%,IF(CJ21="Partneris",49.99%,0)) -> 0 | CL25: =IF(CJ21="Saistītais",100%,IF(CJ21="Partneris",49.99%,0)) -> 0 | CM25: =IF(CM21="Saistītais",100%,IF(CM21="Partneris",49.99%,0)) -> 0 | CN25: =IF(CM21="Saistītais",100%,IF(CM21="Partneris",49.99%,0)) -> 0 | CO25: =IF(CM21="Saistītais",100%,IF(CM21="Partneris",49.99%,0)) -> 0
