Workbook
Name Atb_jautajums_1: #REF!
Name Diskonta_likme: #REF!
Name Izmaksu_veidi: #REF!
Name Kapitala_atlaide: #REF!
Name Kopa_attiec_apgaismojums: #REF!
Name Kopa_attiec_buv: #REF!
Name Kopa_attiec_iekartas: #REF!
Name Kopa_attiec_inzenier: #REF!
Name Kopa_attiec_sekundarie: #REF!
Name Kopa_attiec_siltums: #REF!
Name Kopa_neattiec_apgaismojums_gber: #REF!
Name Kopa_neattiec_apgaismojums_pvn: #REF!
Name Kopa_neattiec_buv_pvn: #REF!
Name Kopa_neattiec_iekartas_gber: #REF!
Name Kopa_neattiec_iekartas_pvn: #REF!
Name Kopa_neattiec_inzenier_gber: #REF!
Name Kopa_neattiec_inzenier_pvn: #REF!
Name Kopa_neattiec_sekundarie_gber: #REF!
Name Kopa_neattiec_sekundarie_pvn: #REF!
Name Kopa_neattiec_siltums_gber: #REF!
Name Kopa_neattiec_siltums_pvn: #REF!
Name Pieejamais_de_minimis: #REF!
Name vai_deminimis: #REF!

Sheet Tāme
E2: PROJEKTA IZMAKSU FINANSĒŠANAS APRĒĶINS ATJAUNOJAMO ENERGORESURSU PASĀKUMIEM ENERGOEFEKTIVITĀTES UN ATJAUNOJAMO ENERGORESURSU PASĀKUMIEM 1.2.1.2.I.1. PASĀKUMĀ "ENERGOEFEKTIVITĀTES PAAUGSTINĀŠANA UZŅĒMĒJDARBĪBĀ (IETVEROT PĀREJU UZ ATJAUNOJAMO ENERGORESURSU TEHNOLOĢIJU IZMANTOŠANU SILTUMAPGĀDĒ)"
B3: INFORMĀCIJA PAR KOMERSANTU
D4: Nosaukums | H4: =IF(E4="","Norādiet uzņēmuma nosaukumu!","") -> Norādiet uzņēmuma nosaukumu!
D5: Reģistrācijas Nr.
D6: MVU statuss | G6: =IF(E6="","Norādiet uzņēmuma MVU kategoriju!","") -> Norādiet uzņēmuma MVU kategoriju!
D7: Pieejamais de minimis atbalsta atlikums, EUR | F7: =IF(E7="","Norādiet De Minimis atbalsta uzskaites sistēmā uzrādīto vērtību ailē Atlikums līdz limitam / Vispārējā tautsaimniecība (2023/2831)","") -> Norādiet De Minimis atbalsta uzskaites sistēmā uzrādīto vērtību ailē Atlikums līdz limitam / Vispārējā tautsaimniecība (2023/2831)
B9: IZDEVUMU POZĪCIJAS, KAS IEKĻAUTAS INVESTĪCIJU PROJEKTA IZMAKSĀS
C10: I. ATJAUNOJAMO ENERGORESURSU TEHNOLOĢIJU IEVIEŠANA - RAŽOŠANAS IEKĀRTAS
C11: Atjaunīgā ūdeņraža, biogāzes, biodegvielu, bioloģisko šķidro kurināmo, biometāna un biomasas kurināmo/degvielu ražojošo tehnoloģiju iegāde un uzstādīšana; augstas efektivitātes koģenerācijas tehnoloģiju iegāde un uzstādīšana; saules, vēja enerģiju izmantojošo elektroenerģiju ražojošo tehnoloģiju iegāde un uzstādīšana; atjaunojamos energoresursus izmantojošu siltumenerģijas ražošanas avotu, tai skaitā siltumsūkņu (gaiss, ūdens, zeme) un cietās biomasas tehnoloģiju (tai skaitā gaisu piesārņojošo vielu emisiju attīrīšanas iekārtu) iegāde un uzstādīšana; sistēmas pieslēguma ierīkošanas vai pārbūves izmaksas, kas nepieciešamas elektroenerģijas ražošanas iekārtas pieslēgšanai elektroenerģijas sistēmai; ar iekārtu uzstādīšanu saistītās būvniecības izmaksas, tai skaitā autoruzraudzība un būvuzraudzība
B12: N.p.k. | D12: Apraksts | E12: Būvnieks / piegādātājs | G12: Cena par vienību bez PVN, EUR | H12: Vienību skaits | I12: Summa, EUR | J12: PVN likme | K12: PVN, EUR | L12: Kopā, EUR
E13: Nosaukums | F13: Reģ. Nr.
I14: =IF(G14="","",(G14*H14)) | K14: =IF(G14="","",(I14*J14)) | L14: =IF(G14="","",(I14+K14))
I15: =IF(G15="","",(G15*H15)) | K15: =IF(G15="","",(I15*J15)) | L15: =IF(G15="","",(I15+K15))
I16: =IF(G16="","",(G16*H16)) | K16: =IF(G16="","",(I16*J16)) | L16: =IF(G16="","",(I16+K16))
I17: =IF(G17="","",(G17*H17)) | K17: =IF(G17="","",(I17*J17)) | L17: =IF(G17="","",(I17+K17))
I18: =IF(G18="","",(G18*H18)) | K18: =IF(G18="","",(I18*J18)) | L18: =IF(G18="","",(I18+K18))
I19: =IF(G19="","",(G19*H19)) | K19: =IF(G19="","",(I19*J19)) | L19: =IF(G19="","",(I19+K19))
I20: =IF(G20="","",(G20*H20)) | K20: =IF(G20="","",(I20*J20)) | L20: =IF(G20="","",(I20+K20))
I21: =IF(G21="","",(G21*H21)) | K21: =IF(G21="","",(I21*J21)) | L21: =IF(G21="","",(I21+K21))
I22: =IF(G22="","",(G22*H22)) | K22: =IF(G22="","",(I22*J22)) | L22: =IF(G22="","",(I22+K22))
I23: =IF(G23="","",(G23*H23)) | K23: =IF(G23="","",(I23*J23)) | L23: =IF(G23="","",(I23+K23))
I24: =IF(G24="","",(G24*H24)) | K24: =IF(G24="","",(I24*J24)) | L24: =IF(G24="","",(I24+K24))
I25: =IF(G25="","",(G25*H25)) | K25: =IF(G25="","",(I25*J25)) | L25: =IF(G25="","",(I25+K25))
... I28: =IF(G28="","",(G28*H28)) | K28: =IF(G28="","",(I28*J28)) | L28: =IF(G28="","",(I28+K28))
H29: Kopā | I29: =SUM(I14:I28) -> 0 | K29: =SUM(K14:K28) -> 0 | L29: =SUM(L14:L28) -> 0
C31: II. ATJAUNOJAMO ENERGORESURSU TEHNOLOĢIJU IEVIEŠANA - AKUMULĒŠANAS IEKĀRTAS
C32: (saražotās enerģijas akumulēšanas vai uzglabāšanas iekārtu iegāde un uzstādīšana)
E33: Būvnieks / piegādātājs | G33: Cena par vienību bez PVN, EUR | H33: Vienību skaits | I33: Summa, EUR | J33: PVN likme | K33: PVN, EUR | L33: Kopā, EUR
B34: N.p.k. | D34: Apraksts | E34: Nosaukums | F34: Reģ. Nr.
I35: =IF(G35="","",(G35*H35)) | K35: =IF(G35="","",(I35*J35)) | L35: =IF(G35="","",(I35+K35))
I36: =IF(G36="","",(G36*H36)) | K36: =IF(G36="","",(I36*J36)) | L36: =IF(G36="","",(I36+K36))
I37: =IF(G37="","",(G37*H37)) | K37: =IF(G37="","",(I37*J37)) | L37: =IF(G37="","",(I37+K37))
I38: =IF(G38="","",(G38*H38)) | K38: =IF(G38="","",(I38*J38)) | L38: =IF(G38="","",(I38+K38))
I39: =IF(G39="","",(G39*H39)) | K39: =IF(G39="","",(I39*J39)) | L39: =IF(G39="","",(I39+K39))
I40: =IF(G40="","",(G40*H40)) | K40: =IF(G40="","",(I40*J40)) | L40: =IF(G40="","",(I40+K40))
I41: =IF(G41="","",(G41*H41)) | K41: =IF(G41="","",(I41*J41)) | L41: =IF(G41="","",(I41+K41))
I42: =IF(G42="","",(G42*H42)) | K42: =IF(G42="","",(I42*J42)) | L42: =IF(G42="","",(I42+K42))
I43: =IF(G43="","",(G43*H43)) | K43: =IF(G43="","",(I43*J43)) | L43: =IF(G43="","",(I43+K43))
I44: =IF(G44="","",(G44*H44)) | K44: =IF(G44="","",(I44*J44)) | L44: =IF(G44="","",(I44+K44))
I45: =IF(G45="","",(G45*H45)) | K45: =IF(G45="","",(I45*J45)) | L45: =IF(G45="","",(I45+K45))
I46: =IF(G46="","",(G46*H46)) | K46: =IF(G46="","",(I46*J46)) | L46: =IF(G46="","",(I46+K46))
... I49: =IF(G49="","",(G49*H49)) | K49: =IF(G49="","",(I49*J49)) | L49: =IF(G49="","",(I49+K49))
H50: Kopā | I50: =SUM(I35:I49) -> 0 | K50: =SUM(K35:K49) -> 0 | L50: =SUM(L35:L49) -> 0
C53: KOPĒJĀS PROJEKTA IZMAKSAS | H53: Kopā | I53: =I50+I29 -> 0 | K53: =K50+K29 -> 0 | L53: =L50+L29 -> 0
B57: IZDEVUMU POZĪCIJAS, KAS NEVAR TIKT IEKĻAUTAS PROJEKTA KOPĒJĀS IZMAKSĀS, BET IR NEPIECIEŠAMAS PROJEKTA ĪSTENOŠANAI
C58: (sagatavošanās darbu izmaksas; ēkas energosertifikāta, energoaudita, pārskata par projekta energoresursu ietaupījuma aprēķinu sagatavošanas izmaksas; teritorijas labiekārtošanas un apzaļumošanas izmaksas; izmaksas, kas radušās, pamatojoties uz noslēgtu darba līgumu; projekta izmaksas, kas nav tieši saistītas ar projekta ietvaros veiktajām darbībām, nav samērīgas, pamatotas ar izdevumus apliecinošiem dokumentiem un nav ievēroti saimnieciskuma, lietderības un efektivitātes principi; izmaksas, kas saistītas ar fosilos energoresursus izmantojošas iekārtas uzstādīšanu, modernizāciju vai nomaiņu pret citu fosilos energoresursus izmantojošu iekārtu; iekārtu un ražošanas procesus nodrošinošo blakusprocesu iekārtu iegādes izmaksas, ja iekārtas neaizstāj esošās ražošanas iekārtas un ražošanas procesus nodrošinošo blakusprocesu iekārtas; jebkāda veida pārvietojamās tehnikas un transportlīdzekļu iegādes izmaksas; lietotu iekārtu iegādes izmaksas; izmaksas, kas saistītas ar ēku konstrukciju projektēšanas būvspeciālista izvērtējumu par elektroenerģiju ražojošo tehnoloģiju projekta risinājuma radīto slodžu un stiprinājumu ietekmi uz ēkas nesošajām konstrukcijām un jumta konstruktīvo risinājumu; teritorijas labiekārtošanas un apzaļumošanas izmaksas)
B59: N.p.k. | D59: Apraksts | E59: Piegādātājs | G59: Cena par vienību bez PVN, EUR | H59: Vienību skaits | I59: Summa, EUR | J59: PVN likme | K59: PVN, EUR | L59: Kopā, EUR
E60: Nosaukums | F60: Reģ. Nr.
I61: =IF(G61="","",(G61*H61)) | K61: =IF(G61="","",(I61*J61)) | L61: =IF(G61="","",(I61+K61))
I62: =IF(G62="","",(G62*H62)) | K62: =IF(G62="","",(I62*J62)) | L62: =IF(G62="","",(I62+K62))
I63: =IF(G63="","",(G63*H63)) | K63: =IF(G63="","",(I63*J63)) | L63: =IF(G63="","",(I63+K63))
I64: =IF(G64="","",(G64*H64)) | K64: =IF(G64="","",(I64*J64)) | L64: =IF(G64="","",(I64+K64))
I65: =IF(G65="","",(G65*H65)) | K65: =IF(G65="","",(I65*J65)) | L65: =IF(G65="","",(I65+K65))
I66: =IF(G66="","",(G66*H66)) | K66: =IF(G66="","",(I66*J66)) | L66: =IF(G66="","",(I66+K66))
I67: =IF(G67="","",(G67*H67)) | K67: =IF(G67="","",(I67*J67)) | L67: =IF(G67="","",(I67+K67))
H68: Kopā | I68: =SUM(I61:I67) -> 0 | K68: =SUM(K61:K67) -> 0 | L68: =SUM(L61:L67) -> 0
B70: =Aprekiniem!G4&".versija" -> 6.4.versija

Sheet Atbalsta noteikšana no 11.2025
H2: PROJEKTA IZMAKSU FINANSĒŠANAS APRĒĶINS ATJAUNOJAMO ENERGORESURSU PASĀKUMIEM 1.2.1.2.I.1. PASĀKUMĀ "ENERGOEFEKTIVITĀTES PAAUGSTINĀŠANA UZŅĒMĒJDARBĪBĀ (IETVEROT PĀREJU UZ ATJAUNOJAMO ENERGORESURSU TEHNOLOĢIJU IZMANTOŠANU SILTUMAPGĀDĒ)"
B3: PROJEKTA KOPĒJĀS IZMAKSAS, NEIESKAITOT PVN
C4: PROJEKTA KOPĒJĀS IZMAKSAS, NEIESKAITOT PVN, EUR | D4: =ROUNDDOWN(IF(Aprekiniem!$B$23=1,#REF!,IF((VLOOKUP(Tāme!E9,Aprekiniem!$A$4:$C$6,3,FALSE)*#REF!)>#REF!,#REF!,VLOOKUP(Tāme!E9,Aprekiniem!A7:C9,3,FALSE)*#REF!)),2) -> #REF! | E4: =Tāme!I53 -> 0
B6: MAKSIMĀLĀ KAPITĀLA ATLAIDE UN PIEMĒROJAMAIS ATBALSTS
B7: Šīs darba lapas sadaļā (šūnā E8) tiek aprēķināta Kapitāla atlaide (30% no Projekta kopējām izmaksām, neieskaitot PVN, bet ne vairāk kā 1'500'000€), pieņemot, ka šāds kapitāla atlaides apmērs ir pieejams saistīto personu grupai programmas ietvaros un netiek pārsniegta pieļaujamā intensitāte VGAR atbalsta gadījumā. Ja atbalsta pieteicējs vēlas pieprasīt mazāku kapitāla atlaidi par aprēķināto, to norāda šūnā E9. Ņemot vērā pieprasītās Kapitāla atlaides apmēru un pieņemot, ka aizdevumam netiks aprēķināts papildus atbalsts, tiek noteikts paredzamais atbalsta veids (De Minimis vai VGAR).
C8: APRĒĶINĀTĀ KAPITĀLA ATLAIDE, EUR: | E8: =IF(E4*30%>1950000,1950000,ROUNDDOWN(E4*30%,2)) -> 0
C9: PIEPRASĪTĀ KAPITĀLA ATLAIDE, EUR: | E9: =E8 -> 0 | G9: Ja vēlaties pieprasīt mazāku kapitāla atlaidi par aprēķināto, norādiet to šeit.
C10: PAREDZAMAIS ATBALSTA VEIDS: | E10: =IF(Aprekiniem!B23=1,"Deminimis atbalsts","VGAR atbalsts") -> Deminimis atbalsts
B12: =IF(Aprekiniem!B23=1,"Pieejamais de minimis atbalsta apmērs pieļauj atbalsta piešķiršanu kā de minimis atbalstu, tādēļ šī darba lapa NAV jāaizpilda- pārejiet uz darba lapu Finansējums!","Pieejamais de minimis atbalsta apmērs nepieļauj atbalsta piešķiršanu kā de minimis atbalstu. Atbalsts var tikt piešķirts kā VGAR atbalsts, ja projekts nav uzsākts pirms atbalsta pieteikuma iesniegšanas.") -> Pieejamais de minimis atbalsta apmērs pieļauj atbalsta piešķiršanu kā de minimis atbalstu, tādēļ šī darba lapa NAV jāaizpilda- pārejiet uz darba lapu Finansējums!
B13: =IF(Tāme!I50>0,"VGAR atbalsta gadījumā ir noteikta atšķirīga maksimālā atbalsta intensitāte akumulēšanas iekārtām. Lūdzam ņemt vērā, ka akumulēšanas iekārtu finansēšanai pieejamais Altum aizdevuma apjoms var tikt samazināts!","")
C14: I. ATJAUNOJAMO ENERGORESURSU TEHNOLOĢIJU IEVIEŠANA - RAŽOŠANAS IEKĀRTAS
C16: ATTIECINĀMĀS IZMAKSAS: | E16: =Tāme!I29 -> 0 | G16: dati ielasās no lapas "Tāme"
C17: KAPITĀLA ATLAIDE: | E17: =ROUNDDOWN(IFERROR(E9/E4*E16,0),2) -> 0
C18: ALTUM AIZDEVUMS: | E18: =Finansējums!J12 -> 0 | G18: dati ielasās no lapas "Finansējums"
C20: II. ATJAUNOJAMO ENERGORESURSU TEHNOLOĢIJU IEVIEŠANA - AKUMULĒŠANAS IEKĀRTAS
C22: ATTIECINĀMĀS IZMAKSAS: | E22: =Tāme!I50 -> 0 | G22: dati ielasās no lapas "Tāme"
C23: KAPITĀLA ATLAIDE: | E23: =ROUNDDOWN(IFERROR(E9/E4*E22,0),2) -> 0
C24: ALTUM AIZDEVUMS: | E24: =Finansējums!J28 -> 0 | G24: dati ielasās no lapas "Finansējums"
B28: =Tāme!B70 -> 6.4.versija

Sheet Finansējums
H2: ENERGOEFEKTIVITĀTES PAAUGSTINĀŠANAS PASĀKUMI 1.2.1.2.I.1. PASĀKUMĀ "ENERGOEFEKTIVITĀTES PAAUGSTINĀŠANA UZŅĒMĒJDARBĪBĀ (IETVEROT PĀREJU UZ ATJAUNOJAMO ENERGORESURSU TEHNOLOĢIJU IZMANTOŠANU SILTUMAPGĀDĒ)"
B4: FINANSĒJUMA SADALĪJUMS
B5: Darba lapā automātiski ir ielasījušies dati no darba lapām "Tāme" un "Atbalsta noteikšana". Papildus Jums šajā darba lapā jānorāda informācija- no kādiem finanšu avotiem tiks finansētas Attiecināmās izmaksas, Neattiecināmās izmaksas un izmaksas, kas nav iekļautas Projekta kopējās izmaksās.
B8: IZDEVUMU POZĪCIJAS, KAS IEKĻAUTAS INVESTĪCIJU PROJEKTA KOPĒJĀS IZMAKSĀS:
B9: Izmaksu pozīcija | D9: KOPĀ, EUR (t.sk. PVN) | F9: Attiecināmās izmaksas kopā, EUR | G9: Attiecināmo izmaksu finansēšana, EUR | M9: Neattiecināmās izmaksas kopā, EUR | N9: Neattiecināmo izmaksu sadalījums pa to veidiem, EUR | P9: Neattiecināmo izmaksu finansēšana, EUR
G10: Aizņēmēja līdzdalība (brīva no publiskā atbalsta) | H10: Cita finansētāja aizdevums (brīvs no publiskā atbalsta) | I10: Cits publiskais finansējums, kas saņemts līdz projekta pabeigšanai (LAD, LIAA u.c.) | J10: ALTUM aizdevums | K10: Summa, kurai nav norādīts finansējums: | N10: PVN, EUR | O10: Attiecināmo izmaksu korekcija, ņemot vērā VGAR, EUR | P10: Aizņēmēja līdzdalība (brīva no publiskā atbalsta) | Q10: Cita finansētāja aizdevums (brīvs no publiskā atbalsta) | R10: Cits publiskais finansējums, kas saņemts līdz projekta pabeigšanai (LAD, LIAA u.c.) | S10: Summa, kurai nav norādīts finansējums:
F11: =IF(K44>0,"Lūdzu norādiet kā tiks finansētas attiecināmās izmaksas!","") | M11: =IF(S44>0,"Lūdzu norādiet kā tiks finansētas neattiecināmās izmaksas!","")
B12: =Tāme!C10 -> I. ATJAUNOJAMO ENERGORESURSU TEHNOLOĢIJU IEVIEŠANA - RAŽOŠANAS IEKĀRTAS | D12: =SUM(D13:D27) -> 0 | F12: =SUM(F13:F27) -> 0 | G12: =SUM(G13:G27) -> 0 | H12: =SUM(H13:H27) -> 0 | I12: =SUM(I13:I27) -> 0 | J12: =SUM(J13:J27) -> 0 | K12: =SUM(K13:K27) -> 0 | M12: =SUM(M13:M27) -> 0 | N12: =SUM(N13:N27) -> 0 | O12: =SUM(O13:O27) -> 0 | P12: =SUM(P13:P27) -> 0 | Q12: =SUM(Q13:Q27) -> 0 | R12: =SUM(R13:R27) -> 0 | S12: =SUM(S13:S27) -> 0
B13: =IF(Tāme!B14="","",Tāme!B14) | C13: =IF(Tāme!D14="","",Tāme!D14) | D13: =Tāme!L14 | F13: =Tāme!I14 | K13: =IF(F13="",0,F13-SUM(G13:J13)) -> 0 | M13: =Tāme!K14 | N13: =Tāme!K14 | O13: 0 | S13: =IF(M13="",0,M13-SUM(P13:R13)) -> 0
B14: =IF(Tāme!B15="","",Tāme!B15) | C14: =IF(Tāme!D15="","",Tāme!D15) | D14: =Tāme!L15 | F14: =Tāme!I15 | K14: =IF(F14="",0,F14-SUM(G14:J14)) -> 0 | M14: =Tāme!K15 | N14: =Tāme!K15 | O14: 0 | S14: =IF(M14="",0,M14-SUM(P14:R14)) -> 0
B15: =IF(Tāme!B16="","",Tāme!B16) | C15: =IF(Tāme!D16="","",Tāme!D16) | D15: =Tāme!L16 | F15: =Tāme!I16 | K15: =IF(F15="",0,F15-SUM(G15:J15)) -> 0 | M15: =Tāme!K16 | N15: =Tāme!K16 | O15: 0 | S15: =IF(M15="",0,M15-SUM(P15:R15)) -> 0
B16: =IF(Tāme!B17="","",Tāme!B17) | C16: =IF(Tāme!D17="","",Tāme!D17) | D16: =Tāme!L17 | F16: =Tāme!I17 | K16: =IF(F16="",0,F16-SUM(G16:J16)) -> 0 | M16: =Tāme!K17 | N16: =Tāme!K17 | O16: 0 | S16: =IF(M16="",0,M16-SUM(P16:R16)) -> 0
B17: =IF(Tāme!B18="","",Tāme!B18) | C17: =IF(Tāme!D18="","",Tāme!D18) | D17: =Tāme!L18 | F17: =Tāme!I18 | K17: =IF(F17="",0,F17-SUM(G17:J17)) -> 0 | M17: =Tāme!K18 | N17: =Tāme!K18 | O17: 0 | S17: =IF(M17="",0,M17-SUM(P17:R17)) -> 0
B18: =IF(Tāme!B19="","",Tāme!B19) | C18: =IF(Tāme!D19="","",Tāme!D19) | D18: =Tāme!L19 | F18: =Tāme!I19 | K18: =IF(F18="",0,F18-SUM(G18:J18)) -> 0 | M18: =Tāme!K19 | N18: =Tāme!K19 | O18: 0 | S18: =IF(M18="",0,M18-SUM(P18:R18)) -> 0
B19: =IF(Tāme!B20="","",Tāme!B20) | C19: =IF(Tāme!D20="","",Tāme!D20) | D19: =Tāme!L20 | F19: =Tāme!I20 | K19: =IF(F19="",0,F19-SUM(G19:J19)) -> 0 | M19: =Tāme!K20 | N19: =Tāme!K20 | O19: 0 | S19: =IF(M19="",0,M19-SUM(P19:R19)) -> 0
B20: =IF(Tāme!B21="","",Tāme!B21) | C20: =IF(Tāme!D21="","",Tāme!D21) | D20: =Tāme!L21 | F20: =Tāme!I21 | K20: =IF(F20="",0,F20-SUM(G20:J20)) -> 0 | M20: =Tāme!K21 | N20: =Tāme!K21 | O20: 0 | S20: =IF(M20="",0,M20-SUM(P20:R20)) -> 0
B21: =IF(Tāme!B22="","",Tāme!B22) | C21: =IF(Tāme!D22="","",Tāme!D22) | D21: =Tāme!L22 | F21: =Tāme!I22 | K21: =IF(F21="",0,F21-SUM(G21:J21)) -> 0 | M21: =Tāme!K22 | N21: =Tāme!K22 | O21: 0 | S21: =IF(M21="",0,M21-SUM(P21:R21)) -> 0
B22: =IF(Tāme!B23="","",Tāme!B23) | C22: =IF(Tāme!D23="","",Tāme!D23) | D22: =Tāme!L23 | F22: =Tāme!I23 | K22: =IF(F22="",0,F22-SUM(G22:J22)) -> 0 | M22: =Tāme!K23 | N22: =Tāme!K23 | O22: 0 | S22: =IF(M22="",0,M22-SUM(P22:R22)) -> 0
B23: =IF(Tāme!B24="","",Tāme!B24) | C23: =IF(Tāme!D24="","",Tāme!D24) | D23: =Tāme!L24 | F23: =Tāme!I24 | K23: =IF(F23="",0,F23-SUM(G23:J23)) -> 0 | M23: =Tāme!K24 | N23: =Tāme!K24 | O23: 0 | S23: =IF(M23="",0,M23-SUM(P23:R23)) -> 0
B24: =IF(Tāme!B25="","",Tāme!B25) | C24: =IF(Tāme!D25="","",Tāme!D25) | D24: =Tāme!L25 | F24: =Tāme!I25 | K24: =IF(F24="",0,F24-SUM(G24:J24)) -> 0 | M24: =Tāme!K25 | N24: =Tāme!K25 | O24: 0 | S24: =IF(M24="",0,M24-SUM(P24:R24)) -> 0
... B27: =IF(Tāme!B28="","",Tāme!B28) | C27: =IF(Tāme!D28="","",Tāme!D28) | D27: =Tāme!L28 | F27: =Tāme!I28 | K27: =IF(F27="",0,F27-SUM(G27:J27)) -> 0 | M27: =Tāme!K28 | N27: =Tāme!K28 | O27: 0 | S27: =IF(M27="",0,M27-SUM(P27:R27)) -> 0
B28: =Tāme!C31 -> II. ATJAUNOJAMO ENERGORESURSU TEHNOLOĢIJU IEVIEŠANA - AKUMULĒŠANAS IEKĀRTAS | D28: =SUM(D29:D43) -> 0 | F28: =SUM(F29:F43) -> 0 | G28: =SUM(G29:G43) -> 0 | H28: =SUM(H29:H43) -> 0 | I28: =SUM(I29:I43) -> 0 | J28: =SUM(J29:J43) -> 0 | K28: =SUM(K29:K43) -> 0 | M28: =SUM(M29:M43) -> 0 | P28: =SUM(P29:P43) -> 0 | Q28: =SUM(Q29:Q43) -> 0 | R28: =SUM(R29:R43) -> 0 | S28: =SUM(S29:S43) -> 0
B29: =IF(Tāme!B35="","",Tāme!B35) | C29: =IF(Tāme!D35="","",Tāme!D35) | D29: =Tāme!L35 | F29: =Tāme!I35 | K29: =IF(F29="",0,F29-SUM(G29:J29)) -> 0 | M29: =Tāme!K35 | N29: =Tāme!K35 | O29: =IF(Aprekiniem!$B$23=1,"",'Atbalsta noteikšana no 11.2025'!O23) | S29: =IF(M29="",0,M29-SUM(P29:R29)) -> 0
B30: =IF(Tāme!B36="","",Tāme!B36) | C30: =IF(Tāme!D36="","",Tāme!D36) | D30: =Tāme!L36 | F30: =Tāme!I36 | K30: =IF(F30="",0,F30-SUM(G30:J30)) -> 0 | M30: =Tāme!K36 | N30: =Tāme!K36 | O30: =IF(Aprekiniem!$B$23=1,"",'Atbalsta noteikšana no 11.2025'!O25) | S30: =IF(M30="",0,M30-SUM(P30:R30)) -> 0
B31: =IF(Tāme!B37="","",Tāme!B37) | C31: =IF(Tāme!D37="","",Tāme!D37) | D31: =Tāme!L37 | F31: =Tāme!I37 | K31: =IF(F31="",0,F31-SUM(G31:J31)) -> 0 | M31: =Tāme!K37 | N31: =Tāme!K37 | O31: =IF(Aprekiniem!$B$23=1,"",'Atbalsta noteikšana no 11.2025'!O26) | S31: =IF(M31="",0,M31-SUM(P31:R31)) -> 0
B32: =IF(Tāme!B38="","",Tāme!B38) | C32: =IF(Tāme!D38="","",Tāme!D38) | D32: =Tāme!L38 | F32: =Tāme!I38 | K32: =IF(F32="",0,F32-SUM(G32:J32)) -> 0 | M32: =Tāme!K38 | N32: =Tāme!K38 | O32: =IF(Aprekiniem!$B$23=1,"",'Atbalsta noteikšana no 11.2025'!#REF!) | S32: =IF(M32="",0,M32-SUM(P32:R32)) -> 0
B33: =IF(Tāme!B39="","",Tāme!B39) | C33: =IF(Tāme!D39="","",Tāme!D39) | D33: =Tāme!L39 | F33: =Tāme!I39 | K33: =IF(F33="",0,F33-SUM(G33:J33)) -> 0 | M33: =Tāme!K39 | N33: =Tāme!K39 | O33: =IF(Aprekiniem!$B$23=1,"",'Atbalsta noteikšana no 11.2025'!#REF!) | S33: =IF(M33="",0,M33-SUM(P33:R33)) -> 0
B34: =IF(Tāme!B40="","",Tāme!B40) | C34: =IF(Tāme!D40="","",Tāme!D40) | D34: =Tāme!L40 | F34: =Tāme!I40 | K34: =IF(F34="",0,F34-SUM(G34:J34)) -> 0 | M34: =Tāme!K40 | N34: =Tāme!K40 | O34: =IF(Aprekiniem!$B$23=1,"",'Atbalsta noteikšana no 11.2025'!#REF!) | S34: =IF(M34="",0,M34-SUM(P34:R34)) -> 0
B35: =IF(Tāme!B41="","",Tāme!B41) | C35: =IF(Tāme!D41="","",Tāme!D41) | D35: =Tāme!L41 | F35: =Tāme!I41 | K35: =IF(F35="",0,F35-SUM(G35:J35)) -> 0 | M35: =Tāme!K41 | N35: =Tāme!K41 | O35: =IF(Aprekiniem!$B$23=1,"",'Atbalsta noteikšana no 11.2025'!#REF!) | S35: =IF(M35="",0,M35-SUM(P35:R35)) -> 0
B36: =IF(Tāme!B42="","",Tāme!B42) | C36: =IF(Tāme!D42="","",Tāme!D42) | D36: =Tāme!L42 | F36: =Tāme!I42 | K36: =IF(F36="",0,F36-SUM(G36:J36)) -> 0 | M36: =Tāme!K42 | N36: =Tāme!K42 | O36: =IF(Aprekiniem!$B$23=1,"",'Atbalsta noteikšana no 11.2025'!#REF!) | S36: =IF(M36="",0,M36-SUM(P36:R36)) -> 0
B37: =IF(Tāme!B43="","",Tāme!B43) | C37: =IF(Tāme!D43="","",Tāme!D43) | D37: =Tāme!L43 | F37: =Tāme!I43 | K37: =IF(F37="",0,F37-SUM(G37:J37)) -> 0 | M37: =Tāme!K43 | N37: =Tāme!K43 | O37: =IF(Aprekiniem!$B$23=1,"",'Atbalsta noteikšana no 11.2025'!#REF!) | S37: =IF(M37="",0,M37-SUM(P37:R37)) -> 0
B38: =IF(Tāme!B44="","",Tāme!B44) | C38: =IF(Tāme!D44="","",Tāme!D44) | D38: =Tāme!L44 | F38: =Tāme!I44 | K38: =IF(F38="",0,F38-SUM(G38:J38)) -> 0 | M38: =Tāme!K44 | N38: =Tāme!K44 | O38: =IF(Aprekiniem!$B$23=1,"",'Atbalsta noteikšana no 11.2025'!#REF!) | S38: =IF(M38="",0,M38-SUM(P38:R38)) -> 0
B39: =IF(Tāme!B45="","",Tāme!B45) | C39: =IF(Tāme!D45="","",Tāme!D45) | D39: =Tāme!L45 | F39: =Tāme!I45 | K39: =IF(F39="",0,F39-SUM(G39:J39)) -> 0 | M39: =Tāme!K45 | N39: =Tāme!K45 | O39: =IF(Aprekiniem!$B$23=1,"",'Atbalsta noteikšana no 11.2025'!#REF!) | S39: =IF(M39="",0,M39-SUM(P39:R39)) -> 0
B40: =IF(Tāme!B46="","",Tāme!B46) | C40: =IF(Tāme!D46="","",Tāme!D46) | D40: =Tāme!L46 | F40: =Tāme!I46 | K40: =IF(F40="",0,F40-SUM(G40:J40)) -> 0 | M40: =Tāme!K46 | N40: =Tāme!K46 | O40: =IF(Aprekiniem!$B$23=1,"",'Atbalsta noteikšana no 11.2025'!#REF!) | S40: =IF(M40="",0,M40-SUM(P40:R40)) -> 0
B41: =IF(Tāme!B47="","",Tāme!B47) | C41: =IF(Tāme!D47="","",Tāme!D47) | D41: =Tāme!L47 | F41: =Tāme!I47 | K41: =IF(F41="",0,F41-SUM(G41:J41)) -> 0 | M41: =Tāme!K47 | N41: =Tāme!K47 | O41: =IF(Aprekiniem!$B$23=1,"",'Atbalsta noteikšana no 11.2025'!#REF!) | S41: =IF(M41="",0,M41-SUM(P41:R41)) -> 0
B42: =IF(Tāme!B48="","",Tāme!B48) | C42: =IF(Tāme!D48="","",Tāme!D48) | D42: =Tāme!L48 | F42: =Tāme!I48 | K42: =IF(F42="",0,F42-SUM(G42:J42)) -> 0 | M42: =Tāme!K48 | N42: =Tāme!K48 | O42: =IF(Aprekiniem!$B$23=1,"",'Atbalsta noteikšana no 11.2025'!#REF!) | S42: =IF(M42="",0,M42-SUM(P42:R42)) -> 0
B43: =IF(Tāme!B49="","",Tāme!B49) | C43: =IF(Tāme!D49="","",Tāme!D49) | D43: =Tāme!L49 | F43: =Tāme!I49 | K43: =IF(F43="",0,F43-SUM(G43:J43)) -> 0 | M43: =Tāme!K49 | N43: =Tāme!K49 | O43: =IF(Aprekiniem!$B$23=1,"",'Atbalsta noteikšana no 11.2025'!#REF!) | S43: =IF(M43="",0,M43-SUM(P43:R43)) -> 0
B44: Kopā: | D44: =D12+D28 -> 0 | F44: =F12+F28 -> 0 | G44: =G12+G28 -> 0 | H44: =H12+H28 -> 0 | I44: =I12+I28 -> 0 | J44: =J12+J28 -> 0 | K44: =K12+K28 -> 0 | M44: =M12+M28 -> 0 | N44: =N12+N28 -> 0 | O44: =O12+O28 -> 0 | P44: =P12+P28 -> 0 | Q44: =Q12+Q28 -> 0 | R44: =R12+R28 -> 0 | S44: =S12+S28 -> 0
B46: IZDEVUMU POZĪCIJAS, KAS NEVAR TIKT IEKĻAUTAS PROJEKTA KOPĒJĀS IZMAKSĀS, BET IR NEPIECIEŠAMAS PROJEKTA ĪSTENOŠANAI:
B48: Izmaksu pozīcija | P48: Aizņēmēja līdzdalība (brīva no publiskā atbalsta) | Q48: Cita finansētāja aizdevums (brīvs no publiskā atbalsta) | R48: Cits publiskais finansējums, kas saņemts līdz projekta pabeigšanai | S48: Summa, kurai nav norādīts finansējums:
B49: =Tāme!B57 -> IZDEVUMU POZĪCIJAS, KAS NEVAR TIKT IEKĻAUTAS PROJEKTA KOPĒJĀS IZMAKSĀS, BET IR NEPIECIEŠAMAS PROJEKTA ĪSTENOŠANAI | D49: =SUM(D50:D56) -> 0 | P49: =SUM(P50:P56) -> 0 | Q49: =SUM(Q50:Q56) -> 0 | R49: =SUM(R50:R56) -> 0 | S49: =SUM(S50:S56) -> 0
B50: =IF(Tāme!B61="","",Tāme!B61) | C50: =IF(Tāme!D61="","",Tāme!D61) | D50: =IF(Tāme!L61="","",Tāme!L61) | S50: =IF(D50="",0,D50-SUM(P50:R50)) -> 0
B51: =IF(Tāme!B62="","",Tāme!B62) | C51: =IF(Tāme!D62="","",Tāme!D62) | D51: =IF(Tāme!L62="","",Tāme!L62) | S51: =IF(D51="",0,D51-SUM(P51:R51)) -> 0
B52: =IF(Tāme!B63="","",Tāme!B63) | C52: =IF(Tāme!D63="","",Tāme!D63) | D52: =IF(Tāme!L63="","",Tāme!L63) | S52: =IF(D52="",0,D52-SUM(P52:R52)) -> 0
B53: =IF(Tāme!B64="","",Tāme!B64) | C53: =IF(Tāme!D64="","",Tāme!D64) | D53: =IF(Tāme!L64="","",Tāme!L64) | S53: =IF(D53="",0,D53-SUM(P53:R53)) -> 0
B54: =IF(Tāme!B65="","",Tāme!B65) | C54: =IF(Tāme!D65="","",Tāme!D65) | D54: =IF(Tāme!L65="","",Tāme!L65) | S54: =IF(D54="",0,D54-SUM(P54:R54)) -> 0
B55: =IF(Tāme!B66="","",Tāme!B66) | C55: =IF(Tāme!D66="","",Tāme!D66) | D55: =IF(Tāme!L66="","",Tāme!L66) | S55: =IF(D55="",0,D55-SUM(P55:R55)) -> 0
B56: =IF(Tāme!B67="","",Tāme!B67) | C56: =IF(Tāme!D67="","",Tāme!D67) | D56: =IF(Tāme!L67="","",Tāme!L67) | S56: =IF(D56="",0,D56-SUM(P56:R56)) -> 0
B57: Kopā: | D57: =SUM(D50:D56) -> 0 | P57: =SUM(P50:P56) -> 0 | Q57: =SUM(Q50:Q56) -> 0 | R57: =SUM(R50:R56) -> 0 | S57: =SUM(S50:S56) -> 0
B59: INFORMĀCIJA ATBALSTA PIETEIKUMAM (Šī informācija ir jānorāda, aizpildot atbalsta pieteikumu)
B60: Izmaksu veids | F60: Kopā, EUR | G60: t.sk. Aizņēmēja līdzdalība, EUR (brīva no publiskā atbalsta) | H60: t.sk. Cita finansētāja aizdevums, EUR (brīvs no publiskā atbalsta) | I60: t.sk. Cits publiskais finansējums, EUR (saņemts līdz projekta pabeigšanai) | J60: t.sk. ALTUM aizdevums, EUR
B61: Attiecināmās izmaksas kopā | F61: =F44 -> 0 | G61: =G44 -> 0 | H61: =H44 -> 0 | I61: =I44 -> 0 | J61: =J44 -> 0 | K61: =IF(F61=SUM(G61:J61),"","Dati nav korekti, nav norādīti izmaksu finansētāji")
B62: Neattiecināmās izmaksas kopā | F62: =M44 -> 0 | G62: =P44 -> 0 | H62: =Q44 -> 0 | I62: =R44 -> 0 | K62: =IF(F62=SUM(G62:J62),"","Dati nav korekti, nav norādīti izmaksu finansētāji")
B63: PROJEKTA KOPĒJĀS IZMAKSAS | F63: =F61+F62 -> 0 | G63: =G61+G62 -> 0 | H63: =H61+H62 -> 0 | I63: =I61+I62 -> 0 | K63: =IF(G63<(5%*F63),"Līdzdalībai jābūt vismaz 5% apmērā no projekta kopējām izmaksām","")
B64: Citas izmaksas, kas nevar tikt iekļautas projekta kopējās izmaksās, bet ir nepieciešamas projekta īstenošanai: | F64: =D57 -> 0 | G64: =P57 -> 0 | H64: =Q57 -> 0 | I64: =R57 -> 0 | K64: =IF(F64=SUM(G64:J64),"","Dati nav korekti, nav norādīti izmaksu finansētāji")
B65: Kopā | F65: =F63+F64 -> 0 | G65: =G63+G64 -> 0 | H65: =H63+H64 -> 0 | I65: =I63+I64 -> 0 | J65: =J61 -> 0 | K65: =IF(F65=Tāme!L53+Tāme!L68,"","Nesakrīt izmaksas ar darba lapu Tāme, aizpildiet darba lapu - Atbalsta noteikšana")
F67: =IF(Aprekiniem!B32=0,Aprekiniem!C32,"")
C69: =Aprekiniem!G4&".versija" -> 6.4.versija

Sheet Līguma pielikums
D1: Aizdevuma līguma Nr. | H1: =IF(E1="","Jānorāda līguma numurs!","") -> Jānorāda līguma numurs!
D3: Vai jākontrolē aizdevuma izmaksa katrai ieguldījuma vienībai? | H3: =IF(E3="JĀ", "zvaigzītes pazūd","")
Q6: Pielikums Nr.3
Q7: ="Aizdevuma līgumam Nr."&E1 -> Aizdevuma līgumam Nr.
Q8: Projekta izmaksu tāme
B10: ="Aizņēmējs: "&Tāme!E4&" (Reģ.Nr."&Tāme!E5&")" -> Aizņēmējs: (Reģ.Nr.)
B12: Izmaksu veidi un ieguldījumu vienības | D12: Projekta kopējās izmaksas kopā, EUR (t.sk. PVN) | F12: t.sk., Projekta Attiecināmās izmaksas kopā, EUR | G12: Projekta Attiecināmo izmaksu sadalījums pa finansētājiem, EUR | L12: t.sk., Projekta Neattiecināmās izmaksas kopā, EUR | M12: Neattiecināmo izmaksu sadalījums pa to veidiem, EUR | O12: Projekta Neattiecināmo izmaksu sadalījums pa finansētājiem, EUR
G13: Aizņēmēja līdzdalība (brīva no publiskā atbalsta) | H13: Finansētāja aizdevums (brīvs no publiskā atbalsta) | I13: Cits publiskais finansējums, kas saņemts līdz projekta pabeigšanai (LAD, LIAA u.c.) | J13: Aizdevēja Aizdevums | M13: PVN, EUR | N13: Attiecināmo izmaksu korekcija, ņemot vērā VGAR, EUR | O13: Aizņēmēja līdzdalība (brīva no publiskā atbalsta) | P13: Finansētāja aizdevums (brīvs no publiskā atbalsta) | Q13: Cits publiskais finansējums, kas saņemts līdz projekta pabeigšanai (LAD, LIAA u.c.)
B14: =Tāme!C10 -> I. ATJAUNOJAMO ENERGORESURSU TEHNOLOĢIJU IEVIEŠANA - RAŽOŠANAS IEKĀRTAS | D14: =SUM(D16:D27) -> 0 | F14: =SUM(F16:F27) -> 0 | G14: =SUM(G16:G27) -> 0 | H14: =SUM(H16:H27) -> 0 | I14: =SUM(I16:I27) -> 0 | J14: =SUM(J16:J27) -> 0 | L14: =SUM(L16:L27) -> 0 | M14: =SUM(M16:M27) -> 0 | N14: =SUM(N16:N27) -> 0 | O14: =SUM(O16:O27) -> 0 | P14: =SUM(P16:P27) -> 0 | Q14: =SUM(Q16:Q27) -> 0
B15: Izmaksu procentuālais sadalījums starp finansētājiem | F15: =SUM(G15:J15) -> 0 | G15: =IFERROR(G14/$F$14,"-") -> - | H15: =IFERROR(H14/$F$14,"-") -> - | I15: =IFERROR(I14/$F$14,"-") -> - | J15: =IFERROR(J14/$F$14,"-") -> - | L15: =SUM(O15:Q15) -> 0 | O15: =IFERROR(O14/$L$14,"-") -> - | P15: =IFERROR(P14/$L$14,"-") -> - | Q15: =IFERROR(Q14/$L$14,"-") -> -
B16: =IF(Finansējums!B13="","",Finansējums!B13) | C16: =IF(Finansējums!C13="","",Finansējums!C13) | D16: =IF(Finansējums!D13="","",Finansējums!D13) | F16: =IF(Finansējums!F13="","",Finansējums!F13) | G16: =IF(Finansējums!G13="","",Finansējums!G13) | H16: =IF(Finansējums!H13="","",Finansējums!H13) | I16: =IF(Finansējums!I13="","",Finansējums!I13) | J16: =IF(Finansējums!J13="","",Finansējums!J13) | L16: =IF(Finansējums!M13="","",Finansējums!M13) | M16: =IF(Finansējums!N13="","",Finansējums!N13) | N16: =IF(Finansējums!O13="","",Finansējums!O13) -> 0 | O16: =IF(Finansējums!P13="","",Finansējums!P13) | P16: =IF(Finansējums!Q13="","",Finansējums!Q13) | Q16: =IF(Finansējums!R13="","",Finansējums!R13)
B17: =IF(Finansējums!B14="","",Finansējums!B14) | C17: =IF(Finansējums!C14="","",Finansējums!C14) | D17: =IF(Finansējums!D14="","",Finansējums!D14) | F17: =IF(Finansējums!F14="","",Finansējums!F14) | G17: =IF(Finansējums!G14="","",Finansējums!G14) | H17: =IF(Finansējums!H14="","",Finansējums!H14) | I17: =IF(Finansējums!I14="","",Finansējums!I14) | J17: =IF(Finansējums!J14="","",Finansējums!J14) | L17: =IF(Finansējums!M14="","",Finansējums!M14) | M17: =IF(Finansējums!N14="","",Finansējums!N14) | N17: =IF(Finansējums!O14="","",Finansējums!O14) -> 0 | O17: =IF(Finansējums!P14="","",Finansējums!P14) | P17: =IF(Finansējums!Q14="","",Finansējums!Q14) | Q17: =IF(Finansējums!R14="","",Finansējums!R14)
B18: =IF(Finansējums!B15="","",Finansējums!B15) | C18: =IF(Finansējums!C15="","",Finansējums!C15) | D18: =IF(Finansējums!D15="","",Finansējums!D15) | F18: =IF(Finansējums!F15="","",Finansējums!F15) | G18: =IF(Finansējums!G15="","",Finansējums!G15) | H18: =IF(Finansējums!H15="","",Finansējums!H15) | I18: =IF(Finansējums!I15="","",Finansējums!I15) | J18: =IF(Finansējums!J15="","",Finansējums!J15) | L18: =IF(Finansējums!M15="","",Finansējums!M15) | M18: =IF(Finansējums!N15="","",Finansējums!N15) | N18: =IF(Finansējums!O15="","",Finansējums!O15) -> 0 | O18: =IF(Finansējums!P15="","",Finansējums!P15) | P18: =IF(Finansējums!Q15="","",Finansējums!Q15) | Q18: =IF(Finansējums!R15="","",Finansējums!R15)
B19: =IF(Finansējums!B16="","",Finansējums!B16) | C19: =IF(Finansējums!C16="","",Finansējums!C16) | D19: =IF(Finansējums!D16="","",Finansējums!D16) | F19: =IF(Finansējums!F16="","",Finansējums!F16) | G19: =IF(Finansējums!G16="","",Finansējums!G16) | H19: =IF(Finansējums!H16="","",Finansējums!H16) | I19: =IF(Finansējums!I16="","",Finansējums!I16) | J19: =IF(Finansējums!J16="","",Finansējums!J16) | L19: =IF(Finansējums!M16="","",Finansējums!M16) | M19: =IF(Finansējums!N16="","",Finansējums!N16) | N19: =IF(Finansējums!O16="","",Finansējums!O16) -> 0 | O19: =IF(Finansējums!P16="","",Finansējums!P16) | P19: =IF(Finansējums!Q16="","",Finansējums!Q16) | Q19: =IF(Finansējums!R16="","",Finansējums!R16)
B20: =IF(Finansējums!B17="","",Finansējums!B17) | C20: =IF(Finansējums!C17="","",Finansējums!C17) | D20: =IF(Finansējums!D17="","",Finansējums!D17) | F20: =IF(Finansējums!F17="","",Finansējums!F17) | G20: =IF(Finansējums!G17="","",Finansējums!G17) | H20: =IF(Finansējums!H17="","",Finansējums!H17) | I20: =IF(Finansējums!I17="","",Finansējums!I17) | J20: =IF(Finansējums!J17="","",Finansējums!J17) | L20: =IF(Finansējums!M17="","",Finansējums!M17) | M20: =IF(Finansējums!N17="","",Finansējums!N17) | N20: =IF(Finansējums!O17="","",Finansējums!O17) -> 0 | O20: =IF(Finansējums!P17="","",Finansējums!P17) | P20: =IF(Finansējums!Q17="","",Finansējums!Q17) | Q20: =IF(Finansējums!R17="","",Finansējums!R17)
B21: =IF(Finansējums!B18="","",Finansējums!B18) | C21: =IF(Finansējums!C18="","",Finansējums!C18) | D21: =IF(Finansējums!D18="","",Finansējums!D18) | F21: =IF(Finansējums!F18="","",Finansējums!F18) | G21: =IF(Finansējums!G18="","",Finansējums!G18) | H21: =IF(Finansējums!H18="","",Finansējums!H18) | I21: =IF(Finansējums!I18="","",Finansējums!I18) | J21: =IF(Finansējums!J18="","",Finansējums!J18) | L21: =IF(Finansējums!M18="","",Finansējums!M18) | M21: =IF(Finansējums!N18="","",Finansējums!N18) | N21: =IF(Finansējums!O18="","",Finansējums!O18) -> 0 | O21: =IF(Finansējums!P18="","",Finansējums!P18) | P21: =IF(Finansējums!Q18="","",Finansējums!Q18) | Q21: =IF(Finansējums!R18="","",Finansējums!R18)
B22: =IF(Finansējums!B19="","",Finansējums!B19) | C22: =IF(Finansējums!C19="","",Finansējums!C19) | D22: =IF(Finansējums!D19="","",Finansējums!D19) | F22: =IF(Finansējums!F19="","",Finansējums!F19) | G22: =IF(Finansējums!G19="","",Finansējums!G19) | H22: =IF(Finansējums!H19="","",Finansējums!H19) | I22: =IF(Finansējums!I19="","",Finansējums!I19) | J22: =IF(Finansējums!J19="","",Finansējums!J19) | L22: =IF(Finansējums!M19="","",Finansējums!M19) | M22: =IF(Finansējums!N19="","",Finansējums!N19) | N22: =IF(Finansējums!O19="","",Finansējums!O19) -> 0 | O22: =IF(Finansējums!P19="","",Finansējums!P19) | P22: =IF(Finansējums!Q19="","",Finansējums!Q19) | Q22: =IF(Finansējums!R19="","",Finansējums!R19)
B23: =IF(Finansējums!B20="","",Finansējums!B20) | C23: =IF(Finansējums!C20="","",Finansējums!C20) | D23: =IF(Finansējums!D20="","",Finansējums!D20) | F23: =IF(Finansējums!F20="","",Finansējums!F20) | G23: =IF(Finansējums!G20="","",Finansējums!G20) | H23: =IF(Finansējums!H20="","",Finansējums!H20) | I23: =IF(Finansējums!I20="","",Finansējums!I20) | J23: =IF(Finansējums!J20="","",Finansējums!J20) | L23: =IF(Finansējums!M20="","",Finansējums!M20) | M23: =IF(Finansējums!N20="","",Finansējums!N20) | N23: =IF(Finansējums!O20="","",Finansējums!O20) -> 0 | O23: =IF(Finansējums!P20="","",Finansējums!P20) | P23: =IF(Finansējums!Q20="","",Finansējums!Q20) | Q23: =IF(Finansējums!R20="","",Finansējums!R20)
B24: =IF(Finansējums!B21="","",Finansējums!B21) | C24: =IF(Finansējums!C21="","",Finansējums!C21) | D24: =IF(Finansējums!D21="","",Finansējums!D21) | F24: =IF(Finansējums!F21="","",Finansējums!F21) | G24: =IF(Finansējums!G21="","",Finansējums!G21) | H24: =IF(Finansējums!H21="","",Finansējums!H21) | I24: =IF(Finansējums!I21="","",Finansējums!I21) | J24: =IF(Finansējums!J21="","",Finansējums!J21) | L24: =IF(Finansējums!M21="","",Finansējums!M21) | M24: =IF(Finansējums!N21="","",Finansējums!N21) | N24: =IF(Finansējums!O21="","",Finansējums!O21) -> 0 | O24: =IF(Finansējums!P21="","",Finansējums!P21) | P24: =IF(Finansējums!Q21="","",Finansējums!Q21) | Q24: =IF(Finansējums!R21="","",Finansējums!R21)
B25: =IF(Finansējums!B22="","",Finansējums!B22) | C25: =IF(Finansējums!C22="","",Finansējums!C22) | D25: =IF(Finansējums!D22="","",Finansējums!D22) | F25: =IF(Finansējums!F22="","",Finansējums!F22) | G25: =IF(Finansējums!G22="","",Finansējums!G22) | H25: =IF(Finansējums!H22="","",Finansējums!H22) | I25: =IF(Finansējums!I22="","",Finansējums!I22) | J25: =IF(Finansējums!J22="","",Finansējums!J22) | L25: =IF(Finansējums!M22="","",Finansējums!M22) | M25: =IF(Finansējums!N22="","",Finansējums!N22) | N25: =IF(Finansējums!O22="","",Finansējums!O22) -> 0 | O25: =IF(Finansējums!P22="","",Finansējums!P22) | P25: =IF(Finansējums!Q22="","",Finansējums!Q22) | Q25: =IF(Finansējums!R22="","",Finansējums!R22)
B26: =IF(Finansējums!B23="","",Finansējums!B23) | C26: =IF(Finansējums!C23="","",Finansējums!C23) | D26: =IF(Finansējums!D23="","",Finansējums!D23) | F26: =IF(Finansējums!F23="","",Finansējums!F23) | G26: =IF(Finansējums!G23="","",Finansējums!G23) | H26: =IF(Finansējums!H23="","",Finansējums!H23) | I26: =IF(Finansējums!I23="","",Finansējums!I23) | J26: =IF(Finansējums!J23="","",Finansējums!J23) | L26: =IF(Finansējums!M23="","",Finansējums!M23) | M26: =IF(Finansējums!N23="","",Finansējums!N23) | N26: =IF(Finansējums!O23="","",Finansējums!O23) -> 0 | O26: =IF(Finansējums!P23="","",Finansējums!P23) | P26: =IF(Finansējums!Q23="","",Finansējums!Q23) | Q26: =IF(Finansējums!R23="","",Finansējums!R23)
B27: =IF(Finansējums!B24="","",Finansējums!B24) | C27: =IF(Finansējums!C24="","",Finansējums!C24) | D27: =IF(Finansējums!D24="","",Finansējums!D24) | F27: =IF(Finansējums!F24="","",Finansējums!F24) | G27: =IF(Finansējums!G24="","",Finansējums!G24) | H27: =IF(Finansējums!H24="","",Finansējums!H24) | I27: =IF(Finansējums!I24="","",Finansējums!I24) | J27: =IF(Finansējums!J24="","",Finansējums!J24) | L27: =IF(Finansējums!M24="","",Finansējums!M24) | M27: =IF(Finansējums!N24="","",Finansējums!N24) | N27: =IF(Finansējums!O24="","",Finansējums!O24) -> 0 | O27: =IF(Finansējums!P24="","",Finansējums!P24) | P27: =IF(Finansējums!Q24="","",Finansējums!Q24) | Q27: =IF(Finansējums!R24="","",Finansējums!R24)
B28: =Tāme!C31 -> II. ATJAUNOJAMO ENERGORESURSU TEHNOLOĢIJU IEVIEŠANA - AKUMULĒŠANAS IEKĀRTAS | D28: =SUM(D30:D41) -> 0 | F28: =SUM(F30:F41) -> 0 | G28: =SUM(G30:G41) -> 0 | H28: =SUM(H30:H41) -> 0 | I28: =SUM(I30:I41) -> 0 | J28: =SUM(J30:J41) -> 0 | L28: =SUM(L30:L41) -> 0 | M28: =SUM(M30:M41) -> 0 | N28: =SUM(N30:N41) -> 0 | O28: =SUM(O30:O41) -> 0 | P28: =SUM(P30:P41) -> 0 | Q28: =SUM(Q30:Q41) -> 0
B29: Izmaksu procentuālais sadalījums starp finansētājiem | F29: =SUM(G29:J29) -> 0 | G29: =IFERROR(G28/$F$28,"-") -> - | H29: =IFERROR(H28/$F$28,"-") -> - | I29: =IFERROR(I28/$F$28,"-") -> - | J29: =IFERROR(J28/$F$28,"-") -> - | L29: =SUM(O29:Q29) -> 0 | O29: =IFERROR(O28/$L$28,"-") -> - | P29: =IFERROR(P28/$L$28,"-") -> - | Q29: =IFERROR(Q28/$L$28,"-") -> -
B30: =IF(Finansējums!B29="","",Finansējums!B29) | C30: =IF(Finansējums!C29="","",Finansējums!C29) | D30: =IF(Finansējums!D29="","",Finansējums!D29) | F30: =IF(Finansējums!F29="","",Finansējums!F29) | G30: =IF(Finansējums!G29="","",Finansējums!G29) | H30: =IF(Finansējums!H29="","",Finansējums!H29) | I30: =IF(Finansējums!I29="","",Finansējums!I29) | J30: =IF(Finansējums!J29="","",Finansējums!J29) | L30: =IF(Finansējums!M29="","",Finansējums!M29) | M30: =IF(Finansējums!N29="","",Finansējums!N29) | N30: =IF(Finansējums!O29="","",Finansējums!O29) | O30: =IF(Finansējums!P29="","",Finansējums!P29) | P30: =IF(Finansējums!Q29="","",Finansējums!Q29) | Q30: =IF(Finansējums!R29="","",Finansējums!R29)
B31: =IF(Finansējums!B30="","",Finansējums!B30) | C31: =IF(Finansējums!C30="","",Finansējums!C30) | D31: =IF(Finansējums!D30="","",Finansējums!D30) | F31: =IF(Finansējums!F30="","",Finansējums!F30) | G31: =IF(Finansējums!G30="","",Finansējums!G30) | H31: =IF(Finansējums!H30="","",Finansējums!H30) | I31: =IF(Finansējums!I30="","",Finansējums!I30) | J31: =IF(Finansējums!J30="","",Finansējums!J30) | L31: =IF(Finansējums!M30="","",Finansējums!M30) | M31: =IF(Finansējums!N30="","",Finansējums!N30) | N31: =IF(Finansējums!O30="","",Finansējums!O30) | O31: =IF(Finansējums!P30="","",Finansējums!P30) | P31: =IF(Finansējums!Q30="","",Finansējums!Q30) | Q31: =IF(Finansējums!R30="","",Finansējums!R30)
B32: =IF(Finansējums!B31="","",Finansējums!B31) | C32: =IF(Finansējums!C31="","",Finansējums!C31) | D32: =IF(Finansējums!D31="","",Finansējums!D31) | F32: =IF(Finansējums!F31="","",Finansējums!F31) | G32: =IF(Finansējums!G31="","",Finansējums!G31) | H32: =IF(Finansējums!H31="","",Finansējums!H31) | I32: =IF(Finansējums!I31="","",Finansējums!I31) | J32: =IF(Finansējums!J31="","",Finansējums!J31) | L32: =IF(Finansējums!M31="","",Finansējums!M31) | M32: =IF(Finansējums!N31="","",Finansējums!N31) | N32: =IF(Finansējums!O31="","",Finansējums!O31) | O32: =IF(Finansējums!P31="","",Finansējums!P31) | P32: =IF(Finansējums!Q31="","",Finansējums!Q31) | Q32: =IF(Finansējums!R31="","",Finansējums!R31)
B33: =IF(Finansējums!B32="","",Finansējums!B32) | C33: =IF(Finansējums!C32="","",Finansējums!C32) | D33: =IF(Finansējums!D32="","",Finansējums!D32) | F33: =IF(Finansējums!F32="","",Finansējums!F32) | G33: =IF(Finansējums!G32="","",Finansējums!G32) | H33: =IF(Finansējums!H32="","",Finansējums!H32) | I33: =IF(Finansējums!I32="","",Finansējums!I32) | J33: =IF(Finansējums!J32="","",Finansējums!J32) | L33: =IF(Finansējums!M32="","",Finansējums!M32) | M33: =IF(Finansējums!N32="","",Finansējums!N32) | N33: =IF(Finansējums!O32="","",Finansējums!O32) | O33: =IF(Finansējums!P32="","",Finansējums!P32) | P33: =IF(Finansējums!Q32="","",Finansējums!Q32) | Q33: =IF(Finansējums!R32="","",Finansējums!R32)
B34: =IF(Finansējums!B33="","",Finansējums!B33) | C34: =IF(Finansējums!C33="","",Finansējums!C33) | D34: =IF(Finansējums!D33="","",Finansējums!D33) | F34: =IF(Finansējums!F33="","",Finansējums!F33) | G34: =IF(Finansējums!G33="","",Finansējums!G33) | H34: =IF(Finansējums!H33="","",Finansējums!H33) | I34: =IF(Finansējums!I33="","",Finansējums!I33) | J34: =IF(Finansējums!J33="","",Finansējums!J33) | L34: =IF(Finansējums!M33="","",Finansējums!M33) | M34: =IF(Finansējums!N33="","",Finansējums!N33) | N34: =IF(Finansējums!O33="","",Finansējums!O33) | O34: =IF(Finansējums!P33="","",Finansējums!P33) | P34: =IF(Finansējums!Q33="","",Finansējums!Q33) | Q34: =IF(Finansējums!R33="","",Finansējums!R33)
B35: =IF(Finansējums!B34="","",Finansējums!B34) | C35: =IF(Finansējums!C34="","",Finansējums!C34) | D35: =IF(Finansējums!D34="","",Finansējums!D34) | F35: =IF(Finansējums!F34="","",Finansējums!F34) | G35: =IF(Finansējums!G34="","",Finansējums!G34) | H35: =IF(Finansējums!H34="","",Finansējums!H34) | I35: =IF(Finansējums!I34="","",Finansējums!I34) | J35: =IF(Finansējums!J34="","",Finansējums!J34) | L35: =IF(Finansējums!M34="","",Finansējums!M34) | M35: =IF(Finansējums!N34="","",Finansējums!N34) | N35: =IF(Finansējums!O34="","",Finansējums!O34) | O35: =IF(Finansējums!P34="","",Finansējums!P34) | P35: =IF(Finansējums!Q34="","",Finansējums!Q34) | Q35: =IF(Finansējums!R34="","",Finansējums!R34)
B36: =IF(Finansējums!B35="","",Finansējums!B35) | C36: =IF(Finansējums!C35="","",Finansējums!C35) | D36: =IF(Finansējums!D35="","",Finansējums!D35) | F36: =IF(Finansējums!F35="","",Finansējums!F35) | G36: =IF(Finansējums!G35="","",Finansējums!G35) | H36: =IF(Finansējums!H35="","",Finansējums!H35) | I36: =IF(Finansējums!I35="","",Finansējums!I35) | J36: =IF(Finansējums!J35="","",Finansējums!J35) | L36: =IF(Finansējums!M35="","",Finansējums!M35) | M36: =IF(Finansējums!N35="","",Finansējums!N35) | N36: =IF(Finansējums!O35="","",Finansējums!O35) | O36: =IF(Finansējums!P35="","",Finansējums!P35) | P36: =IF(Finansējums!Q35="","",Finansējums!Q35) | Q36: =IF(Finansējums!R35="","",Finansējums!R35)
B37: =IF(Finansējums!B36="","",Finansējums!B36) | C37: =IF(Finansējums!C36="","",Finansējums!C36) | D37: =IF(Finansējums!D36="","",Finansējums!D36) | F37: =IF(Finansējums!F36="","",Finansējums!F36) | G37: =IF(Finansējums!G36="","",Finansējums!G36) | H37: =IF(Finansējums!H36="","",Finansējums!H36) | I37: =IF(Finansējums!I36="","",Finansējums!I36) | J37: =IF(Finansējums!J36="","",Finansējums!J36) | L37: =IF(Finansējums!M36="","",Finansējums!M36) | M37: =IF(Finansējums!N36="","",Finansējums!N36) | N37: =IF(Finansējums!O36="","",Finansējums!O36) | O37: =IF(Finansējums!P36="","",Finansējums!P36) | P37: =IF(Finansējums!Q36="","",Finansējums!Q36) | Q37: =IF(Finansējums!R36="","",Finansējums!R36)
B38: =IF(Finansējums!B37="","",Finansējums!B37) | C38: =IF(Finansējums!C37="","",Finansējums!C37) | D38: =IF(Finansējums!D37="","",Finansējums!D37) | F38: =IF(Finansējums!F37="","",Finansējums!F37) | G38: =IF(Finansējums!G37="","",Finansējums!G37) | H38: =IF(Finansējums!H37="","",Finansējums!H37) | I38: =IF(Finansējums!I37="","",Finansējums!I37) | J38: =IF(Finansējums!J37="","",Finansējums!J37) | L38: =IF(Finansējums!M37="","",Finansējums!M37) | M38: =IF(Finansējums!N37="","",Finansējums!N37) | N38: =IF(Finansējums!O37="","",Finansējums!O37) | O38: =IF(Finansējums!P37="","",Finansējums!P37) | P38: =IF(Finansējums!Q37="","",Finansējums!Q37) | Q38: =IF(Finansējums!R37="","",Finansējums!R37)
B39: =IF(Finansējums!B38="","",Finansējums!B38) | C39: =IF(Finansējums!C38="","",Finansējums!C38) | D39: =IF(Finansējums!D38="","",Finansējums!D38) | F39: =IF(Finansējums!F38="","",Finansējums!F38) | G39: =IF(Finansējums!G38="","",Finansējums!G38) | H39: =IF(Finansējums!H38="","",Finansējums!H38) | I39: =IF(Finansējums!I38="","",Finansējums!I38) | J39: =IF(Finansējums!J38="","",Finansējums!J38) | L39: =IF(Finansējums!M38="","",Finansējums!M38) | M39: =IF(Finansējums!N38="","",Finansējums!N38) | N39: =IF(Finansējums!O38="","",Finansējums!O38) | O39: =IF(Finansējums!P38="","",Finansējums!P38) | P39: =IF(Finansējums!Q38="","",Finansējums!Q38) | Q39: =IF(Finansējums!R38="","",Finansējums!R38)
B40: =IF(Finansējums!B39="","",Finansējums!B39) | C40: =IF(Finansējums!C39="","",Finansējums!C39) | D40: =IF(Finansējums!D39="","",Finansējums!D39) | F40: =IF(Finansējums!F39="","",Finansējums!F39) | G40: =IF(Finansējums!G39="","",Finansējums!G39) | H40: =IF(Finansējums!H39="","",Finansējums!H39) | I40: =IF(Finansējums!I39="","",Finansējums!I39) | J40: =IF(Finansējums!J39="","",Finansējums!J39) | L40: =IF(Finansējums!M39="","",Finansējums!M39) | M40: =IF(Finansējums!N39="","",Finansējums!N39) | N40: =IF(Finansējums!O39="","",Finansējums!O39) | O40: =IF(Finansējums!P39="","",Finansējums!P39) | P40: =IF(Finansējums!Q39="","",Finansējums!Q39) | Q40: =IF(Finansējums!R39="","",Finansējums!R39)
B41: =IF(Finansējums!B40="","",Finansējums!B40) | C41: =IF(Finansējums!C40="","",Finansējums!C40) | D41: =IF(Finansējums!D40="","",Finansējums!D40) | F41: =IF(Finansējums!F40="","",Finansējums!F40) | G41: =IF(Finansējums!G40="","",Finansējums!G40) | H41: =IF(Finansējums!H40="","",Finansējums!H40) | I41: =IF(Finansējums!I40="","",Finansējums!I40) | J41: =IF(Finansējums!J40="","",Finansējums!J40) | L41: =IF(Finansējums!M40="","",Finansējums!M40) | M41: =IF(Finansējums!N40="","",Finansējums!N40) | N41: =IF(Finansējums!O40="","",Finansējums!O40) | O41: =IF(Finansējums!P40="","",Finansējums!P40) | P41: =IF(Finansējums!Q40="","",Finansējums!Q40) | Q41: =IF(Finansējums!R40="","",Finansējums!R40)
B42: PROJEKTA KOPĒJĀS IZMAKSAS: | C42: Kopā | D42: =D14+D28 -> 0 | F42: =F14+F28 -> 0 | G42: =G14+G28 -> 0 | H42: =H14+H28 -> 0 | I42: =I14+I28 -> 0 | J42: =J14+J28 -> 0 | L42: =L14+L28 -> 0 | M42: =M14+M28 -> 0 | N42: =N14+N28 -> 0 | O42: =O14+O28 -> 0 | P42: =P14+P28 -> 0 | Q42: =Q14+Q28 -> 0
B44: Izmaksu veids un ieguldījumu vienības | D44: Citas izmaksas kopā, EUR (t.sk. PVN) | F44: Citu izmaksu sadalījums pa finansētājiem, EUR
F45: Aizņēmēja līdzdalība (brīva no publiskā atbalsta) | G45: Finansētāja aizdevums (brīvs no publiskā atbalsta) | H45: Cits publiskais finansējums, kas saņemts līdz projekta pabeigšanai (LAD, LIAA u.c.)
B46: =Tāme!B57 -> IZDEVUMU POZĪCIJAS, KAS NEVAR TIKT IEKĻAUTAS PROJEKTA KOPĒJĀS IZMAKSĀS, BET IR NEPIECIEŠAMAS PROJEKTA ĪSTENOŠANAI | D46: =SUM(D47:D53) -> 0 | E46: =SUM(E47:E53) -> 0 | F46: =SUM(F47:F53) -> 0 | G46: =SUM(G47:G53) -> 0 | H46: =SUM(H47:H53) -> 0
B47: =Finansējums!B50 | C47: =Finansējums!C50 | D47: =IF(Finansējums!D50="","",Finansējums!D50) | F47: =IF(Finansējums!P50="","",Finansējums!P50) | G47: =IF(Finansējums!Q50="","",Finansējums!Q50) | H47: =IF(Finansējums!R50="","",Finansējums!R50)
B48: =Finansējums!B51 | C48: =Finansējums!C51 | D48: =IF(Finansējums!D51="","",Finansējums!D51) | F48: =IF(Finansējums!P51="","",Finansējums!P51) | G48: =IF(Finansējums!Q51="","",Finansējums!Q51) | H48: =IF(Finansējums!R51="","",Finansējums!R51)
B49: =Finansējums!B52 | C49: =Finansējums!C52 | D49: =IF(Finansējums!D52="","",Finansējums!D52) | F49: =IF(Finansējums!P52="","",Finansējums!P52) | G49: =IF(Finansējums!Q52="","",Finansējums!Q52) | H49: =IF(Finansējums!R52="","",Finansējums!R52)
B50: =Finansējums!B53 | C50: =Finansējums!C53 | D50: =IF(Finansējums!D53="","",Finansējums!D53) | F50: =IF(Finansējums!P53="","",Finansējums!P53) | G50: =IF(Finansējums!Q53="","",Finansējums!Q53) | H50: =IF(Finansējums!R53="","",Finansējums!R53)
B51: =Finansējums!B54 | C51: =Finansējums!C54 | D51: =IF(Finansējums!D54="","",Finansējums!D54) | F51: =IF(Finansējums!P54="","",Finansējums!P54) | G51: =IF(Finansējums!Q54="","",Finansējums!Q54) | H51: =IF(Finansējums!R54="","",Finansējums!R54)
B52: =Finansējums!B55 | C52: =Finansējums!C55 | D52: =IF(Finansējums!D55="","",Finansējums!D55) | F52: =IF(Finansējums!P55="","",Finansējums!P55) | G52: =IF(Finansējums!Q55="","",Finansējums!Q55) | H52: =IF(Finansējums!R55="","",Finansējums!R55)
B53: =Finansējums!B56 | C53: =Finansējums!C56 | D53: =IF(Finansējums!D56="","",Finansējums!D56) | F53: =IF(Finansējums!P56="","",Finansējums!P56) | G53: =IF(Finansējums!Q56="","",Finansējums!Q56) | H53: =IF(Finansējums!R56="","",Finansējums!R56)
B55: * | C55: Aizņēmēja līdzdalība sadalījumā pa ieguldījumu vienībām netiek veikta. Aizņēmējam līdzdalība jānodrošina ne mazāk kā izmaksu veida kopējā apmērā.
B56: ** | C56: Aizdevēja aizdevums sadalījumā pa ieguldījumu vienībām netiek veikts. Aizdevumam jābūt ne vairāk kā izmaksu veida kopējā apmērā.
B57: *** | C57: Finansētāja aizdevums sadalījumā pa ieguldījumu vienībām netiek veikts. Finansētāja aizdevumam jābūt izmaksu veida kopējā apmērā.
B58: **** | C58: Cita atbalsta sniedzēja atbalsts sadalījumā pa ieguldījumu vienībām netiek veikts. Citam atbalstam jābūt izmaksu veida kopējā apmērā.
B60: Pārējie noteikumi saskaņā ar Aizdevuma līgumā un Aizdevuma līguma noteikumos noteikto. Šis pielikums ir neatņemama Aizdevuma līguma sastāvdaļa.

Sheet Faktisko izmaksu pārskats
B1: PROJEKTA FAKTISKĀS IZMAKSAS
B2: Aizņēmējs | C2: =Tāme!E4 -> 0
B3: Reģ.nr. | C3: =Tāme!E5 -> 0
B4: Aizdevuma līgums Nr. | C4: ='Līguma pielikums'!E1 -> 0
B7: Rēķina datums, nr. | C7: Rēķina priekšmets | D7: Rēķina vai cita apmaksas dokumenta kopsumma, EUR | F7: Rēķina sadalījums pa izmaksu veidiem | N7: PĀRBAUDE | P7: Rēķina sadalījums pa apmaksas avotiem | W7: Pārbaude (vai Altum aizdevums tikai attiecināmām izmaksām?) | X7: Pārbaude (vai segta pilna rēķina summa) | Y7: Pamatojuma dokumenti (norāda maksājuma datumu, summu, ja viens maksājums attiecināms uz vairākiem rēķiniem - norāda precīzu sadalījumu)
F8: t.sk., Citas izmaksas, kas nav iekļaujamas projekta izmaksās kopā, t.sk. PVN, EUR | H8: t.sk. Neattiecināmās izmaksas, PVN, EUR | J8: t.sk., Attiecināmās izmaksas kopā, EUR | L8: t.sk., Neattiecināmās izmaksas VGAR, EUR | N8: Rēķinā vai apmaksas dokumentā iekļautās projekta kopējās izmaksas, EUR | P8: Līdzdalība | S8: Cita finansētāja aizdevums | V8: Altum aizdevums attiecināmajām izmaksām
P9: Citām izmaksām | Q9: Neattiecināmajām izmaksām | R9: Attiecināmajām izmaksām | S9: Citām izmaksām | T9: Neattiecināmajām izmaksām | U9: Attiecināmajām izmaksām
N11: =H11+J11+L11 -> 0 | W11: =IFERROR(IF(V11>J11,"Altum aizdevums nevar pārsniegt attiecināmās izmaksas!","OK"),"") -> OK | X11: =_xlfn.IFNA(IF(SUM(P11:V11)<>D11,"Izmaksas nav pilnībā sadalītas!","OK"),"") -> OK
N12: =H12+J12+L12 -> 0 | W12: =IFERROR(IF(V12>J12,"Altum aizdevums nevar pārsniegt attiecināmās izmaksas!","OK"),"") -> OK | X12: =_xlfn.IFNA(IF(SUM(P12:V12)<>D12,"Izmaksas nav pilnībā sadalītas!","OK"),"") -> OK
N13: =H13+J13+L13 -> 0 | W13: =IFERROR(IF(V13>J13,"Altum aizdevums nevar pārsniegt attiecināmās izmaksas!","OK"),"") -> OK | X13: =_xlfn.IFNA(IF(SUM(P13:V13)<>D13,"Izmaksas nav pilnībā sadalītas!","OK"),"") -> OK
N14: =H14+J14+L14 -> 0 | W14: =IFERROR(IF(V14>J14,"Altum aizdevums nevar pārsniegt attiecināmās izmaksas!","OK"),"") -> OK | X14: =_xlfn.IFNA(IF(SUM(P14:V14)<>D14,"Izmaksas nav pilnībā sadalītas!","OK"),"") -> OK
N15: =H15+J15+L15 -> 0 | W15: =IFERROR(IF(V15>J15,"Altum aizdevums nevar pārsniegt attiecināmās izmaksas!","OK"),"") -> OK | X15: =_xlfn.IFNA(IF(SUM(P15:V15)<>D15,"Izmaksas nav pilnībā sadalītas!","OK"),"") -> OK
N16: =H16+J16+L16 -> 0 | W16: =IFERROR(IF(V16>J16,"Altum aizdevums nevar pārsniegt attiecināmās izmaksas!","OK"),"") -> OK | X16: =_xlfn.IFNA(IF(SUM(P16:V16)<>D16,"Izmaksas nav pilnībā sadalītas!","OK"),"") -> OK
N17: =H17+J17+L17 -> 0 | W17: =IFERROR(IF(V17>J17,"Altum aizdevums nevar pārsniegt attiecināmās izmaksas!","OK"),"") -> OK | X17: =_xlfn.IFNA(IF(SUM(P17:V17)<>D17,"Izmaksas nav pilnībā sadalītas!","OK"),"") -> OK
N18: =H18+J18+L18 -> 0 | W18: =IFERROR(IF(V18>J18,"Altum aizdevums nevar pārsniegt attiecināmās izmaksas!","OK"),"") -> OK | X18: =_xlfn.IFNA(IF(SUM(P18:V18)<>D18,"Izmaksas nav pilnībā sadalītas!","OK"),"") -> OK
N19: =H19+J19+L19 -> 0 | W19: =IFERROR(IF(V19>J19,"Altum aizdevums nevar pārsniegt attiecināmās izmaksas!","OK"),"") -> OK | X19: =_xlfn.IFNA(IF(SUM(P19:V19)<>D19,"Izmaksas nav pilnībā sadalītas!","OK"),"") -> OK
N20: =H20+J20+L20 -> 0 | W20: =IFERROR(IF(V20>J20,"Altum aizdevums nevar pārsniegt attiecināmās izmaksas!","OK"),"") -> OK | X20: =_xlfn.IFNA(IF(SUM(P20:V20)<>D20,"Izmaksas nav pilnībā sadalītas!","OK"),"") -> OK
N21: =H21+J21+L21 -> 0 | W21: =IFERROR(IF(V21>J21,"Altum aizdevums nevar pārsniegt attiecināmās izmaksas!","OK"),"") -> OK | X21: =_xlfn.IFNA(IF(SUM(P21:V21)<>D21,"Izmaksas nav pilnībā sadalītas!","OK"),"") -> OK
B22: KOPSUMMA | D22: =SUM(D11:D21) -> 0 | E22: =SUM(E11:E21) -> 0 | F22: =SUM(F11:F21) -> 0 | G22: =SUM(G11:G21) -> 0 | H22: =SUM(H11:H21) -> 0 | I22: =SUM(I11:I21) -> 0 | J22: =SUM(J11:J21) -> 0 | K22: =SUM(K11:K21) -> 0 | L22: =SUM(L11:L21) -> 0 | N22: =SUM(N11:N21) -> 0 | P22: =SUM(P11:P21) -> 0 | Q22: =SUM(Q11:Q21) -> 0 | R22: =SUM(R11:R21) -> 0 | S22: =SUM(S11:S21) -> 0 | T22: =SUM(T11:T21) -> 0 | U22: =SUM(U11:U21) -> 0 | V22: =SUM(V11:V21) -> 0
B26: Pārbaude saskaņā ar aizdevuma līguma 3.pielikumu
B27: KOPSUMMA saskaņā ar aizdevuma līguma 3.pielikumu | E27: 0 | F27: ='Līguma pielikums'!D46 -> 0 | H27: ='Līguma pielikums'!M42 -> 0 | J27: ='Līguma pielikums'!F42 -> 0 | L27: ='Līguma pielikums'!N42 -> 0 | N27: ='Līguma pielikums'!D42 -> 0 | P27: ='Līguma pielikums'!F46 -> 0 | Q27: ='Līguma pielikums'!O42 -> 0 | R27: ='Līguma pielikums'!G42 -> 0 | S27: ='Līguma pielikums'!G46 -> 0 | T27: ='Līguma pielikums'!P42 -> 0 | U27: ='Līguma pielikums'!H42 -> 0 | V27: ='Līguma pielikums'!J42 -> 0
B28: Faktiskās izmaksas | E28: =E22 -> 0 | F28: =F22 -> 0 | G28: =G22 -> 0 | H28: =H22 -> 0 | I28: =I22 -> 0 | J28: =J22 -> 0 | K28: =K22 -> 0 | L28: =L22 -> 0 | N28: =N22 -> 0 | P28: =P22 -> 0 | Q28: =Q22 -> 0 | R28: =R22 -> 0 | S28: =S22 -> 0 | T28: =T22 -> 0 | U28: =U22 -> 0 | V28: =V22 -> 0
B29: Starpība / atlikums | E29: =E27-E28 -> 0 | F29: =F27-F28 -> 0 | G29: =G27-G28 -> 0 | H29: =H27-H28 -> 0 | I29: =I27-I28 -> 0 | J29: =J27-J28 -> 0 | K29: =K27-K28 -> 0 | L29: =L27-L28 -> 0 | N29: =N27-N28 -> 0 | P29: =P27-P28 -> 0 | Q29: =Q27-Q28 -> 0 | R29: =R27-R28 -> 0 | S29: =S27-S28 -> 0 | T29: =T27-T28 -> 0 | U29: =U27-U28 -> 0 | V29: =V27-V28 -> 0

Sheet Aprekiniem
A1: LAPA VEIDLAPAS APRĒĶINU NODROŠINĀŠANAI (Nav paredzēta aizpildīšanai)
A2: MVU kategroija | C2: EE ēkas un iekārtas (I un II) | D2: AER ražošana III a) | E2: AER pārējais III b) | G2: Veidlapas versija
A3: Jautājums | B3: Atbilde | C3: Maks. Atbalsts | D3: Maks. Atbalsts | E3: Maks. Atbalsts | G3: Atbilde
A4: Lielais komersants | B4: 1 | C4: 0.45 | D4: 0.45 | E4: 0.3 | G4: 6.4
A5: Vidējais komersants | B5: 2 | C5: 0.55 | D5: 0.55 | E5: 0.4
A6: Sīkais (mikro) vai mazais komersants | B6: 3 | C6: 0.65 | D6: 0.65 | E6: 0.5
A8: Ir/Nav | F8: Diskonta likme
A9: Jautājums | B9: Atbilde | F9: Atbilde
A10: Ir | B10: 1 | F10: =4.11%+1% -> 0.0511 | G10: Šis jāpārbauda pirms katras atlases!
A11: Nav | B11: 0 | E11: avots | F11: https://competition-policy.ec.europa.eu/state-aid/legislation/reference-discount-rates-and-recovery-interest-rates/reference-and-discount-rates_en
F12: pieskaitot 100 bps
A13: Atbildes
A14: Atbilde | F14: PVN likmes
A15: A | F15: Atbilde
A16: B | F16: 0.21
A17: C | F17: 0
A18: D
A21: Vai ir atlicis de minimis?
A22: Jautājums | B22: Atbilde
A23: Vai ir atlicis de minimis? (1 ir, 0 nav) | B23: =IF(Tāme!E7<'Atbalsta noteikšana no 11.2025'!E8,0,1) -> 1
A26: Līdzdalības apmēra pārbaude (lapā Finansējums 118 rinda) | B26: Atbilde | C26: Teksts veidlapā, ja līzdalība nav pieteiekama
A27: Līdzdalība>=5% no izmaksām (1 ir, 0 nav) | B27: =IFERROR(IF(Finansējums!G63/Finansējums!F63<5%,0,1),1) -> 1 | C27: Aizņēmējam jānodrošina līdzdalība ne mazāk kā 5% no Attiecināmajām izmaksām
A30: Paralēlā aizdevuma apmēra pārbaude (lapā Finansējums 119 rinda) | B30: Atbilde | C30: Teksts veidlapā, ja bankas aizdevums ir par mazu
A31: Vai būs Paralēlais aizdevums (1-Jā; 0-Nē) | B31: =IF(Finansējums!H65>=1,1,0) -> 0
A32: Paralēlais aizdevums ir vismaz tik liels cik ALTUM aizdevums (1-Jā; 0-Nē; N/A- nav jāpiemēro) | B32: =IF(B31=0,"N/A",IF(Finansējums!H65<Finansējums!J65,0,1)) -> N/A | C32: Finansētāja aizdevumam jābūt ne mazākam kā ALTUM finansējumam
