Workbook

Sheet 2.pielikums
D2: Pielikums Nr.1 DD.MM.GGGG. aptaujai Nr. ____
B4: Dzīvojamās mājas adrese
D5: iela, pilsēta, pasta indekss
B7: Kopējs atsavināmās zemes cena | K7: =IF(D7="","",IF(D9+D11=D7,Sheet2!$B$4,IF(D9+D11=0,"",Sheet2!$B$5)))
D8: EUR
B9: Kopējais finansējuma apjoms, kas tiks segts no dzīvokļu īpašnieku pašu līdzekļiem | D9: =SUM(D15:D39) -> 0
D10: EUR | E10: =IF($D$7="","",IF($D$9+$D$11=$D$7,Sheet2!$B$4,IF($D$9+$D$11=0,"",Sheet2!$B$5)))
B11: Kopējais finansējuma apjoms, kas tiks segts no aizdevuma | D11: =SUM(Table2[Nepieciešamā aizdevuma apmērs, EUR]) -> 0
D12: EUR
B14: Dzīvokļa īpašuma Nr. | C14: ZTI noteiktā cena dzīvokļiem, EUR | D14: Paša finansējuma apmērs, EUR | E14: Nepieciešamā aizdevuma apmērs, EUR
E15: =Table2[[#This Row],[ZTI noteiktā cena dzīvokļiem, EUR]]-D15 -> 0 | F15: =IF(Table2[[#This Row],[ZTI noteiktā cena dzīvokļiem, EUR]]="","",IF(Table2[[#This Row],[Paša finansējuma apmērs, EUR]]+Table2[[#This Row],[Nepieciešamā aizdevuma apmērs, EUR]]=Table2[[#This Row],[ZTI noteiktā cena dzīvokļiem, EUR]],Sheet2!$B$4,IF(Table2[[#This Row],[Paša finansējuma apmērs, EUR]]+Table2[[#This Row],[Nepieciešamā aizdevuma apmērs, EUR]]=0,"",Sheet2!$B$5)))
E16: =Table2[[#This Row],[ZTI noteiktā cena dzīvokļiem, EUR]]-D16 -> 0 | F16: =IF(Table2[[#This Row],[ZTI noteiktā cena dzīvokļiem, EUR]]="","",IF(Table2[[#This Row],[Paša finansējuma apmērs, EUR]]+Table2[[#This Row],[Nepieciešamā aizdevuma apmērs, EUR]]=Table2[[#This Row],[ZTI noteiktā cena dzīvokļiem, EUR]],Sheet2!$B$4,IF(Table2[[#This Row],[Paša finansējuma apmērs, EUR]]+Table2[[#This Row],[Nepieciešamā aizdevuma apmērs, EUR]]=0,"",Sheet2!$B$5)))
E17: =Table2[[#This Row],[ZTI noteiktā cena dzīvokļiem, EUR]]-D17 -> 0 | F17: =IF(Table2[[#This Row],[ZTI noteiktā cena dzīvokļiem, EUR]]="","",IF(Table2[[#This Row],[Paša finansējuma apmērs, EUR]]+Table2[[#This Row],[Nepieciešamā aizdevuma apmērs, EUR]]=Table2[[#This Row],[ZTI noteiktā cena dzīvokļiem, EUR]],Sheet2!$B$4,IF(Table2[[#This Row],[Paša finansējuma apmērs, EUR]]+Table2[[#This Row],[Nepieciešamā aizdevuma apmērs, EUR]]=0,"",Sheet2!$B$5)))
E18: =Table2[[#This Row],[ZTI noteiktā cena dzīvokļiem, EUR]]-D18 -> 0 | F18: =IF(Table2[[#This Row],[ZTI noteiktā cena dzīvokļiem, EUR]]="","",IF(Table2[[#This Row],[Paša finansējuma apmērs, EUR]]+Table2[[#This Row],[Nepieciešamā aizdevuma apmērs, EUR]]=Table2[[#This Row],[ZTI noteiktā cena dzīvokļiem, EUR]],Sheet2!$B$4,IF(Table2[[#This Row],[Paša finansējuma apmērs, EUR]]+Table2[[#This Row],[Nepieciešamā aizdevuma apmērs, EUR]]=0,"",Sheet2!$B$5)))
E19: =Table2[[#This Row],[ZTI noteiktā cena dzīvokļiem, EUR]]-D19 -> 0 | F19: =IF(Table2[[#This Row],[ZTI noteiktā cena dzīvokļiem, EUR]]="","",IF(Table2[[#This Row],[Paša finansējuma apmērs, EUR]]+Table2[[#This Row],[Nepieciešamā aizdevuma apmērs, EUR]]=Table2[[#This Row],[ZTI noteiktā cena dzīvokļiem, EUR]],Sheet2!$B$4,IF(Table2[[#This Row],[Paša finansējuma apmērs, EUR]]+Table2[[#This Row],[Nepieciešamā aizdevuma apmērs, EUR]]=0,"",Sheet2!$B$5)))
E20: =Table2[[#This Row],[ZTI noteiktā cena dzīvokļiem, EUR]]-D20 -> 0 | F20: =IF(Table2[[#This Row],[ZTI noteiktā cena dzīvokļiem, EUR]]="","",IF(Table2[[#This Row],[Paša finansējuma apmērs, EUR]]+Table2[[#This Row],[Nepieciešamā aizdevuma apmērs, EUR]]=Table2[[#This Row],[ZTI noteiktā cena dzīvokļiem, EUR]],Sheet2!$B$4,IF(Table2[[#This Row],[Paša finansējuma apmērs, EUR]]+Table2[[#This Row],[Nepieciešamā aizdevuma apmērs, EUR]]=0,"",Sheet2!$B$5)))
E21: =Table2[[#This Row],[ZTI noteiktā cena dzīvokļiem, EUR]]-D21 -> 0 | F21: =IF(Table2[[#This Row],[ZTI noteiktā cena dzīvokļiem, EUR]]="","",IF(Table2[[#This Row],[Paša finansējuma apmērs, EUR]]+Table2[[#This Row],[Nepieciešamā aizdevuma apmērs, EUR]]=Table2[[#This Row],[ZTI noteiktā cena dzīvokļiem, EUR]],Sheet2!$B$4,IF(Table2[[#This Row],[Paša finansējuma apmērs, EUR]]+Table2[[#This Row],[Nepieciešamā aizdevuma apmērs, EUR]]=0,"",Sheet2!$B$5)))
E22: =Table2[[#This Row],[ZTI noteiktā cena dzīvokļiem, EUR]]-D22 -> 0 | F22: =IF(Table2[[#This Row],[ZTI noteiktā cena dzīvokļiem, EUR]]="","",IF(Table2[[#This Row],[Paša finansējuma apmērs, EUR]]+Table2[[#This Row],[Nepieciešamā aizdevuma apmērs, EUR]]=Table2[[#This Row],[ZTI noteiktā cena dzīvokļiem, EUR]],Sheet2!$B$4,IF(Table2[[#This Row],[Paša finansējuma apmērs, EUR]]+Table2[[#This Row],[Nepieciešamā aizdevuma apmērs, EUR]]=0,"",Sheet2!$B$5)))
E23: =Table2[[#This Row],[ZTI noteiktā cena dzīvokļiem, EUR]]-D23 -> 0 | F23: =IF(Table2[[#This Row],[ZTI noteiktā cena dzīvokļiem, EUR]]="","",IF(Table2[[#This Row],[Paša finansējuma apmērs, EUR]]+Table2[[#This Row],[Nepieciešamā aizdevuma apmērs, EUR]]=Table2[[#This Row],[ZTI noteiktā cena dzīvokļiem, EUR]],Sheet2!$B$4,IF(Table2[[#This Row],[Paša finansējuma apmērs, EUR]]+Table2[[#This Row],[Nepieciešamā aizdevuma apmērs, EUR]]=0,"",Sheet2!$B$5)))
E24: =Table2[[#This Row],[ZTI noteiktā cena dzīvokļiem, EUR]]-D24 -> 0 | F24: =IF(Table2[[#This Row],[ZTI noteiktā cena dzīvokļiem, EUR]]="","",IF(Table2[[#This Row],[Paša finansējuma apmērs, EUR]]+Table2[[#This Row],[Nepieciešamā aizdevuma apmērs, EUR]]=Table2[[#This Row],[ZTI noteiktā cena dzīvokļiem, EUR]],Sheet2!$B$4,IF(Table2[[#This Row],[Paša finansējuma apmērs, EUR]]+Table2[[#This Row],[Nepieciešamā aizdevuma apmērs, EUR]]=0,"",Sheet2!$B$5)))
E25: =Table2[[#This Row],[ZTI noteiktā cena dzīvokļiem, EUR]]-D25 -> 0 | F25: =IF(Table2[[#This Row],[ZTI noteiktā cena dzīvokļiem, EUR]]="","",IF(Table2[[#This Row],[Paša finansējuma apmērs, EUR]]+Table2[[#This Row],[Nepieciešamā aizdevuma apmērs, EUR]]=Table2[[#This Row],[ZTI noteiktā cena dzīvokļiem, EUR]],Sheet2!$B$4,IF(Table2[[#This Row],[Paša finansējuma apmērs, EUR]]+Table2[[#This Row],[Nepieciešamā aizdevuma apmērs, EUR]]=0,"",Sheet2!$B$5)))
E26: =Table2[[#This Row],[ZTI noteiktā cena dzīvokļiem, EUR]]-D26 -> 0 | F26: =IF(Table2[[#This Row],[ZTI noteiktā cena dzīvokļiem, EUR]]="","",IF(Table2[[#This Row],[Paša finansējuma apmērs, EUR]]+Table2[[#This Row],[Nepieciešamā aizdevuma apmērs, EUR]]=Table2[[#This Row],[ZTI noteiktā cena dzīvokļiem, EUR]],Sheet2!$B$4,IF(Table2[[#This Row],[Paša finansējuma apmērs, EUR]]+Table2[[#This Row],[Nepieciešamā aizdevuma apmērs, EUR]]=0,"",Sheet2!$B$5)))
... E121: =Table2[[#This Row],[ZTI noteiktā cena dzīvokļiem, EUR]]-D121 -> 0 | F121: =IF(Table2[[#This Row],[ZTI noteiktā cena dzīvokļiem, EUR]]="","",IF(Table2[[#This Row],[Paša finansējuma apmērs, EUR]]+Table2[[#This Row],[Nepieciešamā aizdevuma apmērs, EUR]]=Table2[[#This Row],[ZTI noteiktā cena dzīvokļiem, EUR]],Sheet2!$B$4,IF(Table2[[#This Row],[Paša finansējuma apmērs, EUR]]+Table2[[#This Row],[Nepieciešamā aizdevuma apmērs, EUR]]=0,"",Sheet2!$B$5)))

Sheet Sheet2
B3: ATBILŽU VARIANTI FINANSĒJUMA SADALĪJUMAM
B4: Ir korekti sadalīta visa summa!
B5: Nav korekti sadalīta summa!
