Workbook
Name _Hlk175142014: 'Izmaksu sadalījums'!$F$30

Sheet Ievads
C2: PROJEKTA IZMAKSU TĀME Uzņemējdarbības zaļināšanas programmas 2.1.1.2. PASĀKUMĀ (Energo 21-27); 6.1.1. (Reģionu energo 21-27)
B4: Formas lietošana ir ieteicama. Piesakoties dalībai programmā var iesniegt arī citā formā sagatavotu tāmi.
B6: SKAIDROJUMI
C8: ŠŪNU KRĀSAS
C9: •zaļās šūnas norāda informācijas laukus, kuri aizpildāmi manuāli
C10: •dzeltenās šūnas norāda informācijas laukus, kuri aizpildās automātiski
C12: IZKLĀJLOKŠU AIZPILDĪŠANAS SECĪBA:
C13: • pirmās aizpildāmā izklājloksnes ir "Lokālā tāme Nr.1", "Lokālā tāme Nr. 2", "Lokālā tāme Nr. 3" utt.
C14: • pēc lokālo tāmju aizpildīšanas jāaizpilda izklājloksne "Koptāme a+n"
C15: •pārējās izklājloksnēs datu laiku aizpildīsies automātiski
C17: DARBĪBAS, KURAS NEDRĪKST VEIKT AIZPILDOT ŠO TĀMI:
C18: • pārsaukt darba lapas
C19: • atstāt neaizpildītas rindas lokālo tāmju tabulās
C20: • apvienot šūnas (merge cells)
C21: • pievienot vai dzēst kolonnas
... C32: •datu laukā "Objekta nosaukums" jānorāda, piemēram, "1.ražošanas cehs"; "3.noliktava"

Sheet Izmaksu sadalījums
B2: Attiecināmo un neattiecināmo izmaksu uzskaitījums
B4: Ēku energoefektivitātes paaugstināšanas projektu jomā attiecināmās izmaksas, attiecas uz pasākumiem 2.1.1.2 (Energo 21-27); 6.1.1.4 ( Reģionu energo 21-27) | F4: Iekārtu energoefektivitātes paaugstināšanas projektu attiecināmās izmaksas, kas nepieciešamas, lai sasniegtu augstāku energoefektivitātes līmeni, attiecas uz pasākumiem 2.1.1.2 (Energo 21-27); 6.1.1.4 (Reģionu energo 21-27)
B5: IZMAKSU APRAKSTS | C5: ATTIECINĀMĀS IZMAKSAS | D5: NEATTIECINĀMĀS IZMAKSAS | F5: IZMAKSU APRAKSTS | G5: ATTIECINĀMĀS IZMAKSAS | H5: NEATTIECINĀMĀS IZMAKSAS
B6: Energoefektivitāti paaugstinošu būvdarbu veikšana nedzīvojamās ēkas, noliktavas norobežojošajās konstrukcijās | C6: · demontāžas darbi, lai īstenotu noteiktos energoefektivitātes paaugstināšanas būvdarbus un ar tiem funkcionāli saistītos energoefektivitātes paaugstināšanas pasākumus; | D6: · būvdarbi, kas nepieciešami, lai ēkas energoefektivitātes klasi paaugstinātu no F uz E; | F6: Jaunu energoefektīvāku iekārtu iegāde un uzstādīšana, kuras nodrošina konkrētā atbalsta saņēmēja saimniecisko darbību (tai skaitā preču vai pakalpojumu ražošanu), kā arī saimniecisko darbību nodrošinošos blakusprocesus, ja tās aizstāj esošās iekārtas | G6: · jaunu iekārtu iegāde, ja ar tām tiek aizstātas jau esošas iekārtas; | H6: · lietotu iekārtu iegāde;
C7: · fasādes atjaunošana, t.sk. siltināšana; | D7: · būvdarbi, kas tieši nepaaugstina energoefektivitāti (piemēram, iekšējie apdares darbi); | G7: · elektroenerģijas uzskaites sistēmas izbūve; | H7: · iekārtu iegāde, kas nenodrošina enerģijas patēriņa samazināšanu;
C8: · ārsienu logu nomaiņa; | D8: · jumta, parapetu un ar to saistīto elementu atjaunošana, ja netiek paredzēta jumta vai bēniņu siltināšana; | G8: · iekārtu uzstādīšanas/montāžas; | H8: · iekārtu un procesus nodrošinošo blakusprocesu iekārtu iegādes izmaksas, ja iekārtas neaizstāj esošās iekārtas un procesus nodrošinošo blakusprocesu iekārtas;
C9: · ārdurvju nomaiņa; | D9: · ieejas jumtiņu remonts, ja nav paredzēta jumtiņu siltināšana; | G9: · projekta vadības izmaksas (ja ir iekļauts virsizdevumos); | H9: · izmaksas, kas saistītas ar fosilos energoresursus izmantojošas iekārtas uzstādīšanu, modernizāciju vai nomaiņu pret citu fosilos energoresursus izmantojošu iekārtu.
C10: · vārtu nomaiņa; | D10: · ieejas lieveņa, pandusa atjaunošana vai izbūve; | G10: · virsizdevumi t.sk. darba aizsardzība; | H10: · muitas nodokļi un ar to saistītie maksājumi;
C11: · jumta remonts, ja tiek veikti bēniņu vai jumta siltināšanas darbi; | D11: · apkures skursteņu, dūmvadu atjaunošana, ja netiek veikta siltumapgādes sistēmas atjaunošana. | G11: · pārvietojamā tehnika (elektrokrāvēji, elektrokāres, pacēlāji u.c. ar elektrisko piedziņu), kas nodrošina saimniecisko darbību un aizstāj esošās iekārtas, ja tiek pierādīts primārās enerģijas ietaupījums un iekārta nedrīkst būt reģistrējama. | H11: · personāla apmācības;
C12: · cokola un pamatu sienu atjaunošana, t.sk. hidroizolācija, siltināšana u.c. pasākumi; | D12: · ventilācijas skursteņu, izvadu atjaunošana, ja netiek veikta ventilācijas vai gaisa kondicionēšanas sistēmu atjaunošana;būvniecības dokumentācijas (apliecinājuma karte, būvprojekts, pagaidu energosertifikāts, energosertifikāts) izstrāde un ar to saistītās izmaksas; | G12: peļņa | H12: · būvspeciālista atzinumi;
C13: · pagraba pārseguma un sienu siltināšana; | D13: · būvspeciālista atzinumi; | H13: · transports un piegāde (ja nav iekļauts būvizstrādājumu / mehānismu vai mehānismu izmaksās);
C14: · bēniņu pārseguma, dūmvadu, ventilācijas kanālu un sienu energoefektivitātes paaugstināšanas pasākumi, tehnisko laipu atjaunošana vai izbūve; | D14: · auditora atzinumi; | H14: · projekta vadība (ja nav iekļauts virsizdevumos);
C15: · jumta, parapetu un ar to saistīto elementu atjaunošana, ja tiek veikti jumta energoefektivitātes pasākumi; | D15: · būvlaukuma apsardze, signalizācija, videonovērošana; | H15: · ekspluatācijas un apkopes izmaksas;
C16: · ailu aizpildījumu elementu izbūve vai nomaiņa (t.sk. iekšējā apdare) – logi, palodzes, lodžiju aizstiklošana, lūkas, restes, t.sk ventilācijas vārsti. | D16: · transporta un piegādes izdevumi (ja nav iekļauts būvizstrādājumu vai mehānismu tiešajās izmaksās); | H16: · projekta uzraudzības izmaksas (izņemot būvuzraudzības izmaksas);
C17: · funkcionāli saistītie būvdarbi, kuru izpilde ir nepieciešama, lai veiktu energoefektivitātes paaugstināšanas būvdarbus; | D17: · projekta vadības izmaksas (ja nav iekļauts virsizdevumos); | H17: · administratīvās izmaksas (ja nav iekļauts virsizdevumos);
C18: · projekta vadības izmaksas (ja ir iekļauts virsizdevumos); | D18: · ekspluatācijas un apkopes izmaksas; | H18: · apdrošināšanas izmaksas, licences izmaksas, konsultāciju izmaksas
C19: · būvdarbu vadīšana (ja ir iekļauts virsizdevumos); | D19: · projekta uzraudzības izmaksas (izņemot būvuzraudzības izmaksas); | H19: N1, M1, N2, M2 kategorijas transportlīdzekļus
C20: · virsizdevumi t.sk. darba aizsardzība; | D20: · administratīvās izmaksas (ja nav iekļauts virsizdevumos); | F20: Sekundāro energoresursu atgūšana no tehnoloģiskajiem procesiem vai cits tāds skaidri nosakāms ieguldījums esošajās iekārtās, kuras nodrošina konkrētā atbalsta saņēmēja saimniecisko darbību (tai skaitā preču vai pakalpojumu ražošanu), kā arī saimniecisko darbību nodrošinošos blakusprocesus, kuru vienīgais mērķis ir uzlabot energoefektivitāti | G20: · karstā ūdens apgādes sistēmas inženiertīklu ierīkošana vai pārbūve; | H20: · sistēmu izveidošana, ierīkošana vai pārbūve, kas nenodrošina sekundāro energoresursu atgūšanu.
C21: · peļņa | D21: · apdrošināšanas izmaksas, licences izmaksas, konsultāciju izmaksas, rakšanas un citu atļauju izmaksas; | G21: · apkures, ventilācijas un gaisa kondicionēšanas sistēmu inženiertīklu ierīkošana vai pārbūve, t.sk. individuālās uzskaites sistēmas izveide; | H21: · būvniecības dokumentācijas (apliecinājuma karte, būvprojekts, pagaidu energosertifikāts, energosertifikāts) izstrāde;
D22: · būvdarbu vadīšana (ja nav iekļauts virsizdevumos | G22: · piespiedu ventilācija ar siltuma atgūšanu no ražošanas tehnoloģiskajiem procesiem. | H22: · personāla apmācības;
G23: · būvniecības izpilddokumentācija un izpildmērījumi. | H23: · būvspeciālista atzinumi;
B24: Nedzīvojamās būves elementu inženiersistēmu atjaunošana, pārbūve vai izveide, t.sk. pieslēguma izveidošana centralizētajai siltumapgādes sistēmai un siltummezgla izveide | C24: · karstā ūdens apgādes sistēmas inženiertīklu ierīkošana vai pārbūve; | D24: · sadzīves kanalizācijas un aukstā ūdens apgādes sistēmu inženiertīklu ierīkošana vai pārbūve; | G24: · projekta vadība (ja ir iekļauts virsizdevumos); | H24: · transports un piegāde (ja nav iekļauts būvizstrādājumu / mehānismu vai mehānismu izmaksās);
C25: · apkures, ventilācijas un gaisa kondicionēšanas sistēmu inženiertīklu ierīkošana vai pārbūve, t.sk. individuālās uzskaites sistēmas izveide t.sk. viedās sistēmas izbūve; | D25: · aukstā ūdens sistēmas ievada pārbūve; | G25: · virsizdevumi t.sk. darba aizsardzība; | H25: · projekta vadība (ja nav iekļauts virsizdevumos);
C26: · siltummehānika, izņemot neatjaunojamo energoresursu apkures katli; | D26: · vājstrāvas tīklu ierīkošana vai pārbūve (izņemot, kas attiecas uz viedām sistēmām saistībā ar apkuri, apgaismojumu, ventilāciju); | G26: peļņa | H26: · ekspluatācijas un apkopes izmaksas;
C27: · lietus ūdens noteksistēmas atjaunošana vai izbūve; | D27: · būvniecības dokumentācijas (apliecinājuma karte, būvprojekts, pagaidu energosertifikāts, energosertifikāts) izstrāde; | H27: · projekta uzraudzības izmaksas (izņemot būvuzraudzības izmaksas);
C28: · elektroapgāde viedajiem risinājumiem un apgaismojuma izbūvei; | D28: · personāla apmācības; | H28: · administratīvās izmaksas (ja nav iekļauts virsizdevumos);
C29: · mehāniskā ventilācija ar siltuma atgūšanu (ne no ražošanas tehnoloģiskajiem procesiem); | D29: · būvspeciālista atzinumi; | H29: apdrošināšanas izmaksas, licences izmaksas, konsultāciju izmaksas
C30: · funkcionāli saistītie būvdarbi, kuru izpilde ir nepieciešama, lai veiktu energoefektivitātes paaugstināšanas būvdarbus; | D30: · auditora atzinumi; | F30: Komercteritorijas inženiersistēmu atjaunošana, pārbūve vai izveide, tai skaitā pieslēguma izveidošana centralizētajai siltumapgādes sistēmai un siltummezgla izveide | G30: · karstā ūdens apgādes sistēmas inženiertīklu ierīkošana vai pārbūve; | H30: · sadzīves kanalizācijas un aukstā ūdens apgādes sistēmu inženiertīklu ierīkošana vai pārbūve;
C31: · būvniecības izpilddokumentācija un izpildmērījumi; | D31: · būvlaukuma apsardze, signalizācija, videonovērošana; | G31: · apkures, ventilācijas un gaisa kondicionēšanas sistēmu inženiertīklu ierīkošana vai pārbūve, t.sk. individuālās uzskaites sistēmas izveide t.sk. viedās sistēmas izbūve; | H31: · aukstā ūdens sistēmas ievada pārbūve;
C32: · projekta vadība (ja ir iekļauts virsizdevumos); | D32: · transports un piegāde (ja nav iekļauts būvizstrādājumu / mehānismu vai mehānismu izmaksās); | G32: · siltummehānika, izņemot neatjaunojamo energoresursu apkures katli; | H32: · vājstrāvas tīklu ierīkošana vai pārbūve (izņemot, kas attiecas uz viedām sistēmām saistībā ar apkuri, apgaismojumu, ventilāciju);
C33: · būvdarbu vadīšana (ja ir iekļauts virsizdevumos); | D33: · projekta vadība (ja nav iekļauts virsizdevumos); | G33: · lietus ūdens noteksistēmas atjaunošana vai izbūve; | H33: · būvniecības dokumentācijas (apliecinājuma karte, būvprojekts, pagaidu energosertifikāts, energosertifikāts) izstrāde;
C34: · virsizdevumi t.sk. darba aizsardzība; | D34: · ekspluatācijas un apkopes izmaksas; | G34: · elektroapgāde viedajiem risinājumiem un apgaismojuma izbūvei; | H34: · personāla apmācības;
C35: · peļņa | D35: · projekta uzraudzības izmaksas (izņemot būvuzraudzības izmaksas); | G35: · mehāniskā ventilācija ar siltuma atgūšanu (ne no ražošanas tehnoloģiskajiem procesiem); | H35: · būvspeciālista atzinumi;
D36: · administratīvās izmaksas (ja nav iekļauts virsizdevumos); | G36: · funkcionāli saistītie būvdarbi, kuru izpilde ir nepieciešama, lai veiktu energoefektivitātes paaugstināšanas būvdarbus; | H36: · auditora atzinumi;
D37: · apdrošināšanas izmaksas, licences izmaksas, konsultāciju izmaksas, rakšanas un citu atļauju izmaksas | G37: · būvniecības izpilddokumentācija un izpildmērījumi; | H37: · būvlaukuma apsardze, signalizācija, videonovērošana;
G38: · projekta vadība (ja ir iekļauts virsizdevumos); | H38: · transports un piegāde (ja nav iekļauts būvizstrādājumu / mehānismu vai mehānismu izmaksās);
B39: Nedzīvojamās ēkas būves elementu energoefektīva apgaismojuma uzstādīšana | C39: · LED spuldžu iegāde, uzstādīšana; | D39: · spuldžu un gaismas ķermeņu, kas nav LED iegāde, piemēram, HPI metālhalogēnspuldzes, T5 luminiscences spuldzes; | G39: · būvdarbu vadīšana (ja ir iekļauts virsizdevumos); | H39: · projekta vadība (ja nav iekļauts virsizdevumos);
C40: · LED gaismas ķermeņu (gaismas armatūru) iegāde, uzstādīšana; | D40: · būvniecības dokumentācijas izstrāde t.sk. energoauditora sagatavotā dokumentācija; | G40: · virsizdevumi t.sk. darba aizsardzība; | H40: · ekspluatācijas un apkopes izmaksas;
C41: · uzstādīšanai nepieciešamās sistēmas (uzskaite, elektroinstalācija, ja tas nepieciešams apgaismojuma uzstādīšanas dēļ); | D41: · personāla apmācības; | G41: peļņa | H41: · projekta uzraudzības izmaksas (izņemot būvuzraudzības izmaksas);
C42: · būvniecībass izpilddokumentācija un izpildmērījumi; | D42: · būvspeciālista atzinumi; | H42: · administratīvās izmaksas (ja nav iekļauts virsizdevumos);
C43: · projekta vadība (ja ir iekļauts virsizdevumos); | D43: · auditora atzinumi; | H43: apdrošināšanas izmaksas, licences izmaksas, konsultāciju izmaksas.
C44: · būvdarbu vadīšana (ja ir iekļauts virsizdevumos); | D44: · transports un piegāde (ja nav iekļauts būvizstrādājumu / mehānismu vai mehānismu izmaksās); | F44: Tehnoloģiju iegādes un uzstādīšanas izmaksas esošo neefektīvu vai fosilos energoresursus izmantojošu siltumenerģijas un elektroenerģijas ražošanas iekārtu nomaiņai ar šādām jaunām iekārtām: | G44: Nomaiņai ar šādām iekārtām, ja vismaz 80 procenti no saražotās enerģijas tiek izmantoti saimnieciskās darbības veicēja pašpatēriņam gada laikā attiecīgajā sistēmas pieslēgumā vai visos saimnieciskās darbības veicēja objektos kopā, ja saimnieciskās darbības veicējs ir neto norēķinu sistēmas dalībnieks:
C45: · virsizdevumi t.sk. darba aizsardzība; | D45: · projekta vadība (ja nav iekļauts virsizdevumos); | G45: · saules enerģiju izmantojošām elektroenerģijas ražošanas tehnoloģijām;
C46: peļņa | D46: · būvdarbu vadīšana (ja nav iekļauts virsizdevumos); | G46: · vēja enerģiju izmantojošām elektroenerģijas ražošanas tehnoloģijām;
D47: · ekspluatācijas un apkopes izmaksas; | G47: · atjaunīgos energoresursus izmantojošiem bezemisiju siltumenerģijas ražošanas avotiem, tai skaitā saules kolektoriem, siltumsūkņiem (gaiss, ūdens, zeme) un bezemisiju tehnoloģiju hibrīdsistēmām ar cietās biomasas tehnoloģijām, kurā cietās biomasas katls tiek izmantots tikai pīķa slodzēm; (tai skaitā gaisu piesārņojošo vielu emisiju attīrīšanas iekārtām);
D48: · projekta uzraudzības izmaksas (izņemot būvuzraudzības izmaksas);
D49: · administratīvās izmaksas (ja nav iekļauts virsizdevumos); | F49: Iekārtu iegādei un uzstādīšanai, aizstājot esošās saimnieciskās darbības veicēja īpašumā esošās iekārtas: atjaunīgā ūdeņraža ražošanas tehnoloģijām; biogāzes ražošanas tehnoloģijām; biodegvielas, bioloģiskā šķidrā kurināmā un gāzveida biomasas kurināmā vai biomasas degvielas ražošanas un uzkrāšanas iekārtām; - Atjaunīgā ūdeņraža ražošanas tehnoloģijas | G49: Ja vismaz 80 procenti no saražotā ūdeņraža tiek izmantoti saimnieciskās darbības veicēja pašpatēriņam (nepārveidojot to citā enerģijas formā, piemēram elektroenerģijā) gada laikā attiecīgajā sistēmas pieslēgumā vai visos saimnieciskās darbības veicēja objektos kopā: | H49: · Iekārtas elektroenerģijas ražošanai no atjaunīgā ūdeņraža;
D50: apdrošināšanas izmaksas, licences izmaksas, konsultāciju izmaksas, rakšanas un citu atļauju izmaksas | G50: · jaunu atjaunīgā ūdeņraža ražojošu iekārtu iegāde, uzstādīšana, montāža un iestatīšana, tajā skaitā: | H50: · būvniecības dokumentācijas (apliecinājuma karte, būvprojekts, pagaidu energosertifikāts, energosertifikāts) izstrāde un ar to saistītās izmaksas;
G51: · ģenerējošie elementi; | H51: · būvspeciālista atzinums;
B52: Nedzīvojamās ēkas būves elementa iekšējo un ārējo individuālo un lokālo siltumtīklu un aukstumapgādes sistēmu pārbūve | C52: · esošas siltumtrases pārbūve; | D52: · jaunas siltumtrases izbūve | G52: · uzglabāšanas elementi; | H52: · Auditora atzinumi;
C53: · esošas aukstumapgādes sistēmas pārbūve; | D53: · jaunas aukstumapgādes sistēmas izbūve; | G53: · uzlādes iekārtas - saražotā ūdeņraža uzlādes iekārtas utml.; | H53: · lietotu iekārtu iegāde;
C54: · ekonomaizeris uz apkures katla; | D54: · būvniecības dokumentācijas izstrāde t.sk. energoauditora sagatavotā dokumentācija; | G54: · izpilddokumentācijas sagatavošana un mērījumu veikšana; | H54: · zemes iegāde vai noma;
C55: · būvniecības izpilddokumentācija un izpildmērījumi; | D55: · personāla apmācības; | G55: · projekta vadība (ja ir iekļauts virsizdevumos); | H55: · iekārtu apkalpojošā personāla instruktāža;
C56: · projekta vadība (ja ir iekļauts virsizdevumos); | D56: · būvspeciālista atzinumi; | G56: · būvdarbu vadīšana (ja ir iekļauts virsizdevumos); | H56: · žogs, apsardze, videonovērošana, signalizācija;
C57: · būvdarbu vadīšana (ja ir iekļauts virsizdevumos); | D57: · auditora atzinumi; | G57: · virsizdevumi t.sk. darba aizsardzība; | H57: · ceļu, laukumu izbūve;
C58: · virsizdevumi t.sk. darba aizsardzība; | D58: · transports un piegāde (ja nav iekļauts būvizstrādājumu/mehānismu vai mehānismu izmaksās); | G58: · peļņa | H58: · apzaļumošana, teritorijas labiekārtošana;
C59: peļņa | D59: · projekta vadība (ja nav iekļauts virsizdevumos); | G59: Sistēmas pieslēguma ierīkošanas vai pārbūves izmaksas, kas nepieciešamas elektroenerģijas ražošanas iekārtas pieslēgšanai elektroenerģijas sistēmai | H59: · iekārtu uzturēšana un ekspluatācija;
D60: · būvdarbu vadīšana (ja nav iekļauts virsizdevumos); | G60: · sistēmas operatora izdotajos tehniskajos noteikumos/tehniskajās prasībās noteiktie pieslēguma ierīkošanai nepieciešamie darbi, tajā skaitā, ar iekārtu uzstādīšanu saistītās būvniecības izmaksas. | H60: · personāla apmācības;
D61: · ekspluatācijas un apkopes izmaksas; | G61: · izpilddokumentācijas sagatavošana un mērījumu veikšana; | H61: · muitas nodokļi un ar to saistītie maksājumi;
D62: · projekta uzraudzības izmaksas (izņemot būvuzraudzības izmaksas); | G62: · projekta vadība (ja ir iekļauts virsizdevumos); | H62: · transporta un piegādes izdevumi (ja nav iekļauts būvizstrādājumu vai mehānismu tiešajās izmaksās);
D63: · administratīvās izmaksas (ja nav iekļauts virsizdevumos); | G63: · būvdarbu vadīšana (ja ir iekļauts virsizdevumos); | H63: · projekta vadība (ja nav iekļauts virsizdevumos);
D64: apdrošināšanas izmaksas, licences izmaksas, konsultāciju izmaksas, rakšanas un citu atļauju izmaksas | G64: · peļņa. | H64: · būvdarbu vadīšana (ja nav iekļauts virsizdevumos)
H65: · ekspluatācijas un apkopes izmaksas;
B66: Autoruzraudzība un būvuzraudzība, ja tās veido ieguldījumu pamatlīdzekļu vērtībā | C66: projektā iekļautu energoefektivitātes pasākumu autoruzraudzības un būvuzraudzības izmaksas (saskaņā ar autoruzraudzības un būvuzraudzības līguma noteikto termiņu) | D66: autoruzraudzības un būvuzraudzības izmaksas, kas radušās pēc autoruzraudzības un būvuzraudzības līguma noteiktā termiņa | H66: · projekta uzraudzības izmaksas (izņemot būvuzraudzības izmaksas);
H67: · administratīvās izmaksas (ja nav iekļauts virsizdevumos);
B68: Būvlaukuma teritorijas uzturēšana un sakārtošana, ja tās veido ieguldījumu pamatlīdzekļu vērtībā | C68: · būvlaukuma ierīkošana un uzturēšana (saskaņā ar LBN 501-17 Noteikumi par Latvijas būvnormatīvu LBN 501-17 "Būvizmaksu noteikšanas kārtība" būvlaukuma ierīkošanas un uzturēšanas izmaksas iekļaujamas virsizdevumos); | D68: · soliņu, puķudobju, apstādījumu, zālāja ierīkošana; | H68: apdrošināšanas izmaksas, licences izmaksas, konsultāciju izmaksas.
C69: atkritumu un būvgružu utilizācija | D69: · teritorijas labiekārtošanas darbi; | F69: Iekārtu iegādei un uzstādīšanai, aizstājot esošās saimnieciskās darbības veicēja īpašumā esošās iekārtas: atjaunīgā ūdeņraža ražošanas tehnoloģijām; biogāzes ražošanas tehnoloģijām; biodegvielas, bioloģiskā šķidrā kurināmā un gāzveida biomasas kurināmā vai biomasas degvielas ražošanas un uzkrāšanas iekārtām; - Biogāzes ražošanas tehnoloģijas | G69: Ja vismaz 80 procenti no saražotās biogāzes tiek izmantoti saimnieciskās darbības veicēja pašpatēriņam gada laikā attiecīgajā sistēmas pieslēgumā vai visos saimnieciskās darbības veicēja objektos kopā. Vismaz 60% no biogāzes ražošanā izmantotajām izejvielām ir atlikumi / atkritumi*. | H69: · lietotu iekārtu iegāde;
D70: · gājēju celiņu, autostāvvietas atjaunošana; | G70: · jaunu biogāzes tehnoloģiju iegāde, uzstādīšana, montāža un iestatīšana, tajā skaitā: | H70: · iekārtu uzturēšana un ekspluatācija;
D71: · braucamās daļas segumu atjaunošana | G71: · pieslēgumi esošajai siltumapgādes sistēmai, materiāli, darbs pieslēguma izbūvei; | H71: · personāla apmācības izmaksas;
B72: Papildus pasākumi, ja tie ir nepieciešami energoefektivitātes paaugstināšanai un sasniegto rezultātu ilgtspējai: tāda integrēta aprīkojuma uzstādīšana objektā, kas no atjaunīgajiem energoresursiem ražo elektroenerģiju, nodrošina siltumapgādi vai aukstumapgādi | C72: · jaunu elektroenerģijas ražošanas iekārtu iegāde, uzstādīšana, montāža un iestatīšana, tajā skaitā: | D72: · saules elektrostacijas (SES) simulācijas projekta izstrāde; | G72: · ar iekārtu uzstādīšanu saistītās būvniecības izmaksa. | H72: · būvniecības dokumentācijas (apliecinājuma karte, būvprojekts, pagaidu energosertifikāts, energosertifikāts) izstrāde un ar to saistītās izmaksas;
C73: o iekārtas elektroenerģijas ražošanai, strāvas pārveidošanai, jaudas optimizācijai u.c. sistēmas sastāvdaļas, pieslēgumi; | D73: · būvniecības dokumentācijas (apliecinājuma karte, būvprojekts, pagaidu energosertifikāts, energosertifikāts) izstrāde un ar to saistītās izmaksas; | G73: · izpilddokumentācijas sagatavošana un mērījumu veikšana; | H73: · būvspeciālista atzinumi;
C74: o lokālas sadalnes izbūves vai pārbūves darbi (pēc komercuzskaites, patērētāja atbildības robežās); | D74: · būvspeciālista atzinumi; | G74: · projekta vadība (ja ir iekļauts virsizdevumos); | H74: · auditora atzinumi;
C75: o stiprinājumi, kabeļi, paneļu nesošās konstrukcijas ar/bez balasta montāžas materiāli, automātslēdži, aizsargcaurules u.c; | D75: · lietotu iekārtu iegāde; | G75: · būvdarbu vadīšana (ja ir iekļauts virsizdevumos); | H75: · muitas nodokļi un ar to saistītie maksājumi;
C76: o zemējuma un zibensaizssardzības izbūves vai pārbūves darbi; | D76: · zemes iegāde vai noma; | G76: · virsizdevumi t.sk. darba aizsardzība; | H76: · transporta un piegādes izdevumi (ja nav iekļauts būvizstrādājumu vai mehānismu tiešajās izmaksās);
C77: o nepieciešamā saules elektrostacijas (SES) testēšana un enerģijas kvalitātes mērīšana pirms nodošanas ekspluatācijā / pieslēguma atļaujas saņemšanas; | D77: · iekārtu apkalpojošā personāla instruktāža; | G77: · peļņa. | H77: · projekta vadība (ja nav iekļauts virsizdevumos);
C78: o saules elektrostacijas (SES) izpilddokumentācijas un izpildmērījumu sagatavošana; | D78: · žogs, apsardze, signalizācija; | H78: · būvdarbu vadīšana (ja nav iekļauts virsizdevumos);
C79: o zemējuma un zibensaizsardzības izpilddokumentācijas sagatavošana, elektropretestības mērījumu veikšana; | D79: · ceļu, laukumu izbūve; | G79: Sistēmas pieslēguma ierīkošanas vai pārbūves izmaksas, kas nepieciešamas elektroenerģijas ražošanas iekārtas pieslēgšanai elektroenerģijas sistēmai | H79: · ekspluatācijas un apkopes izmaksas;
C80: ar iekārtu uzstādīšanu saistītās būvniecība. | D80: · apzaļumošana, teritorijas labiekārtošana; | G80: · sistēmas operatora izdotajos tehniskajos noteikumos/ tehniskajās prasībās noteiktie pieslēguma ierīkošanai nepieciešamie darbi, tajā skaitā, ar iekārtu uzstādīšanu saistītās būvniecības izmaksas. | H80: · projekta uzraudzības izmaksas (izņemot būvuzraudzības izmaksas);
D81: · iekārtu uzturēšana un ekspluatācija; | G81: · izpilddokumentācijas sagatavošana un mērījumu veikšana; | H81: · administratīvās izmaksas (ja nav iekļauts virsizdevumos);
D82: · personāla apmācība; | G82: · projekta vadība (ja ir iekļauts virsizdevumos); | H82: · apdrošināšanas izmaksas, licences izmaksas, konsultāciju izmaksas;
D83: · muitas nodokļi un ar to saistītie maksājumi; | G83: · būvdarbu vadīšana (ja ir iekļauts virsizdevumos);
D84: · transporta un piegādes izdevumi (ja nav iekļauts būvizstrādājumu vai mehānismu tiešajās izmaksās) | G84: peļņa.
D85: · ekspluatācijas un apkopes izmaksas; | G85: * aļģes; jauktu sadzīves atkritumu biomasa; mājsaimniecību bioloģiskie atkritumi; ražošanas atkritumu biomasa; salmi; kūtsmēsli; notekūdeņu dūņas; palmu eļļas ražošanas šķidrās atliekas; tukši palmu augļu ķekari; taleļļas darva; jēlglicerīns; cukurniedru izspaidas; vīnogu čagas; vīna nogulsnes; riekstu čaumalas; sēnalas; attīrītas kukurūzas graudu vālītes; mežsaimniecības nozares atkritumi (mizas, zari, pirms tirgū laišanas veiktas starpcirtes produkti, lapas, skujas, koku galotnes, zāģskaidas, ēveļskaidas, melnais atsārms, brūnais atsārms, šķiedru duļķes, lignīns un taleļļas darva); nepārtikas celulozes izejvielas (dažādu graudaugu salmi, sēnalas un čaumalas, enerģētiskās zālaugu kultūras ar zemu cietes saturu, piemēram, airene, klūdziņprosa, miskante, Spānijas niedre, virsaugi, augsnes saglabāšanas kultūraugi, materiāli);rūpniecības atlikumi (no pārtikas un dzīvnieku barības kultūraugiem pēc augu eļļu, cukuru, cietes un proteīnu ekstrakcijas), no bioloģiskajiem atkritumiem (ja augsnes saglabāšanas kultūraugus uzskata par īslaicīgām ganībām – zālaugu un pākšaugu maisījumu ar zemu cietes saturu, ko izmanto lopbarībai un kas palīdz uzlabot augsni un palielināt ražu); cits lignocelulozes materiāls, izņemot zāģbaļķus un finierklučus; fūzeļeļļas no spirta destilācijas; neattīrīts metanols, kas iegūts papīrmasas ražošanas procesā no koksnes; zilaļģes; lietota cepamā eļļa; bojāti kultūraugi; sadzīves notekūdeņi un to derivāti, izņemot notekūdeņu dūņas; dzīvnieku tauki, kas nav izmantojami cilvēku patēriņā;
D86: · projekta uzraudzības izmaksas (izņemot būvuzraudzības izmaksas);
D87: · administratīvās izmaksas (ja nav iekļauts virsizdevumos);
D88: · apdrošināšanas izmaksas, licences izmaksas, konsultāciju izmaksas, rakšanas un citu atļauju izmaksas;
D89: · saules elektrostacijas jaudas rezervācijas izmaksas.
B90: aprīkojuma uzstādīšana atjaunīgās enerģijas iekārtu objektā saražotās enerģijas akumulēšanai. Akumulēšanas aprīkojums vismaz 75 % no gada griezumā akumulētās enerģijas akumulē no tieši pieslēgtas atjaunīgās enerģijas ražošanas iekārtas - nosacījums attiecas tikai uz VGAR; | C90: · akumulēšanas aprīkojuma iegāde un uzstādīšana | D90: · iekārtu uzturēšana un ekspluatācija; | F90: • Biodegvielas, bioloģiskā šķidrā kurināmā un gāzveida biomasas kurināmā vai biomasas degvielas ražošanas un uzkrāšanas iekārtas | G90: Ja vismaz 80 procenti no saražotās biodegvielas, bioloģiskā šķidrā kurināmā, gāzveida biomasas kurināmā vai degvielas tiek izmantoti saimnieciskās darbības veicēja pašpatēriņam gada laikā attiecīgajā sistēmas pieslēgumā vai visos saimnieciskās darbības veicēja objektos kopā. | H90: · būvniecības dokumentācijas (apliecinājuma karte, būvprojekts, pagaidu energosertifikāts, energosertifikāts) izstrāde un ar to saistītās izmaksas;
C91: uzstādīšanai nepieciešamās sistēmas (uzskaite, elektroinstalācija, ja tas nepieciešams akumulācijas aprīkojuma uzstādīšanas dēļ); | D91: · personāla apmācība; | G91: · jaunu biodegvielu, bioloģisko šķidro kurināmo, gāzveida biomasas kurināmo/degvielu ražojošo iekārtu iegāde, uzstādīšana, montāža un iestatīšana. | H91: · būvspeciālista atzinums;
D92: lietotu iekārtu iegāde; | G92: · izpilddokumentācijas sagatavošana un mērījumu veikšana; | H92: · auditora atzinumi;
G93: · projekta vadība (ja ir iekļauts virsizdevumos); | H93: · lietotu iekārtu iegāde;
G94: · būvdarbu vadīšana (ja ir iekļauts virsizdevumos); | H94: · zemes iegāde vai noma;
G95: · virsizdevumi t.sk. darba aizsardzība; | H95: · iekārtu apkalpojošā personāla instruktāža;
G96: · peļņa | H96: · žogs, apsardze, signalizācija;
B97: energoefektīvas centralizētās siltumapgādes un/vai aukstumapgādes sistēmas un ar to saistītā aprīkojuma pieslēgšana | C97: · siltummezgla uzstādīšana vai atjaunošana; | D97: · iekārtu uzturēšana un ekspluatācija; | G97: Sistēmas pieslēguma ierīkošanas vai pārbūves izmaksas, kas nepieciešamas elektroenerģijas ražošanas iekārtas pieslēgšanai elektroenerģijas sistēmai | H97: · ceļu, laukumu izbūve;
C98: uzstādīšanai nepieciešamās sistēmas | D98: · personāla apmācība; | G98: · sistēmas operatora izdotajos tehniskajos noteikumos/ tehniskajās prasībās noteiktie pieslēguma ierīkošanai nepieciešamie darbi, tajā skaitā, ar iekārtu uzstādīšanu saistītās būvniecības izmaksas. | H98: · apzaļumošana, teritorijas labiekārtošana;
D99: lietotu iekārtu iegāde; | G99: · izpilddokumentācijas sagatavošana un mērījumu veikšana; | H99: · iekārtu uzturēšana un ekspluatācija;
B100: ēkas lietotāju vajadzībām paredzētas uzlādes infrastruktūras un ar to saistītās infrastruktūras, piemēram, kabeļu kanalizācijas, izbūve un uzstādīšana vietā, kur autostāvvieta atrodas vai nu ēkas iekšienē, vai fiziski blakus ēkai | C100: · uzlādes stacijas iegāde un uzstādīšana | D100: · iekārtu uzturēšana un ekspluatācija; | G100: · projekta vadība (ja ir iekļauts virsizdevumos); | H100: · personāla apmācības;
C101: uzstādīšanai nepieciešamās sistēmas | D101: · personāla apmācība; | G101: · būvdarbu vadīšana (ja ir iekļauts virsizdevumos); | H101: · muitas nodokļi un ar to saistītie maksājumi;
D102: lietotu iekārtu iegāde; | G102: · peļņa. | H102: · transporta un piegādes izdevumi (ja nav iekļauts būvizstrādājumu vai mehānismu tiešajās izmaksās);
...

Sheet Koptāme a+n
B2: KOPTĀME A + N (kopējās projekta izmaksas + neattiecināmās izmaksas)
B5: Piegādātājs
B6: Reģ.Nr.
B7: Adrese
B9: Tāmes sastādītājs
B11: Pasūtītājs
B12: Reģ.Nr.
B13: Adrese
B16: Būves nosaukums
B17: Objekta nosaukums
B18: Objekta adrese
B20: OBJEKTA NOSAUKUMS | D20: IZMAKSAS
B21: =$C$17 -> 0 | D21: ='Kopssavilkums a+n'!F22 -> 0
B22: Kopā bez PVN: | D22: =SUM(D21:D21) -> 0
C24: PVN (21%) | D24: =ROUND(D22*21%,2) -> 0
C25: Pavisam kopā | D25: =ROUND(D22+D24,2) -> 0

Sheet Kopt a 
B2: KOPTĀME PROJEKTA ATTIECINĀMAJĀM IZMAKSĀM
B4: OBJEKTA NOSAUKUMS | D4: IZMAKSAS
B5: ='Koptāme a+n'!$C$17 -> 0 | D5: ='Kops attiec'!F19 -> 0
C6: Kopā bez PVN | D6: =SUM(D5:D5) -> 0
B8: PVN (21%) | D8: =ROUND(D6*21%,2) -> 0
C9: Pavisam kopā | D9: =ROUND(D6+D8,2) -> 0

Sheet Kopt n
B2: KOPTĀME PROJEKTA NEATTIECINĀMĀM IZMAKSĀM
B4: OBJEKTA NOSAUKUMS | D4: IZMAKSAS
B5: ='Koptāme a+n'!$C$17 -> 0 | D5: ='Neatt izm.'!F19 -> 0
C6: Kopā | D6: =SUM(D5:D5) -> 0
B8: PVN (21%) | D8: =ROUND(D6*21%,2) -> 0
C9: Pavisam kopā | D9: =ROUND(D6+D8,2) -> 0

Sheet Kopssavilkums a+n
B2: KOPSAVILKUMS PAR DARBU VAI KONSTRUKTĪVO ELEMENTU VEIDIEM (ATTIECINĀMĀS UN NEATTIECINĀMĀS IZMAKSAS)
B5: darbu veids
D7: Kopējās projekta izmaksas | E7: =F22 -> 0
D8: Kopējā darbietilpība, c/h | E8: =J18 -> 0
B10: Nr.p.k. | C10: Tāmes Nr. | D10: Darba veids vai konstruktīvā elementa nosaukums | F10: Tāmes izmaksas | G10: Tai skaitā | J10: Darbietilpība (c/h)
G11: darba alga | H11: materiāli | I11: mehānismi
B12: =IF(F12=0,0,IF(COUNTBLANK(F12)=1,0,COUNTA($F$12:F12))) -> 0 | C12: ='Kops attiec'!C12 -> 0 | D12: ='Neatt izm.'!D12:E12 -> 0 | F12: ='Kops attiec'!F12 -> 0 | G12: ='Kops attiec'!G12 -> 0 | H12: ='Kops attiec'!H12 -> 0 | I12: ='Kops attiec'!I12 -> 0 | J12: ='Kops attiec'!J12 -> 0
B13: =IF(F13=0,0,IF(COUNTBLANK(F13)=1,0,COUNTA($F$12:F13))) -> 0 | C13: ='Neatt izm.'!C12 -> 0 | D13: ='Neatt izm.'!D12:E12 -> 0 | F13: ='Neatt izm.'!F12 -> 0 | G13: ='Neatt izm.'!G12 -> 0 | H13: ='Neatt izm.'!H12 -> 0 | I13: ='Neatt izm.'!I12 -> 0 | J13: ='Neatt izm.'!J12 -> 0
B14: =IF(F14=0,0,IF(COUNTBLANK(F14)=1,0,COUNTA($F$12:F14))) -> 0 | C14: ='Kops attiec'!C13 -> 0 | D14: ='Kops attiec'!D13:E13 -> 0 | F14: ='Kops attiec'!F13 -> 0 | G14: ='Kops attiec'!G13 -> 0 | H14: ='Kops attiec'!H13 -> 0 | I14: ='Kops attiec'!I13 -> 0 | J14: ='Kops attiec'!J13 -> 0
B15: =IF(F15=0,0,IF(COUNTBLANK(F15)=1,0,COUNTA($F$12:F15))) -> 0 | C15: ='Neatt izm.'!C13 -> 0 | D15: ='Neatt izm.'!D13:E13 -> 0 | F15: ='Neatt izm.'!F13 -> 0 | G15: ='Neatt izm.'!G13 -> 0 | H15: ='Neatt izm.'!H13 -> 0 | I15: ='Neatt izm.'!I13 -> 0 | J15: ='Neatt izm.'!J13 -> 0
B16: =IF(F16=0,0,IF(COUNTBLANK(F16)=1,0,COUNTA($F$12:F16))) -> 0 | C16: ='Kops attiec'!C14 -> 0 | D16: ='Kops attiec'!D14:E14 -> 0 | F16: ='Kops attiec'!F14 -> 0 | G16: ='Kops attiec'!G14 -> 0 | H16: ='Kops attiec'!H14 -> 0 | I16: ='Kops attiec'!I14 -> 0 | J16: ='Kops attiec'!J14 -> 0
B17: =IF(F17=0,0,IF(COUNTBLANK(F17)=1,0,COUNTA($F$12:F17))) -> 0 | C17: ='Neatt izm.'!C14 -> 0 | D17: ='Neatt izm.'!D14:E14 -> 0 | F17: ='Neatt izm.'!F14 -> 0 | G17: ='Neatt izm.'!G14 -> 0 | H17: ='Neatt izm.'!H14 -> 0 | I17: ='Neatt izm.'!I14 -> 0 | J17: ='Neatt izm.'!J14 -> 0
B18: Kopā: | F18: =SUM(F12:F17) -> 0 | G18: =SUM(G12:G17) -> 0 | H18: =SUM(H12:H17) -> 0 | I18: =SUM(I12:I17) -> 0 | J18: =SUM(J12:J17) -> 0
B19: Virsizdevumi (%) | F19: =ROUND(F18*$E19,2) -> 0
B20: t.sk.darba aizsardzība (%) | F20: =ROUND(F19*$E20,2) -> 0
B21: Peļņa (%) | F21: =ROUND(F18*$E21,2) -> 0
B22: Pavisam kopā bez PVN: | F22: =SUM(F18:F21)-F20 -> 0

Sheet Kops attiec
B2: KOPSAVILKUMS PAR DARBU VAI KONSTRUKTĪVO ELEMENTU VEIDIEM (ATTIECINĀMĀS IZMAKSAS)
B5: darbu veids
D7: Kopējās attiecināmās izmaksas, EUR | E7: =F19 -> 0
D8: Kopējā darbietilpība, c/h | E8: =J15 -> 0
B10: Nr.p.k. | C10: Tāmes Nr. | D10: Darba veids vai konstruktīvā elementa nosaukums | F10: Tāmes izmaksas | G10: Tai skaitā | J10: Darbietilpība (c/h)
G11: darba alga | H11: materiāli | I11: mehānismi
B12: =IF(F12=0,0,IF(COUNTBLANK(F12)=1,0,COUNTA($F$12:F12))) -> 0 | C12: =IF(B12=0,0,CONCATENATE("Att-",B12)) -> 0 | D12: ='Lokālā tāme Nr.1'!N4 -> 0 | F12: ='1a'!P495 -> 0 | G12: ='1a'!M495 -> 0 | H12: ='1a'!N495 -> 0 | I12: ='1a'!O495 -> 0 | J12: ='1a'!L495 -> 0
B13: =IF(F13=0,0,IF(COUNTBLANK(F13)=1,0,COUNTA($F$12:F13))) -> 0 | C13: =IF(B13=0,0,CONCATENATE("Att-",B13)) -> 0 | D13: ='Lokālā tāme Nr.2'!N4 -> 0 | F13: ='2a'!P495 -> 0 | G13: ='2a'!M495 -> 0 | H13: ='2a'!N495 -> 0 | I13: ='2a'!O495 -> 0 | J13: ='2a'!L495 -> 0
B14: =IF(F14=0,0,IF(COUNTBLANK(F14)=1,0,COUNTA($F$12:F14))) -> 0 | C14: =IF(B14=0,0,CONCATENATE("Att-",B14)) -> 0 | D14: ='Lokālā tāme Nr.3'!N4 -> 0 | F14: ='3a'!P495 -> 0 | G14: ='3a'!M495 -> 0 | H14: ='3a'!N495 -> 0 | I14: ='3a'!O495 -> 0 | J14: ='3a'!L495 -> 0
B15: Kopā | F15: =SUM(F12:F14) -> 0 | G15: =SUM(G12:G14) -> 0 | H15: =SUM(H12:H14) -> 0 | I15: =SUM(I12:I14) -> 0 | J15: =SUM(J12:J14) -> 0
B16: Virsizdevumi (%) | E16: ='Kopssavilkums a+n'!E19 -> 0 | F16: =ROUND(F15*$E16,2) -> 0
B17: t.sk.darba aizsardzība (%) | E17: ='Kopssavilkums a+n'!E20 -> 0 | F17: =ROUND(F16*$E17,2) -> 0
B18: Peļņa (%) | E18: ='Kopssavilkums a+n'!E21 -> 0 | F18: =ROUND(F15*$E18,2) -> 0
B19: Pavisam kopā bez PVN | F19: =SUM(F15:F18)-F17 -> 0
D30: =_xlfn.SINGLE('Koptāme a+n'!#REF!) -> #REF!

Sheet Neatt izm.
B2: KOPSAVILKUMS PAR DARBU VAI KONSTRUKTĪVO ELEMENTU VEIDIEM (NEATTIECINĀMĀS IZMAKSAS)
B5: darbu veids
D7: Kopējās citas izmaksas | E7: =F19 -> 0
D8: Kopējā darbietilpība, c/h | E8: =J15 -> 0
B10: Nr.p.k. | C10: Tāmes Nr. | D10: Darba veids vai konstruktīvā elementa nosaukums | F10: Tāmes izmaksas | G10: Tai skaitā | J10: Darbietilpība (c/h)
G11: darba alga | H11: materiāli | I11: mehānismi
B12: =IF(F12=0,0,IF(COUNTBLANK(F12)=1,0,COUNTA($F$12:F12))) -> 0 | C12: =IF(B12=0,0,CONCATENATE("Citi-",B12)) -> 0 | D12: ='Lokālā tāme Nr.1'!N4 -> 0 | F12: ='1c'!P495 -> 0 | G12: ='1c'!M495 -> 0 | H12: ='1c'!N495 -> 0 | I12: ='1c'!O495 -> 0 | J12: ='1c'!L495 -> 0
B13: =IF(F13=0,0,IF(COUNTBLANK(F13)=1,0,COUNTA($F$12:F13))) -> 0 | C13: =IF(B13=0,0,CONCATENATE("Citi-",B13)) -> 0 | D13: ='Lokālā tāme Nr.2'!N4 -> 0 | F13: ='2c'!P497 -> 0 | G13: ='2c'!M497 -> 0 | H13: ='2c'!N497 -> 0 | I13: ='2c'!O497 -> 0 | J13: ='2c'!L497 -> 0
B14: =IF(F14=0,0,IF(COUNTBLANK(F14)=1,0,COUNTA($F$12:F14))) -> 0 | C14: =IF(B14=0,0,CONCATENATE("Citi-",B14)) -> 0 | D14: ='Lokālā tāme Nr.3'!N4 -> 0 | F14: ='3c'!P495 -> 0 | G14: ='3c'!M495 -> 0 | H14: ='3c'!N495 -> 0 | I14: ='3c'!O495 -> 0 | J14: ='3c'!L495 -> 0
B15: Kopā | F15: =SUM(F12:F14) -> 0 | G15: =SUM(G12:G14) -> 0 | H15: =SUM(H12:H14) -> 0 | I15: =SUM(I12:I14) -> 0 | J15: =SUM(J12:J14) -> 0
B16: Virsizdevumi (%) | E16: ='Kopssavilkums a+n'!E19 -> 0 | F16: =ROUND(F15*$E16,2) -> 0
B17: t.sk.darba aizsardzība (%) | E17: ='Kopssavilkums a+n'!E20 -> 0 | F17: =ROUND(F16*$E17,2) -> 0
B18: Peļņa (%) | E18: ='Kopssavilkums a+n'!E21 -> 0 | F18: =ROUND(F15*$E18,2) -> 0
B19: Pavisam kopā bez PVN | F19: =SUM(F15:F18)-F17 -> 0
D44: =_xlfn.SINGLE('Koptāme a+n'!#REF!) -> #REF!

Sheet Lokālā tāme Nr.1
B2: LOKĀLĀ TĀME NR. | P2: 1
N4: =B4 -> 0
C5: darba veids vai konstruktīvā elementa nosaukums
B7: KOPĒJĀS IZMAKSAS | D7: =$P$498 -> 0
B9: Nr.p.k. | C9: Darba nosaukums | D9: Mērvienība | E9: Daudzums | F9: Vienības izmaksas | L9: Kopā uz visu apjomu | Q9: Izmaksu veids (attiecināmās vai neattiecināmas)
F10: Laika norma (c/h) | G10: Darba samaksas likme (EUR/h) | H10: Darba alga (EUR) | I10: Būvizstrādājumi (EUR) | J10: Mehānismi (EUR) | K10: Kopā (EUR) | L10: Laika norma (c/h) | M10: Darba alga (EUR) | N10: Būvizstrādājumi (EUR) | O10: Mehānismi (EUR) | P10: Kopā (EUR)
H11: =ROUND(F11*G11,2) -> 0 | K11: =SUM(H11:J11) -> 0 | L11: =ROUND(E11*F11,2) -> 0 | M11: =ROUND(H11*E11,2) -> 0 | N11: =ROUND(I11*E11,2) -> 0 | O11: =ROUND(J11*E11,2) -> 0 | P11: =SUM(M11:O11) -> 0
H12: =ROUND(F12*G12,2) -> 0 | K12: =SUM(H12:J12) -> 0 | L12: =ROUND(E12*F12,2) -> 0 | M12: =ROUND(H12*E12,2) -> 0 | N12: =ROUND(I12*E12,2) -> 0 | O12: =ROUND(J12*E12,2) -> 0 | P12: =SUM(M12:O12) -> 0
H13: =ROUND(F13*G13,2) -> 0 | K13: =SUM(H13:J13) -> 0 | L13: =ROUND(E13*F13,2) -> 0 | M13: =ROUND(H13*E13,2) -> 0 | N13: =ROUND(I13*E13,2) -> 0 | O13: =ROUND(J13*E13,2) -> 0 | P13: =SUM(M13:O13) -> 0
H14: =ROUND(F14*G14,2) -> 0 | K14: =SUM(H14:J14) -> 0 | L14: =ROUND(E14*F14,2) -> 0 | M14: =ROUND(H14*E14,2) -> 0 | N14: =ROUND(I14*E14,2) -> 0 | O14: =ROUND(J14*E14,2) -> 0 | P14: =SUM(M14:O14) -> 0
H15: =ROUND(F15*G15,2) -> 0 | K15: =SUM(H15:J15) -> 0 | L15: =ROUND(E15*F15,2) -> 0 | M15: =ROUND(H15*E15,2) -> 0 | N15: =ROUND(I15*E15,2) -> 0 | O15: =ROUND(J15*E15,2) -> 0 | P15: =SUM(M15:O15) -> 0
H16: =ROUND(F16*G16,2) -> 0 | K16: =SUM(H16:J16) -> 0 | L16: =ROUND(E16*F16,2) -> 0 | M16: =ROUND(H16*E16,2) -> 0 | N16: =ROUND(I16*E16,2) -> 0 | O16: =ROUND(J16*E16,2) -> 0 | P16: =SUM(M16:O16) -> 0
H17: =ROUND(F17*G17,2) -> 0 | K17: =SUM(H17:J17) -> 0 | L17: =ROUND(E17*F17,2) -> 0 | M17: =ROUND(H17*E17,2) -> 0 | N17: =ROUND(I17*E17,2) -> 0 | O17: =ROUND(J17*E17,2) -> 0 | P17: =SUM(M17:O17) -> 0
H18: =ROUND(F18*G18,2) -> 0 | K18: =SUM(H18:J18) -> 0 | L18: =ROUND(E18*F18,2) -> 0 | M18: =ROUND(H18*E18,2) -> 0 | N18: =ROUND(I18*E18,2) -> 0 | O18: =ROUND(J18*E18,2) -> 0 | P18: =SUM(M18:O18) -> 0
H19: =ROUND(F19*G19,2) -> 0 | K19: =SUM(H19:J19) -> 0 | L19: =ROUND(E19*F19,2) -> 0 | M19: =ROUND(H19*E19,2) -> 0 | N19: =ROUND(I19*E19,2) -> 0 | O19: =ROUND(J19*E19,2) -> 0 | P19: =SUM(M19:O19) -> 0
H20: =ROUND(F20*G20,2) -> 0 | K20: =SUM(H20:J20) -> 0 | L20: =ROUND(E20*F20,2) -> 0 | M20: =ROUND(H20*E20,2) -> 0 | N20: =ROUND(I20*E20,2) -> 0 | O20: =ROUND(J20*E20,2) -> 0 | P20: =SUM(M20:O20) -> 0
H21: =ROUND(F21*G21,2) -> 0 | K21: =SUM(H21:J21) -> 0 | L21: =ROUND(E21*F21,2) -> 0 | M21: =ROUND(H21*E21,2) -> 0 | N21: =ROUND(I21*E21,2) -> 0 | O21: =ROUND(J21*E21,2) -> 0 | P21: =SUM(M21:O21) -> 0
H22: =ROUND(F22*G22,2) -> 0 | K22: =SUM(H22:J22) -> 0 | L22: =ROUND(E22*F22,2) -> 0 | M22: =ROUND(H22*E22,2) -> 0 | N22: =ROUND(I22*E22,2) -> 0 | O22: =ROUND(J22*E22,2) -> 0 | P22: =SUM(M22:O22) -> 0
... H497: =ROUND(F497*G497,2) -> 0 | K497: =SUM(H497:J497) -> 0 | L497: =ROUND(E497*F497,2) -> 0 | M497: =ROUND(H497*E497,2) -> 0 | N497: =ROUND(I497*E497,2) -> 0 | O497: =ROUND(J497*E497,2) -> 0 | P497: =SUM(M497:O497) -> 0
B498: Tiešās izmaksas kopā, t. sk. darba devēja sociālais nodoklis 23.59% | L498: =SUM(L11:L497) -> 0 | M498: =SUM(M11:M497) -> 0 | N498: =SUM(N11:N497) -> 0 | O498: =SUM(O11:O497) -> 0 | P498: =SUM(P11:P497) -> 0

Sheet 1a
C1: Lokālā tāme Nr. | D1: {='Lokālā tāme Nr.1'!P2:Q2} -> 1 | E1: 0
C2: Attiecināmās izmaksas
J3: Tāmes izmaksas EUR | N3: =P495 -> 0
A6: Nr.p.k. | B6: Kods | C6: Darba nosaukums | D6: Mērvienība | E6: Daudzums | F6: Vienības izmaksas | L6: Kopā uz visu apjomu
F7: Laika norma (c/h) | G7: Darba samaksas likme (EUR/h) | H7: Darba alga (EUR) | I7: Būvizstrādājumi (EUR) | J7: Mehānismi (EUR) | K7: Kopā (EUR) | L7: Laika norma (c/h) | M7: Darba alga (EUR) | N7: Būvizstrādājumi (EUR) | O7: Mehānismi (EUR) | P7: Kopā (EUR)
A8: =IF(P8=0,0,IF(COUNTBLANK(P8)=1,0,COUNTA($P$8:P8))) -> 0 | B8: =IF($C$2="Attiecināmās izmaksas",IF('Lokālā tāme Nr.1'!$Q11="Attiecināmās",'Lokālā tāme Nr.1'!$B11,0)) -> 0 | C8: =IF($C$2="Attiecināmās izmaksas",IF('Lokālā tāme Nr.1'!$Q11="Attiecināmās",'Lokālā tāme Nr.1'!C11,0)) -> 0 | D8: =IF($C$2="Attiecināmās izmaksas",IF('Lokālā tāme Nr.1'!$Q11="Attiecināmās",'Lokālā tāme Nr.1'!D11,0)) -> 0 | E8: =IF($C$2="Attiecināmās izmaksas",IF('Lokālā tāme Nr.1'!$Q11="Attiecināmās",'Lokālā tāme Nr.1'!E11,0)) -> 0 | F8: =IF($C$2="Attiecināmās izmaksas",IF('Lokālā tāme Nr.1'!$Q11="Attiecināmās",'Lokālā tāme Nr.1'!F11,0)) -> 0 | G8: =IF($C$2="Attiecināmās izmaksas",IF('Lokālā tāme Nr.1'!$Q11="Attiecināmās",'Lokālā tāme Nr.1'!G11,0)) -> 0 | H8: =IF($C$2="Attiecināmās izmaksas",IF('Lokālā tāme Nr.1'!$Q11="Attiecināmās",'Lokālā tāme Nr.1'!H11,0)) -> 0 | I8: =IF($C$2="Attiecināmās izmaksas",IF('Lokālā tāme Nr.1'!$Q11="Attiecināmās",'Lokālā tāme Nr.1'!I11,0)) -> 0 | J8: =IF($C$2="Attiecināmās izmaksas",IF('Lokālā tāme Nr.1'!$Q11="Attiecināmās",'Lokālā tāme Nr.1'!J11,0)) -> 0 | ... P8: =IF($C$2="Attiecināmās izmaksas",IF('Lokālā tāme Nr.1'!$Q11="Attiecināmās",'Lokālā tāme Nr.1'!P11,0)) -> 0
A9: =IF(P9=0,0,IF(COUNTBLANK(P9)=1,0,COUNTA($P$8:P9))) -> 0 | B9: =IF($C$2="Attiecināmās izmaksas",IF('Lokālā tāme Nr.1'!$Q12="Attiecināmās",'Lokālā tāme Nr.1'!$B12,0)) -> 0 | C9: =IF($C$2="Attiecināmās izmaksas",IF('Lokālā tāme Nr.1'!$Q12="Attiecināmās",'Lokālā tāme Nr.1'!C12,0)) -> 0 | D9: =IF($C$2="Attiecināmās izmaksas",IF('Lokālā tāme Nr.1'!$Q12="Attiecināmās",'Lokālā tāme Nr.1'!D12,0)) -> 0 | E9: =IF($C$2="Attiecināmās izmaksas",IF('Lokālā tāme Nr.1'!$Q12="Attiecināmās",'Lokālā tāme Nr.1'!E12,0)) -> 0 | F9: =IF($C$2="Attiecināmās izmaksas",IF('Lokālā tāme Nr.1'!$Q12="Attiecināmās",'Lokālā tāme Nr.1'!F12,0)) -> 0 | G9: =IF($C$2="Attiecināmās izmaksas",IF('Lokālā tāme Nr.1'!$Q12="Attiecināmās",'Lokālā tāme Nr.1'!G12,0)) -> 0 | H9: =IF($C$2="Attiecināmās izmaksas",IF('Lokālā tāme Nr.1'!$Q12="Attiecināmās",'Lokālā tāme Nr.1'!H12,0)) -> 0 | I9: =IF($C$2="Attiecināmās izmaksas",IF('Lokālā tāme Nr.1'!$Q12="Attiecināmās",'Lokālā tāme Nr.1'!I12,0)) -> 0 | J9: =IF($C$2="Attiecināmās izmaksas",IF('Lokālā tāme Nr.1'!$Q12="Attiecināmās",'Lokālā tāme Nr.1'!J12,0)) -> 0 | ... P9: =IF($C$2="Attiecināmās izmaksas",IF('Lokālā tāme Nr.1'!$Q12="Attiecināmās",'Lokālā tāme Nr.1'!P12,0)) -> 0
A10: =IF(P10=0,0,IF(COUNTBLANK(P10)=1,0,COUNTA($P$8:P10))) -> 0 | B10: =IF($C$2="Attiecināmās izmaksas",IF('Lokālā tāme Nr.1'!$Q13="Attiecināmās",'Lokālā tāme Nr.1'!$B13,0)) -> 0 | C10: =IF($C$2="Attiecināmās izmaksas",IF('Lokālā tāme Nr.1'!$Q13="Attiecināmās",'Lokālā tāme Nr.1'!C13,0)) -> 0 | D10: =IF($C$2="Attiecināmās izmaksas",IF('Lokālā tāme Nr.1'!$Q13="Attiecināmās",'Lokālā tāme Nr.1'!D13,0)) -> 0 | E10: =IF($C$2="Attiecināmās izmaksas",IF('Lokālā tāme Nr.1'!$Q13="Attiecināmās",'Lokālā tāme Nr.1'!E13,0)) -> 0 | F10: =IF($C$2="Attiecināmās izmaksas",IF('Lokālā tāme Nr.1'!$Q13="Attiecināmās",'Lokālā tāme Nr.1'!F13,0)) -> 0 | G10: =IF($C$2="Attiecināmās izmaksas",IF('Lokālā tāme Nr.1'!$Q13="Attiecināmās",'Lokālā tāme Nr.1'!G13,0)) -> 0 | H10: =IF($C$2="Attiecināmās izmaksas",IF('Lokālā tāme Nr.1'!$Q13="Attiecināmās",'Lokālā tāme Nr.1'!H13,0)) -> 0 | I10: =IF($C$2="Attiecināmās izmaksas",IF('Lokālā tāme Nr.1'!$Q13="Attiecināmās",'Lokālā tāme Nr.1'!I13,0)) -> 0 | J10: =IF($C$2="Attiecināmās izmaksas",IF('Lokālā tāme Nr.1'!$Q13="Attiecināmās",'Lokālā tāme Nr.1'!J13,0)) -> 0 | ... P10: =IF($C$2="Attiecināmās izmaksas",IF('Lokālā tāme Nr.1'!$Q13="Attiecināmās",'Lokālā tāme Nr.1'!P13,0)) -> 0
A11: =IF(P11=0,0,IF(COUNTBLANK(P11)=1,0,COUNTA($P$8:P11))) -> 0 | B11: =IF($C$2="Attiecināmās izmaksas",IF('Lokālā tāme Nr.1'!$Q14="Attiecināmās",'Lokālā tāme Nr.1'!$B14,0)) -> 0 | C11: =IF($C$2="Attiecināmās izmaksas",IF('Lokālā tāme Nr.1'!$Q14="Attiecināmās",'Lokālā tāme Nr.1'!C14,0)) -> 0 | D11: =IF($C$2="Attiecināmās izmaksas",IF('Lokālā tāme Nr.1'!$Q14="Attiecināmās",'Lokālā tāme Nr.1'!D14,0)) -> 0 | E11: =IF($C$2="Attiecināmās izmaksas",IF('Lokālā tāme Nr.1'!$Q14="Attiecināmās",'Lokālā tāme Nr.1'!E14,0)) -> 0 | F11: =IF($C$2="Attiecināmās izmaksas",IF('Lokālā tāme Nr.1'!$Q14="Attiecināmās",'Lokālā tāme Nr.1'!F14,0)) -> 0 | G11: =IF($C$2="Attiecināmās izmaksas",IF('Lokālā tāme Nr.1'!$Q14="Attiecināmās",'Lokālā tāme Nr.1'!G14,0)) -> 0 | H11: =IF($C$2="Attiecināmās izmaksas",IF('Lokālā tāme Nr.1'!$Q14="Attiecināmās",'Lokālā tāme Nr.1'!H14,0)) -> 0 | I11: =IF($C$2="Attiecināmās izmaksas",IF('Lokālā tāme Nr.1'!$Q14="Attiecināmās",'Lokālā tāme Nr.1'!I14,0)) -> 0 | J11: =IF($C$2="Attiecināmās izmaksas",IF('Lokālā tāme Nr.1'!$Q14="Attiecināmās",'Lokālā tāme Nr.1'!J14,0)) -> 0 | ... P11: =IF($C$2="Attiecināmās izmaksas",IF('Lokālā tāme Nr.1'!$Q14="Attiecināmās",'Lokālā tāme Nr.1'!P14,0)) -> 0
A12: =IF(P12=0,0,IF(COUNTBLANK(P12)=1,0,COUNTA($P$8:P12))) -> 0 | B12: =IF($C$2="Attiecināmās izmaksas",IF('Lokālā tāme Nr.1'!$Q15="Attiecināmās",'Lokālā tāme Nr.1'!$B15,0)) -> 0 | C12: =IF($C$2="Attiecināmās izmaksas",IF('Lokālā tāme Nr.1'!$Q15="Attiecināmās",'Lokālā tāme Nr.1'!C15,0)) -> 0 | D12: =IF($C$2="Attiecināmās izmaksas",IF('Lokālā tāme Nr.1'!$Q15="Attiecināmās",'Lokālā tāme Nr.1'!D15,0)) -> 0 | E12: =IF($C$2="Attiecināmās izmaksas",IF('Lokālā tāme Nr.1'!$Q15="Attiecināmās",'Lokālā tāme Nr.1'!E15,0)) -> 0 | F12: =IF($C$2="Attiecināmās izmaksas",IF('Lokālā tāme Nr.1'!$Q15="Attiecināmās",'Lokālā tāme Nr.1'!F15,0)) -> 0 | G12: =IF($C$2="Attiecināmās izmaksas",IF('Lokālā tāme Nr.1'!$Q15="Attiecināmās",'Lokālā tāme Nr.1'!G15,0)) -> 0 | H12: =IF($C$2="Attiecināmās izmaksas",IF('Lokālā tāme Nr.1'!$Q15="Attiecināmās",'Lokālā tāme Nr.1'!H15,0)) -> 0 | I12: =IF($C$2="Attiecināmās izmaksas",IF('Lokālā tāme Nr.1'!$Q15="Attiecināmās",'Lokālā tāme Nr.1'!I15,0)) -> 0 | J12: =IF($C$2="Attiecināmās izmaksas",IF('Lokālā tāme Nr.1'!$Q15="Attiecināmās",'Lokālā tāme Nr.1'!J15,0)) -> 0 | ... P12: =IF($C$2="Attiecināmās izmaksas",IF('Lokālā tāme Nr.1'!$Q15="Attiecināmās",'Lokālā tāme Nr.1'!P15,0)) -> 0
A13: =IF(P13=0,0,IF(COUNTBLANK(P13)=1,0,COUNTA($P$8:P13))) -> 0 | B13: =IF($C$2="Attiecināmās izmaksas",IF('Lokālā tāme Nr.1'!$Q16="Attiecināmās",'Lokālā tāme Nr.1'!$B16,0)) -> 0 | C13: =IF($C$2="Attiecināmās izmaksas",IF('Lokālā tāme Nr.1'!$Q16="Attiecināmās",'Lokālā tāme Nr.1'!C16,0)) -> 0 | D13: =IF($C$2="Attiecināmās izmaksas",IF('Lokālā tāme Nr.1'!$Q16="Attiecināmās",'Lokālā tāme Nr.1'!D16,0)) -> 0 | E13: =IF($C$2="Attiecināmās izmaksas",IF('Lokālā tāme Nr.1'!$Q16="Attiecināmās",'Lokālā tāme Nr.1'!E16,0)) -> 0 | F13: =IF($C$2="Attiecināmās izmaksas",IF('Lokālā tāme Nr.1'!$Q16="Attiecināmās",'Lokālā tāme Nr.1'!F16,0)) -> 0 | G13: =IF($C$2="Attiecināmās izmaksas",IF('Lokālā tāme Nr.1'!$Q16="Attiecināmās",'Lokālā tāme Nr.1'!G16,0)) -> 0 | H13: =IF($C$2="Attiecināmās izmaksas",IF('Lokālā tāme Nr.1'!$Q16="Attiecināmās",'Lokālā tāme Nr.1'!H16,0)) -> 0 | I13: =IF($C$2="Attiecināmās izmaksas",IF('Lokālā tāme Nr.1'!$Q16="Attiecināmās",'Lokālā tāme Nr.1'!I16,0)) -> 0 | J13: =IF($C$2="Attiecināmās izmaksas",IF('Lokālā tāme Nr.1'!$Q16="Attiecināmās",'Lokālā tāme Nr.1'!J16,0)) -> 0 | ... P13: =IF($C$2="Attiecināmās izmaksas",IF('Lokālā tāme Nr.1'!$Q16="Attiecināmās",'Lokālā tāme Nr.1'!P16,0)) -> 0
A14: =IF(P14=0,0,IF(COUNTBLANK(P14)=1,0,COUNTA($P$8:P14))) -> 0 | B14: =IF($C$2="Attiecināmās izmaksas",IF('Lokālā tāme Nr.1'!$Q17="Attiecināmās",'Lokālā tāme Nr.1'!$B17,0)) -> 0 | C14: =IF($C$2="Attiecināmās izmaksas",IF('Lokālā tāme Nr.1'!$Q17="Attiecināmās",'Lokālā tāme Nr.1'!C17,0)) -> 0 | D14: =IF($C$2="Attiecināmās izmaksas",IF('Lokālā tāme Nr.1'!$Q17="Attiecināmās",'Lokālā tāme Nr.1'!D17,0)) -> 0 | E14: =IF($C$2="Attiecināmās izmaksas",IF('Lokālā tāme Nr.1'!$Q17="Attiecināmās",'Lokālā tāme Nr.1'!E17,0)) -> 0 | F14: =IF($C$2="Attiecināmās izmaksas",IF('Lokālā tāme Nr.1'!$Q17="Attiecināmās",'Lokālā tāme Nr.1'!F17,0)) -> 0 | G14: =IF($C$2="Attiecināmās izmaksas",IF('Lokālā tāme Nr.1'!$Q17="Attiecināmās",'Lokālā tāme Nr.1'!G17,0)) -> 0 | H14: =IF($C$2="Attiecināmās izmaksas",IF('Lokālā tāme Nr.1'!$Q17="Attiecināmās",'Lokālā tāme Nr.1'!H17,0)) -> 0 | I14: =IF($C$2="Attiecināmās izmaksas",IF('Lokālā tāme Nr.1'!$Q17="Attiecināmās",'Lokālā tāme Nr.1'!I17,0)) -> 0 | J14: =IF($C$2="Attiecināmās izmaksas",IF('Lokālā tāme Nr.1'!$Q17="Attiecināmās",'Lokālā tāme Nr.1'!J17,0)) -> 0 | ... P14: =IF($C$2="Attiecināmās izmaksas",IF('Lokālā tāme Nr.1'!$Q17="Attiecināmās",'Lokālā tāme Nr.1'!P17,0)) -> 0
A15: =IF(P15=0,0,IF(COUNTBLANK(P15)=1,0,COUNTA($P$8:P15))) -> 0 | B15: =IF($C$2="Attiecināmās izmaksas",IF('Lokālā tāme Nr.1'!$Q18="Attiecināmās",'Lokālā tāme Nr.1'!$B18,0)) -> 0 | C15: =IF($C$2="Attiecināmās izmaksas",IF('Lokālā tāme Nr.1'!$Q18="Attiecināmās",'Lokālā tāme Nr.1'!C18,0)) -> 0 | D15: =IF($C$2="Attiecināmās izmaksas",IF('Lokālā tāme Nr.1'!$Q18="Attiecināmās",'Lokālā tāme Nr.1'!D18,0)) -> 0 | E15: =IF($C$2="Attiecināmās izmaksas",IF('Lokālā tāme Nr.1'!$Q18="Attiecināmās",'Lokālā tāme Nr.1'!E18,0)) -> 0 | F15: =IF($C$2="Attiecināmās izmaksas",IF('Lokālā tāme Nr.1'!$Q18="Attiecināmās",'Lokālā tāme Nr.1'!F18,0)) -> 0 | G15: =IF($C$2="Attiecināmās izmaksas",IF('Lokālā tāme Nr.1'!$Q18="Attiecināmās",'Lokālā tāme Nr.1'!G18,0)) -> 0 | H15: =IF($C$2="Attiecināmās izmaksas",IF('Lokālā tāme Nr.1'!$Q18="Attiecināmās",'Lokālā tāme Nr.1'!H18,0)) -> 0 | I15: =IF($C$2="Attiecināmās izmaksas",IF('Lokālā tāme Nr.1'!$Q18="Attiecināmās",'Lokālā tāme Nr.1'!I18,0)) -> 0 | J15: =IF($C$2="Attiecināmās izmaksas",IF('Lokālā tāme Nr.1'!$Q18="Attiecināmās",'Lokālā tāme Nr.1'!J18,0)) -> 0 | ... P15: =IF($C$2="Attiecināmās izmaksas",IF('Lokālā tāme Nr.1'!$Q18="Attiecināmās",'Lokālā tāme Nr.1'!P18,0)) -> 0
A16: =IF(P16=0,0,IF(COUNTBLANK(P16)=1,0,COUNTA($P$8:P16))) -> 0 | B16: =IF($C$2="Attiecināmās izmaksas",IF('Lokālā tāme Nr.1'!$Q19="Attiecināmās",'Lokālā tāme Nr.1'!$B19,0)) -> 0 | C16: =IF($C$2="Attiecināmās izmaksas",IF('Lokālā tāme Nr.1'!$Q19="Attiecināmās",'Lokālā tāme Nr.1'!C19,0)) -> 0 | D16: =IF($C$2="Attiecināmās izmaksas",IF('Lokālā tāme Nr.1'!$Q19="Attiecināmās",'Lokālā tāme Nr.1'!D19,0)) -> 0 | E16: =IF($C$2="Attiecināmās izmaksas",IF('Lokālā tāme Nr.1'!$Q19="Attiecināmās",'Lokālā tāme Nr.1'!E19,0)) -> 0 | F16: =IF($C$2="Attiecināmās izmaksas",IF('Lokālā tāme Nr.1'!$Q19="Attiecināmās",'Lokālā tāme Nr.1'!F19,0)) -> 0 | G16: =IF($C$2="Attiecināmās izmaksas",IF('Lokālā tāme Nr.1'!$Q19="Attiecināmās",'Lokālā tāme Nr.1'!G19,0)) -> 0 | H16: =IF($C$2="Attiecināmās izmaksas",IF('Lokālā tāme Nr.1'!$Q19="Attiecināmās",'Lokālā tāme Nr.1'!H19,0)) -> 0 | I16: =IF($C$2="Attiecināmās izmaksas",IF('Lokālā tāme Nr.1'!$Q19="Attiecināmās",'Lokālā tāme Nr.1'!I19,0)) -> 0 | J16: =IF($C$2="Attiecināmās izmaksas",IF('Lokālā tāme Nr.1'!$Q19="Attiecināmās",'Lokālā tāme Nr.1'!J19,0)) -> 0 | ... P16: =IF($C$2="Attiecināmās izmaksas",IF('Lokālā tāme Nr.1'!$Q19="Attiecināmās",'Lokālā tāme Nr.1'!P19,0)) -> 0
A17: =IF(P17=0,0,IF(COUNTBLANK(P17)=1,0,COUNTA($P$8:P17))) -> 0 | B17: =IF($C$2="Attiecināmās izmaksas",IF('Lokālā tāme Nr.1'!$Q20="Attiecināmās",'Lokālā tāme Nr.1'!$B20,0)) -> 0 | C17: =IF($C$2="Attiecināmās izmaksas",IF('Lokālā tāme Nr.1'!$Q20="Attiecināmās",'Lokālā tāme Nr.1'!C20,0)) -> 0 | D17: =IF($C$2="Attiecināmās izmaksas",IF('Lokālā tāme Nr.1'!$Q20="Attiecināmās",'Lokālā tāme Nr.1'!D20,0)) -> 0 | E17: =IF($C$2="Attiecināmās izmaksas",IF('Lokālā tāme Nr.1'!$Q20="Attiecināmās",'Lokālā tāme Nr.1'!E20,0)) -> 0 | F17: =IF($C$2="Attiecināmās izmaksas",IF('Lokālā tāme Nr.1'!$Q20="Attiecināmās",'Lokālā tāme Nr.1'!F20,0)) -> 0 | G17: =IF($C$2="Attiecināmās izmaksas",IF('Lokālā tāme Nr.1'!$Q20="Attiecināmās",'Lokālā tāme Nr.1'!G20,0)) -> 0 | H17: =IF($C$2="Attiecināmās izmaksas",IF('Lokālā tāme Nr.1'!$Q20="Attiecināmās",'Lokālā tāme Nr.1'!H20,0)) -> 0 | I17: =IF($C$2="Attiecināmās izmaksas",IF('Lokālā tāme Nr.1'!$Q20="Attiecināmās",'Lokālā tāme Nr.1'!I20,0)) -> 0 | J17: =IF($C$2="Attiecināmās izmaksas",IF('Lokālā tāme Nr.1'!$Q20="Attiecināmās",'Lokālā tāme Nr.1'!J20,0)) -> 0 | ... P17: =IF($C$2="Attiecināmās izmaksas",IF('Lokālā tāme Nr.1'!$Q20="Attiecināmās",'Lokālā tāme Nr.1'!P20,0)) -> 0
A18: =IF(P18=0,0,IF(COUNTBLANK(P18)=1,0,COUNTA($P$8:P18))) -> 0 | B18: =IF($C$2="Attiecināmās izmaksas",IF('Lokālā tāme Nr.1'!$Q21="Attiecināmās",'Lokālā tāme Nr.1'!$B21,0)) -> 0 | C18: =IF($C$2="Attiecināmās izmaksas",IF('Lokālā tāme Nr.1'!$Q21="Attiecināmās",'Lokālā tāme Nr.1'!C21,0)) -> 0 | D18: =IF($C$2="Attiecināmās izmaksas",IF('Lokālā tāme Nr.1'!$Q21="Attiecināmās",'Lokālā tāme Nr.1'!D21,0)) -> 0 | E18: =IF($C$2="Attiecināmās izmaksas",IF('Lokālā tāme Nr.1'!$Q21="Attiecināmās",'Lokālā tāme Nr.1'!E21,0)) -> 0 | F18: =IF($C$2="Attiecināmās izmaksas",IF('Lokālā tāme Nr.1'!$Q21="Attiecināmās",'Lokālā tāme Nr.1'!F21,0)) -> 0 | G18: =IF($C$2="Attiecināmās izmaksas",IF('Lokālā tāme Nr.1'!$Q21="Attiecināmās",'Lokālā tāme Nr.1'!G21,0)) -> 0 | H18: =IF($C$2="Attiecināmās izmaksas",IF('Lokālā tāme Nr.1'!$Q21="Attiecināmās",'Lokālā tāme Nr.1'!H21,0)) -> 0 | I18: =IF($C$2="Attiecināmās izmaksas",IF('Lokālā tāme Nr.1'!$Q21="Attiecināmās",'Lokālā tāme Nr.1'!I21,0)) -> 0 | J18: =IF($C$2="Attiecināmās izmaksas",IF('Lokālā tāme Nr.1'!$Q21="Attiecināmās",'Lokālā tāme Nr.1'!J21,0)) -> 0 | ... P18: =IF($C$2="Attiecināmās izmaksas",IF('Lokālā tāme Nr.1'!$Q21="Attiecināmās",'Lokālā tāme Nr.1'!P21,0)) -> 0
A19: =IF(P19=0,0,IF(COUNTBLANK(P19)=1,0,COUNTA($P$8:P19))) -> 0 | B19: =IF($C$2="Attiecināmās izmaksas",IF('Lokālā tāme Nr.1'!$Q22="Attiecināmās",'Lokālā tāme Nr.1'!$B22,0)) -> 0 | C19: =IF($C$2="Attiecināmās izmaksas",IF('Lokālā tāme Nr.1'!$Q22="Attiecināmās",'Lokālā tāme Nr.1'!C22,0)) -> 0 | D19: =IF($C$2="Attiecināmās izmaksas",IF('Lokālā tāme Nr.1'!$Q22="Attiecināmās",'Lokālā tāme Nr.1'!D22,0)) -> 0 | E19: =IF($C$2="Attiecināmās izmaksas",IF('Lokālā tāme Nr.1'!$Q22="Attiecināmās",'Lokālā tāme Nr.1'!E22,0)) -> 0 | F19: =IF($C$2="Attiecināmās izmaksas",IF('Lokālā tāme Nr.1'!$Q22="Attiecināmās",'Lokālā tāme Nr.1'!F22,0)) -> 0 | G19: =IF($C$2="Attiecināmās izmaksas",IF('Lokālā tāme Nr.1'!$Q22="Attiecināmās",'Lokālā tāme Nr.1'!G22,0)) -> 0 | H19: =IF($C$2="Attiecināmās izmaksas",IF('Lokālā tāme Nr.1'!$Q22="Attiecināmās",'Lokālā tāme Nr.1'!H22,0)) -> 0 | I19: =IF($C$2="Attiecināmās izmaksas",IF('Lokālā tāme Nr.1'!$Q22="Attiecināmās",'Lokālā tāme Nr.1'!I22,0)) -> 0 | J19: =IF($C$2="Attiecināmās izmaksas",IF('Lokālā tāme Nr.1'!$Q22="Attiecināmās",'Lokālā tāme Nr.1'!J22,0)) -> 0 | ... P19: =IF($C$2="Attiecināmās izmaksas",IF('Lokālā tāme Nr.1'!$Q22="Attiecināmās",'Lokālā tāme Nr.1'!P22,0)) -> 0
... A494: =IF(P494=0,0,IF(COUNTBLANK(P494)=1,0,COUNTA($P$8:P494))) -> 0 | B494: =IF($C$2="Attiecināmās izmaksas",IF('Lokālā tāme Nr.1'!$Q497="Attiecināmās",'Lokālā tāme Nr.1'!$B497,0)) -> 0 | C494: =IF($C$2="Attiecināmās izmaksas",IF('Lokālā tāme Nr.1'!$Q497="Attiecināmās",'Lokālā tāme Nr.1'!C497,0)) -> 0 | D494: =IF($C$2="Attiecināmās izmaksas",IF('Lokālā tāme Nr.1'!$Q497="Attiecināmās",'Lokālā tāme Nr.1'!D497,0)) -> 0 | E494: =IF($C$2="Attiecināmās izmaksas",IF('Lokālā tāme Nr.1'!$Q497="Attiecināmās",'Lokālā tāme Nr.1'!E497,0)) -> 0 | F494: =IF($C$2="Attiecināmās izmaksas",IF('Lokālā tāme Nr.1'!$Q497="Attiecināmās",'Lokālā tāme Nr.1'!F497,0)) -> 0 | G494: =IF($C$2="Attiecināmās izmaksas",IF('Lokālā tāme Nr.1'!$Q497="Attiecināmās",'Lokālā tāme Nr.1'!G497,0)) -> 0 | H494: =IF($C$2="Attiecināmās izmaksas",IF('Lokālā tāme Nr.1'!$Q497="Attiecināmās",'Lokālā tāme Nr.1'!H497,0)) -> 0 | I494: =IF($C$2="Attiecināmās izmaksas",IF('Lokālā tāme Nr.1'!$Q497="Attiecināmās",'Lokālā tāme Nr.1'!I497,0)) -> 0 | J494: =IF($C$2="Attiecināmās izmaksas",IF('Lokālā tāme Nr.1'!$Q497="Attiecināmās",'Lokālā tāme Nr.1'!J497,0)) -> 0 | ... P494: =IF($C$2="Attiecināmās izmaksas",IF('Lokālā tāme Nr.1'!$Q497="Attiecināmās",'Lokālā tāme Nr.1'!P497,0)) -> 0
A495: Tiešās izmaksas kopā, t. sk. darba devēja sociālais nodoklis __.__% | L495: =SUM(L8:L494) -> 0 | M495: =SUM(M8:M494) -> 0 | N495: =SUM(N8:N494) -> 0 | O495: =SUM(O8:O494) -> 0 | P495: =SUM(P8:P494) -> 0

Sheet 1c
C1: Lokālā tāme Nr. | D1: {='Lokālā tāme Nr.1'!P2:Q2} -> 1 | E1: 0
C2: Neattiecināmās izmaksas
J3: Tāmes izmaksas EUR | N3: =P495 -> 0
A6: Nr.p.k. | B6: Kods | C6: Darba nosaukums | D6: Mērvienība | E6: Daudzums | F6: Vienības izmaksas | L6: Kopā uz visu apjomu
F7: Laika norma (c/h) | G7: Darba samaksas likme (EUR/h) | H7: Darba alga (EUR) | I7: Būvizstrādājumi (EUR) | J7: Mehānismi (EUR) | K7: Kopā (EUR) | L7: Laika norma (c/h) | M7: Darba alga (EUR) | N7: Būvizstrādājumi (EUR) | O7: Mehānismi (EUR) | P7: Kopā (EUR)
A8: =IF(P8=0,0,IF(COUNTBLANK(P8)=1,0,COUNTA($P$8:P8))) -> 0 | B8: =IF($C$2="Neattiecināmās izmaksas",IF('Lokālā tāme Nr.1'!$Q11="Neattiecināmās",'Lokālā tāme Nr.1'!$B11,0)) -> 0 | C8: =IF($C$2="Neattiecināmās izmaksas",IF('Lokālā tāme Nr.1'!$Q11="Neattiecināmās",'Lokālā tāme Nr.1'!C11,0)) -> 0 | D8: =IF($C$2="Neattiecināmās izmaksas",IF('Lokālā tāme Nr.1'!$Q11="Neattiecināmās",'Lokālā tāme Nr.1'!D11,0)) -> 0 | E8: =IF($C$2="Neattiecināmās izmaksas",IF('Lokālā tāme Nr.1'!$Q11="Neattiecināmās",'Lokālā tāme Nr.1'!E11,0)) -> 0 | F8: =IF($C$2="Neattiecināmās izmaksas",IF('Lokālā tāme Nr.1'!$Q11="Neattiecināmās",'Lokālā tāme Nr.1'!F11,0)) -> 0 | G8: =IF($C$2="Neattiecināmās izmaksas",IF('Lokālā tāme Nr.1'!$Q11="Neattiecināmās",'Lokālā tāme Nr.1'!G11,0)) -> 0 | H8: =IF($C$2="Neattiecināmās izmaksas",IF('Lokālā tāme Nr.1'!$Q11="Neattiecināmās",'Lokālā tāme Nr.1'!H11,0)) -> 0 | I8: =IF($C$2="Neattiecināmās izmaksas",IF('Lokālā tāme Nr.1'!$Q11="Neattiecināmās",'Lokālā tāme Nr.1'!I11,0)) -> 0 | J8: =IF($C$2="Neattiecināmās izmaksas",IF('Lokālā tāme Nr.1'!$Q11="Neattiecināmās",'Lokālā tāme Nr.1'!J11,0)) -> 0 | ... P8: =IF($C$2="Neattiecināmās izmaksas",IF('Lokālā tāme Nr.1'!$Q11="Neattiecināmās",'Lokālā tāme Nr.1'!P11,0)) -> 0
A9: =IF(P9=0,0,IF(COUNTBLANK(P9)=1,0,COUNTA($P$8:P9))) -> 0 | B9: =IF($C$2="Neattiecināmās izmaksas",IF('Lokālā tāme Nr.1'!$Q12="Neattiecināmās",'Lokālā tāme Nr.1'!$B12,0)) -> 0 | C9: =IF($C$2="Neattiecināmās izmaksas",IF('Lokālā tāme Nr.1'!$Q12="Neattiecināmās",'Lokālā tāme Nr.1'!C12,0)) -> 0 | D9: =IF($C$2="Neattiecināmās izmaksas",IF('Lokālā tāme Nr.1'!$Q12="Neattiecināmās",'Lokālā tāme Nr.1'!D12,0)) -> 0 | E9: =IF($C$2="Neattiecināmās izmaksas",IF('Lokālā tāme Nr.1'!$Q12="Neattiecināmās",'Lokālā tāme Nr.1'!E12,0)) -> 0 | F9: =IF($C$2="Neattiecināmās izmaksas",IF('Lokālā tāme Nr.1'!$Q12="Neattiecināmās",'Lokālā tāme Nr.1'!F12,0)) -> 0 | G9: =IF($C$2="Neattiecināmās izmaksas",IF('Lokālā tāme Nr.1'!$Q12="Neattiecināmās",'Lokālā tāme Nr.1'!G12,0)) -> 0 | H9: =IF($C$2="Neattiecināmās izmaksas",IF('Lokālā tāme Nr.1'!$Q12="Neattiecināmās",'Lokālā tāme Nr.1'!H12,0)) -> 0 | I9: =IF($C$2="Neattiecināmās izmaksas",IF('Lokālā tāme Nr.1'!$Q12="Neattiecināmās",'Lokālā tāme Nr.1'!I12,0)) -> 0 | J9: =IF($C$2="Neattiecināmās izmaksas",IF('Lokālā tāme Nr.1'!$Q12="Neattiecināmās",'Lokālā tāme Nr.1'!J12,0)) -> 0 | ... P9: =IF($C$2="Neattiecināmās izmaksas",IF('Lokālā tāme Nr.1'!$Q12="Neattiecināmās",'Lokālā tāme Nr.1'!P12,0)) -> 0
A10: =IF(P10=0,0,IF(COUNTBLANK(P10)=1,0,COUNTA($P$8:P10))) -> 0 | B10: =IF($C$2="Neattiecināmās izmaksas",IF('Lokālā tāme Nr.1'!$Q13="Neattiecināmās",'Lokālā tāme Nr.1'!$B13,0)) -> 0 | C10: =IF($C$2="Neattiecināmās izmaksas",IF('Lokālā tāme Nr.1'!$Q13="Neattiecināmās",'Lokālā tāme Nr.1'!C13,0)) -> 0 | D10: =IF($C$2="Neattiecināmās izmaksas",IF('Lokālā tāme Nr.1'!$Q13="Neattiecināmās",'Lokālā tāme Nr.1'!D13,0)) -> 0 | E10: =IF($C$2="Neattiecināmās izmaksas",IF('Lokālā tāme Nr.1'!$Q13="Neattiecināmās",'Lokālā tāme Nr.1'!E13,0)) -> 0 | F10: =IF($C$2="Neattiecināmās izmaksas",IF('Lokālā tāme Nr.1'!$Q13="Neattiecināmās",'Lokālā tāme Nr.1'!F13,0)) -> 0 | G10: =IF($C$2="Neattiecināmās izmaksas",IF('Lokālā tāme Nr.1'!$Q13="Neattiecināmās",'Lokālā tāme Nr.1'!G13,0)) -> 0 | H10: =IF($C$2="Neattiecināmās izmaksas",IF('Lokālā tāme Nr.1'!$Q13="Neattiecināmās",'Lokālā tāme Nr.1'!H13,0)) -> 0 | I10: =IF($C$2="Neattiecināmās izmaksas",IF('Lokālā tāme Nr.1'!$Q13="Neattiecināmās",'Lokālā tāme Nr.1'!I13,0)) -> 0 | J10: =IF($C$2="Neattiecināmās izmaksas",IF('Lokālā tāme Nr.1'!$Q13="Neattiecināmās",'Lokālā tāme Nr.1'!J13,0)) -> 0 | ... P10: =IF($C$2="Neattiecināmās izmaksas",IF('Lokālā tāme Nr.1'!$Q13="Neattiecināmās",'Lokālā tāme Nr.1'!P13,0)) -> 0
A11: =IF(P11=0,0,IF(COUNTBLANK(P11)=1,0,COUNTA($P$8:P11))) -> 0 | B11: =IF($C$2="Neattiecināmās izmaksas",IF('Lokālā tāme Nr.1'!$Q14="Neattiecināmās",'Lokālā tāme Nr.1'!$B14,0)) -> 0 | C11: =IF($C$2="Neattiecināmās izmaksas",IF('Lokālā tāme Nr.1'!$Q14="Neattiecināmās",'Lokālā tāme Nr.1'!C14,0)) -> 0 | D11: =IF($C$2="Neattiecināmās izmaksas",IF('Lokālā tāme Nr.1'!$Q14="Neattiecināmās",'Lokālā tāme Nr.1'!D14,0)) -> 0 | E11: =IF($C$2="Neattiecināmās izmaksas",IF('Lokālā tāme Nr.1'!$Q14="Neattiecināmās",'Lokālā tāme Nr.1'!E14,0)) -> 0 | F11: =IF($C$2="Neattiecināmās izmaksas",IF('Lokālā tāme Nr.1'!$Q14="Neattiecināmās",'Lokālā tāme Nr.1'!F14,0)) -> 0 | G11: =IF($C$2="Neattiecināmās izmaksas",IF('Lokālā tāme Nr.1'!$Q14="Neattiecināmās",'Lokālā tāme Nr.1'!G14,0)) -> 0 | H11: =IF($C$2="Neattiecināmās izmaksas",IF('Lokālā tāme Nr.1'!$Q14="Neattiecināmās",'Lokālā tāme Nr.1'!H14,0)) -> 0 | I11: =IF($C$2="Neattiecināmās izmaksas",IF('Lokālā tāme Nr.1'!$Q14="Neattiecināmās",'Lokālā tāme Nr.1'!I14,0)) -> 0 | J11: =IF($C$2="Neattiecināmās izmaksas",IF('Lokālā tāme Nr.1'!$Q14="Neattiecināmās",'Lokālā tāme Nr.1'!J14,0)) -> 0 | ... P11: =IF($C$2="Neattiecināmās izmaksas",IF('Lokālā tāme Nr.1'!$Q14="Neattiecināmās",'Lokālā tāme Nr.1'!P14,0)) -> 0
A12: =IF(P12=0,0,IF(COUNTBLANK(P12)=1,0,COUNTA($P$8:P12))) -> 0 | B12: =IF($C$2="Neattiecināmās izmaksas",IF('Lokālā tāme Nr.1'!$Q15="Neattiecināmās",'Lokālā tāme Nr.1'!$B15,0)) -> 0 | C12: =IF($C$2="Neattiecināmās izmaksas",IF('Lokālā tāme Nr.1'!$Q15="Neattiecināmās",'Lokālā tāme Nr.1'!C15,0)) -> 0 | D12: =IF($C$2="Neattiecināmās izmaksas",IF('Lokālā tāme Nr.1'!$Q15="Neattiecināmās",'Lokālā tāme Nr.1'!D15,0)) -> 0 | E12: =IF($C$2="Neattiecināmās izmaksas",IF('Lokālā tāme Nr.1'!$Q15="Neattiecināmās",'Lokālā tāme Nr.1'!E15,0)) -> 0 | F12: =IF($C$2="Neattiecināmās izmaksas",IF('Lokālā tāme Nr.1'!$Q15="Neattiecināmās",'Lokālā tāme Nr.1'!F15,0)) -> 0 | G12: =IF($C$2="Neattiecināmās izmaksas",IF('Lokālā tāme Nr.1'!$Q15="Neattiecināmās",'Lokālā tāme Nr.1'!G15,0)) -> 0 | H12: =IF($C$2="Neattiecināmās izmaksas",IF('Lokālā tāme Nr.1'!$Q15="Neattiecināmās",'Lokālā tāme Nr.1'!H15,0)) -> 0 | I12: =IF($C$2="Neattiecināmās izmaksas",IF('Lokālā tāme Nr.1'!$Q15="Neattiecināmās",'Lokālā tāme Nr.1'!I15,0)) -> 0 | J12: =IF($C$2="Neattiecināmās izmaksas",IF('Lokālā tāme Nr.1'!$Q15="Neattiecināmās",'Lokālā tāme Nr.1'!J15,0)) -> 0 | ... P12: =IF($C$2="Neattiecināmās izmaksas",IF('Lokālā tāme Nr.1'!$Q15="Neattiecināmās",'Lokālā tāme Nr.1'!P15,0)) -> 0
A13: =IF(P13=0,0,IF(COUNTBLANK(P13)=1,0,COUNTA($P$8:P13))) -> 0 | B13: =IF($C$2="Neattiecināmās izmaksas",IF('Lokālā tāme Nr.1'!$Q16="Neattiecināmās",'Lokālā tāme Nr.1'!$B16,0)) -> 0 | C13: =IF($C$2="Neattiecināmās izmaksas",IF('Lokālā tāme Nr.1'!$Q16="Neattiecināmās",'Lokālā tāme Nr.1'!C16,0)) -> 0 | D13: =IF($C$2="Neattiecināmās izmaksas",IF('Lokālā tāme Nr.1'!$Q16="Neattiecināmās",'Lokālā tāme Nr.1'!D16,0)) -> 0 | E13: =IF($C$2="Neattiecināmās izmaksas",IF('Lokālā tāme Nr.1'!$Q16="Neattiecināmās",'Lokālā tāme Nr.1'!E16,0)) -> 0 | F13: =IF($C$2="Neattiecināmās izmaksas",IF('Lokālā tāme Nr.1'!$Q16="Neattiecināmās",'Lokālā tāme Nr.1'!F16,0)) -> 0 | G13: =IF($C$2="Neattiecināmās izmaksas",IF('Lokālā tāme Nr.1'!$Q16="Neattiecināmās",'Lokālā tāme Nr.1'!G16,0)) -> 0 | H13: =IF($C$2="Neattiecināmās izmaksas",IF('Lokālā tāme Nr.1'!$Q16="Neattiecināmās",'Lokālā tāme Nr.1'!H16,0)) -> 0 | I13: =IF($C$2="Neattiecināmās izmaksas",IF('Lokālā tāme Nr.1'!$Q16="Neattiecināmās",'Lokālā tāme Nr.1'!I16,0)) -> 0 | J13: =IF($C$2="Neattiecināmās izmaksas",IF('Lokālā tāme Nr.1'!$Q16="Neattiecināmās",'Lokālā tāme Nr.1'!J16,0)) -> 0 | ... P13: =IF($C$2="Neattiecināmās izmaksas",IF('Lokālā tāme Nr.1'!$Q16="Neattiecināmās",'Lokālā tāme Nr.1'!P16,0)) -> 0
A14: =IF(P14=0,0,IF(COUNTBLANK(P14)=1,0,COUNTA($P$8:P14))) -> 0 | B14: =IF($C$2="Neattiecināmās izmaksas",IF('Lokālā tāme Nr.1'!$Q17="Neattiecināmās",'Lokālā tāme Nr.1'!$B17,0)) -> 0 | C14: =IF($C$2="Neattiecināmās izmaksas",IF('Lokālā tāme Nr.1'!$Q17="Neattiecināmās",'Lokālā tāme Nr.1'!C17,0)) -> 0 | D14: =IF($C$2="Neattiecināmās izmaksas",IF('Lokālā tāme Nr.1'!$Q17="Neattiecināmās",'Lokālā tāme Nr.1'!D17,0)) -> 0 | E14: =IF($C$2="Neattiecināmās izmaksas",IF('Lokālā tāme Nr.1'!$Q17="Neattiecināmās",'Lokālā tāme Nr.1'!E17,0)) -> 0 | F14: =IF($C$2="Neattiecināmās izmaksas",IF('Lokālā tāme Nr.1'!$Q17="Neattiecināmās",'Lokālā tāme Nr.1'!F17,0)) -> 0 | G14: =IF($C$2="Neattiecināmās izmaksas",IF('Lokālā tāme Nr.1'!$Q17="Neattiecināmās",'Lokālā tāme Nr.1'!G17,0)) -> 0 | H14: =IF($C$2="Neattiecināmās izmaksas",IF('Lokālā tāme Nr.1'!$Q17="Neattiecināmās",'Lokālā tāme Nr.1'!H17,0)) -> 0 | I14: =IF($C$2="Neattiecināmās izmaksas",IF('Lokālā tāme Nr.1'!$Q17="Neattiecināmās",'Lokālā tāme Nr.1'!I17,0)) -> 0 | J14: =IF($C$2="Neattiecināmās izmaksas",IF('Lokālā tāme Nr.1'!$Q17="Neattiecināmās",'Lokālā tāme Nr.1'!J17,0)) -> 0 | ... P14: =IF($C$2="Neattiecināmās izmaksas",IF('Lokālā tāme Nr.1'!$Q17="Neattiecināmās",'Lokālā tāme Nr.1'!P17,0)) -> 0
A15: =IF(P15=0,0,IF(COUNTBLANK(P15)=1,0,COUNTA($P$8:P15))) -> 0 | B15: =IF($C$2="Neattiecināmās izmaksas",IF('Lokālā tāme Nr.1'!$Q18="Neattiecināmās",'Lokālā tāme Nr.1'!$B18,0)) -> 0 | C15: =IF($C$2="Neattiecināmās izmaksas",IF('Lokālā tāme Nr.1'!$Q18="Neattiecināmās",'Lokālā tāme Nr.1'!C18,0)) -> 0 | D15: =IF($C$2="Neattiecināmās izmaksas",IF('Lokālā tāme Nr.1'!$Q18="Neattiecināmās",'Lokālā tāme Nr.1'!D18,0)) -> 0 | E15: =IF($C$2="Neattiecināmās izmaksas",IF('Lokālā tāme Nr.1'!$Q18="Neattiecināmās",'Lokālā tāme Nr.1'!E18,0)) -> 0 | F15: =IF($C$2="Neattiecināmās izmaksas",IF('Lokālā tāme Nr.1'!$Q18="Neattiecināmās",'Lokālā tāme Nr.1'!F18,0)) -> 0 | G15: =IF($C$2="Neattiecināmās izmaksas",IF('Lokālā tāme Nr.1'!$Q18="Neattiecināmās",'Lokālā tāme Nr.1'!G18,0)) -> 0 | H15: =IF($C$2="Neattiecināmās izmaksas",IF('Lokālā tāme Nr.1'!$Q18="Neattiecināmās",'Lokālā tāme Nr.1'!H18,0)) -> 0 | I15: =IF($C$2="Neattiecināmās izmaksas",IF('Lokālā tāme Nr.1'!$Q18="Neattiecināmās",'Lokālā tāme Nr.1'!I18,0)) -> 0 | J15: =IF($C$2="Neattiecināmās izmaksas",IF('Lokālā tāme Nr.1'!$Q18="Neattiecināmās",'Lokālā tāme Nr.1'!J18,0)) -> 0 | ... P15: =IF($C$2="Neattiecināmās izmaksas",IF('Lokālā tāme Nr.1'!$Q18="Neattiecināmās",'Lokālā tāme Nr.1'!P18,0)) -> 0
A16: =IF(P16=0,0,IF(COUNTBLANK(P16)=1,0,COUNTA($P$8:P16))) -> 0 | B16: =IF($C$2="Neattiecināmās izmaksas",IF('Lokālā tāme Nr.1'!$Q19="Neattiecināmās",'Lokālā tāme Nr.1'!$B19,0)) -> 0 | C16: =IF($C$2="Neattiecināmās izmaksas",IF('Lokālā tāme Nr.1'!$Q19="Neattiecināmās",'Lokālā tāme Nr.1'!C19,0)) -> 0 | D16: =IF($C$2="Neattiecināmās izmaksas",IF('Lokālā tāme Nr.1'!$Q19="Neattiecināmās",'Lokālā tāme Nr.1'!D19,0)) -> 0 | E16: =IF($C$2="Neattiecināmās izmaksas",IF('Lokālā tāme Nr.1'!$Q19="Neattiecināmās",'Lokālā tāme Nr.1'!E19,0)) -> 0 | F16: =IF($C$2="Neattiecināmās izmaksas",IF('Lokālā tāme Nr.1'!$Q19="Neattiecināmās",'Lokālā tāme Nr.1'!F19,0)) -> 0 | G16: =IF($C$2="Neattiecināmās izmaksas",IF('Lokālā tāme Nr.1'!$Q19="Neattiecināmās",'Lokālā tāme Nr.1'!G19,0)) -> 0 | H16: =IF($C$2="Neattiecināmās izmaksas",IF('Lokālā tāme Nr.1'!$Q19="Neattiecināmās",'Lokālā tāme Nr.1'!H19,0)) -> 0 | I16: =IF($C$2="Neattiecināmās izmaksas",IF('Lokālā tāme Nr.1'!$Q19="Neattiecināmās",'Lokālā tāme Nr.1'!I19,0)) -> 0 | J16: =IF($C$2="Neattiecināmās izmaksas",IF('Lokālā tāme Nr.1'!$Q19="Neattiecināmās",'Lokālā tāme Nr.1'!J19,0)) -> 0 | ... P16: =IF($C$2="Neattiecināmās izmaksas",IF('Lokālā tāme Nr.1'!$Q19="Neattiecināmās",'Lokālā tāme Nr.1'!P19,0)) -> 0
A17: =IF(P17=0,0,IF(COUNTBLANK(P17)=1,0,COUNTA($P$8:P17))) -> 0 | B17: =IF($C$2="Neattiecināmās izmaksas",IF('Lokālā tāme Nr.1'!$Q20="Neattiecināmās",'Lokālā tāme Nr.1'!$B20,0)) -> 0 | C17: =IF($C$2="Neattiecināmās izmaksas",IF('Lokālā tāme Nr.1'!$Q20="Neattiecināmās",'Lokālā tāme Nr.1'!C20,0)) -> 0 | D17: =IF($C$2="Neattiecināmās izmaksas",IF('Lokālā tāme Nr.1'!$Q20="Neattiecināmās",'Lokālā tāme Nr.1'!D20,0)) -> 0 | E17: =IF($C$2="Neattiecināmās izmaksas",IF('Lokālā tāme Nr.1'!$Q20="Neattiecināmās",'Lokālā tāme Nr.1'!E20,0)) -> 0 | F17: =IF($C$2="Neattiecināmās izmaksas",IF('Lokālā tāme Nr.1'!$Q20="Neattiecināmās",'Lokālā tāme Nr.1'!F20,0)) -> 0 | G17: =IF($C$2="Neattiecināmās izmaksas",IF('Lokālā tāme Nr.1'!$Q20="Neattiecināmās",'Lokālā tāme Nr.1'!G20,0)) -> 0 | H17: =IF($C$2="Neattiecināmās izmaksas",IF('Lokālā tāme Nr.1'!$Q20="Neattiecināmās",'Lokālā tāme Nr.1'!H20,0)) -> 0 | I17: =IF($C$2="Neattiecināmās izmaksas",IF('Lokālā tāme Nr.1'!$Q20="Neattiecināmās",'Lokālā tāme Nr.1'!I20,0)) -> 0 | J17: =IF($C$2="Neattiecināmās izmaksas",IF('Lokālā tāme Nr.1'!$Q20="Neattiecināmās",'Lokālā tāme Nr.1'!J20,0)) -> 0 | ... P17: =IF($C$2="Neattiecināmās izmaksas",IF('Lokālā tāme Nr.1'!$Q20="Neattiecināmās",'Lokālā tāme Nr.1'!P20,0)) -> 0
A18: =IF(P18=0,0,IF(COUNTBLANK(P18)=1,0,COUNTA($P$8:P18))) -> 0 | B18: =IF($C$2="Neattiecināmās izmaksas",IF('Lokālā tāme Nr.1'!$Q21="Neattiecināmās",'Lokālā tāme Nr.1'!$B21,0)) -> 0 | C18: =IF($C$2="Neattiecināmās izmaksas",IF('Lokālā tāme Nr.1'!$Q21="Neattiecināmās",'Lokālā tāme Nr.1'!C21,0)) -> 0 | D18: =IF($C$2="Neattiecināmās izmaksas",IF('Lokālā tāme Nr.1'!$Q21="Neattiecināmās",'Lokālā tāme Nr.1'!D21,0)) -> 0 | E18: =IF($C$2="Neattiecināmās izmaksas",IF('Lokālā tāme Nr.1'!$Q21="Neattiecināmās",'Lokālā tāme Nr.1'!E21,0)) -> 0 | F18: =IF($C$2="Neattiecināmās izmaksas",IF('Lokālā tāme Nr.1'!$Q21="Neattiecināmās",'Lokālā tāme Nr.1'!F21,0)) -> 0 | G18: =IF($C$2="Neattiecināmās izmaksas",IF('Lokālā tāme Nr.1'!$Q21="Neattiecināmās",'Lokālā tāme Nr.1'!G21,0)) -> 0 | H18: =IF($C$2="Neattiecināmās izmaksas",IF('Lokālā tāme Nr.1'!$Q21="Neattiecināmās",'Lokālā tāme Nr.1'!H21,0)) -> 0 | I18: =IF($C$2="Neattiecināmās izmaksas",IF('Lokālā tāme Nr.1'!$Q21="Neattiecināmās",'Lokālā tāme Nr.1'!I21,0)) -> 0 | J18: =IF($C$2="Neattiecināmās izmaksas",IF('Lokālā tāme Nr.1'!$Q21="Neattiecināmās",'Lokālā tāme Nr.1'!J21,0)) -> 0 | ... P18: =IF($C$2="Neattiecināmās izmaksas",IF('Lokālā tāme Nr.1'!$Q21="Neattiecināmās",'Lokālā tāme Nr.1'!P21,0)) -> 0
A19: =IF(P19=0,0,IF(COUNTBLANK(P19)=1,0,COUNTA($P$8:P19))) -> 0 | B19: =IF($C$2="Neattiecināmās izmaksas",IF('Lokālā tāme Nr.1'!$Q22="Neattiecināmās",'Lokālā tāme Nr.1'!$B22,0)) -> 0 | C19: =IF($C$2="Neattiecināmās izmaksas",IF('Lokālā tāme Nr.1'!$Q22="Neattiecināmās",'Lokālā tāme Nr.1'!C22,0)) -> 0 | D19: =IF($C$2="Neattiecināmās izmaksas",IF('Lokālā tāme Nr.1'!$Q22="Neattiecināmās",'Lokālā tāme Nr.1'!D22,0)) -> 0 | E19: =IF($C$2="Neattiecināmās izmaksas",IF('Lokālā tāme Nr.1'!$Q22="Neattiecināmās",'Lokālā tāme Nr.1'!E22,0)) -> 0 | F19: =IF($C$2="Neattiecināmās izmaksas",IF('Lokālā tāme Nr.1'!$Q22="Neattiecināmās",'Lokālā tāme Nr.1'!F22,0)) -> 0 | G19: =IF($C$2="Neattiecināmās izmaksas",IF('Lokālā tāme Nr.1'!$Q22="Neattiecināmās",'Lokālā tāme Nr.1'!G22,0)) -> 0 | H19: =IF($C$2="Neattiecināmās izmaksas",IF('Lokālā tāme Nr.1'!$Q22="Neattiecināmās",'Lokālā tāme Nr.1'!H22,0)) -> 0 | I19: =IF($C$2="Neattiecināmās izmaksas",IF('Lokālā tāme Nr.1'!$Q22="Neattiecināmās",'Lokālā tāme Nr.1'!I22,0)) -> 0 | J19: =IF($C$2="Neattiecināmās izmaksas",IF('Lokālā tāme Nr.1'!$Q22="Neattiecināmās",'Lokālā tāme Nr.1'!J22,0)) -> 0 | ... P19: =IF($C$2="Neattiecināmās izmaksas",IF('Lokālā tāme Nr.1'!$Q22="Neattiecināmās",'Lokālā tāme Nr.1'!P22,0)) -> 0
... A494: =IF(P494=0,0,IF(COUNTBLANK(P494)=1,0,COUNTA($P$8:P494))) -> 0 | B494: =IF($C$2="Neattiecināmās izmaksas",IF('Lokālā tāme Nr.1'!$Q497="Neattiecināmās",'Lokālā tāme Nr.1'!$B497,0)) -> 0 | C494: =IF($C$2="Neattiecināmās izmaksas",IF('Lokālā tāme Nr.1'!$Q497="Neattiecināmās",'Lokālā tāme Nr.1'!C497,0)) -> 0 | D494: =IF($C$2="Neattiecināmās izmaksas",IF('Lokālā tāme Nr.1'!$Q497="Neattiecināmās",'Lokālā tāme Nr.1'!D497,0)) -> 0 | E494: =IF($C$2="Neattiecināmās izmaksas",IF('Lokālā tāme Nr.1'!$Q497="Neattiecināmās",'Lokālā tāme Nr.1'!E497,0)) -> 0 | F494: =IF($C$2="Neattiecināmās izmaksas",IF('Lokālā tāme Nr.1'!$Q497="Neattiecināmās",'Lokālā tāme Nr.1'!F497,0)) -> 0 | G494: =IF($C$2="Neattiecināmās izmaksas",IF('Lokālā tāme Nr.1'!$Q497="Neattiecināmās",'Lokālā tāme Nr.1'!G497,0)) -> 0 | H494: =IF($C$2="Neattiecināmās izmaksas",IF('Lokālā tāme Nr.1'!$Q497="Neattiecināmās",'Lokālā tāme Nr.1'!H497,0)) -> 0 | I494: =IF($C$2="Neattiecināmās izmaksas",IF('Lokālā tāme Nr.1'!$Q497="Neattiecināmās",'Lokālā tāme Nr.1'!I497,0)) -> 0 | J494: =IF($C$2="Neattiecināmās izmaksas",IF('Lokālā tāme Nr.1'!$Q497="Neattiecināmās",'Lokālā tāme Nr.1'!J497,0)) -> 0 | ... P494: =IF($C$2="Neattiecināmās izmaksas",IF('Lokālā tāme Nr.1'!$Q497="Neattiecināmās",'Lokālā tāme Nr.1'!P497,0)) -> 0
A495: Tiešās izmaksas kopā, t. sk. darba devēja sociālais nodoklis __.__% | L495: =SUM(L8:L494) -> 0 | M495: =SUM(M8:M494) -> 0 | N495: =SUM(N8:N494) -> 0 | O495: =SUM(O8:O494) -> 0 | P495: =SUM(P8:P494) -> 0

Sheet Lokālā tāme Nr.2
B2: LOKĀLĀ TĀME NR. | Q2: 2
N4: =B4 -> 0
B5: darba veids vai konstruktīvā elementa nosaukums
B7: KOPĒJĀS IZMAKSAS | G7: =P498 -> 0
B9: Nr.p.k. | C9: Darba nosaukums | D9: Mērvienība | E9: Daudzums | F9: Vienības izmaksas | L9: Kopā uz visu apjomu | Q9: Izmaksu veids (attiecināmās vai neattiecināmas)
F10: Laika norma (c/h) | G10: Darba samaksas likme (EUR/h) | H10: Darba alga (EUR) | I10: Būvizstrādājumi (EUR) | J10: Mehānismi (EUR) | K10: Kopā (EUR) | L10: Laika norma (c/h) | M10: Darba alga (EUR) | N10: Būvizstrādājumi (EUR) | O10: Mehānismi (EUR) | P10: Kopā (EUR)
H11: =ROUND(F11*G11,2) -> 0 | K11: =SUM(H11:J11) -> 0 | L11: =ROUND(E11*F11,2) -> 0 | M11: =ROUND(H11*E11,2) -> 0 | N11: =ROUND(I11*E11,2) -> 0 | O11: =ROUND(J11*E11,2) -> 0 | P11: =SUM(M11:O11) -> 0
H12: =ROUND(F12*G12,2) -> 0 | K12: =SUM(H12:J12) -> 0 | L12: =ROUND(E12*F12,2) -> 0 | M12: =ROUND(H12*E12,2) -> 0 | N12: =ROUND(I12*E12,2) -> 0 | O12: =ROUND(J12*E12,2) -> 0 | P12: =SUM(M12:O12) -> 0
H13: =ROUND(F13*G13,2) -> 0 | K13: =SUM(H13:J13) -> 0 | L13: =ROUND(E13*F13,2) -> 0 | M13: =ROUND(H13*E13,2) -> 0 | N13: =ROUND(I13*E13,2) -> 0 | O13: =ROUND(J13*E13,2) -> 0 | P13: =SUM(M13:O13) -> 0
H14: =ROUND(F14*G14,2) -> 0 | K14: =SUM(H14:J14) -> 0 | L14: =ROUND(E14*F14,2) -> 0 | M14: =ROUND(H14*E14,2) -> 0 | N14: =ROUND(I14*E14,2) -> 0 | O14: =ROUND(J14*E14,2) -> 0 | P14: =SUM(M14:O14) -> 0
H15: =ROUND(F15*G15,2) -> 0 | K15: =SUM(H15:J15) -> 0 | L15: =ROUND(E15*F15,2) -> 0 | M15: =ROUND(H15*E15,2) -> 0 | N15: =ROUND(I15*E15,2) -> 0 | O15: =ROUND(J15*E15,2) -> 0 | P15: =SUM(M15:O15) -> 0
H16: =ROUND(F16*G16,2) -> 0 | K16: =SUM(H16:J16) -> 0 | L16: =ROUND(E16*F16,2) -> 0 | M16: =ROUND(H16*E16,2) -> 0 | N16: =ROUND(I16*E16,2) -> 0 | O16: =ROUND(J16*E16,2) -> 0 | P16: =SUM(M16:O16) -> 0
H17: =ROUND(F17*G17,2) -> 0 | K17: =SUM(H17:J17) -> 0 | L17: =ROUND(E17*F17,2) -> 0 | M17: =ROUND(H17*E17,2) -> 0 | N17: =ROUND(I17*E17,2) -> 0 | O17: =ROUND(J17*E17,2) -> 0 | P17: =SUM(M17:O17) -> 0
H18: =ROUND(F18*G18,2) -> 0 | K18: =SUM(H18:J18) -> 0 | L18: =ROUND(E18*F18,2) -> 0 | M18: =ROUND(H18*E18,2) -> 0 | N18: =ROUND(I18*E18,2) -> 0 | O18: =ROUND(J18*E18,2) -> 0 | P18: =SUM(M18:O18) -> 0
H19: =ROUND(F19*G19,2) -> 0 | K19: =SUM(H19:J19) -> 0 | L19: =ROUND(E19*F19,2) -> 0 | M19: =ROUND(H19*E19,2) -> 0 | N19: =ROUND(I19*E19,2) -> 0 | O19: =ROUND(J19*E19,2) -> 0 | P19: =SUM(M19:O19) -> 0
H20: =ROUND(F20*G20,2) -> 0 | K20: =SUM(H20:J20) -> 0 | L20: =ROUND(E20*F20,2) -> 0 | M20: =ROUND(H20*E20,2) -> 0 | N20: =ROUND(I20*E20,2) -> 0 | O20: =ROUND(J20*E20,2) -> 0 | P20: =SUM(M20:O20) -> 0
H21: =ROUND(F21*G21,2) -> 0 | K21: =SUM(H21:J21) -> 0 | L21: =ROUND(E21*F21,2) -> 0 | M21: =ROUND(H21*E21,2) -> 0 | N21: =ROUND(I21*E21,2) -> 0 | O21: =ROUND(J21*E21,2) -> 0 | P21: =SUM(M21:O21) -> 0
H22: =ROUND(F22*G22,2) -> 0 | K22: =SUM(H22:J22) -> 0 | L22: =ROUND(E22*F22,2) -> 0 | M22: =ROUND(H22*E22,2) -> 0 | N22: =ROUND(I22*E22,2) -> 0 | O22: =ROUND(J22*E22,2) -> 0 | P22: =SUM(M22:O22) -> 0
... H497: =ROUND(F497*G497,2) -> 0 | K497: =SUM(H497:J497) -> 0 | L497: =ROUND(E497*F497,2) -> 0 | M497: =ROUND(H497*E497,2) -> 0 | N497: =ROUND(I497*E497,2) -> 0 | O497: =ROUND(J497*E497,2) -> 0 | P497: =SUM(M497:O497) -> 0
B498: Tiešās izmaksas kopā, t. sk. darba devēja sociālais nodoklis 23.59% | L498: =SUM(L11:L497) -> 0 | M498: =SUM(M11:M497) -> 0 | N498: =SUM(N11:N497) -> 0 | O498: =SUM(O11:O497) -> 0 | P498: =SUM(P11:P497) -> 0

Sheet 2a
C1: Lokālā tāme Nr. | D1: ='Lokālā tāme Nr.2'!Q2 -> 2
C2: Attiecināmās izmaksas
J3: Tāmes izmaksas EUR | N3: =P495 -> 0
A6: Nr.p.k. | B6: Kods | C6: Darba nosaukums | D6: Mērvienība | E6: Daudzums | F6: Vienības izmaksas | L6: Kopā uz visu apjomu
F7: Laika norma (c/h) | G7: Darba samaksas likme (EUR/h) | H7: Darba alga (EUR) | I7: Būvizstrādājumi (EUR) | J7: Mehānismi (EUR) | K7: Kopā (EUR) | L7: Laika norma (c/h) | M7: Darba alga (EUR) | N7: Būvizstrādājumi (EUR) | O7: Mehānismi (EUR) | P7: Kopā (EUR)
A8: =IF(P8=0,0,IF(COUNTBLANK(P8)=1,0,COUNTA($P$8:P8))) -> 0 | B8: =IF($C$2="Attiecināmās izmaksas",IF('Lokālā tāme Nr.2'!$Q11="Attiecināmās",'Lokālā tāme Nr.2'!$B11,0),0) -> 0 | C8: =IF($C$2="Attiecināmās izmaksas",IF('Lokālā tāme Nr.2'!$Q11="Attiecināmās",'Lokālā tāme Nr.2'!$C11,0),0) -> 0 | D8: =IF($C$2="Attiecināmās izmaksas",IF('Lokālā tāme Nr.2'!$Q11="Attiecināmās",'Lokālā tāme Nr.2'!$D11,0),0) -> 0 | E8: =IF($C$2="Attiecināmās izmaksas",IF('Lokālā tāme Nr.2'!$Q11="Attiecināmās",'Lokālā tāme Nr.2'!$E11,0),0) -> 0 | F8: =IF($C$2="Attiecināmās izmaksas",IF('Lokālā tāme Nr.2'!$Q11="Attiecināmās",'Lokālā tāme Nr.2'!$F11,0),0) -> 0 | G8: =IF($C$2="Attiecināmās izmaksas",IF('Lokālā tāme Nr.2'!$Q11="Attiecināmās",'Lokālā tāme Nr.2'!$G11,0),0) -> 0 | H8: =IF($C$2="Attiecināmās izmaksas",IF('Lokālā tāme Nr.2'!$Q11="Attiecināmās",'Lokālā tāme Nr.2'!$H11,0),0) -> 0 | I8: =IF($C$2="Attiecināmās izmaksas",IF('Lokālā tāme Nr.2'!$Q11="Attiecināmās",'Lokālā tāme Nr.2'!$I11,0),0) -> 0 | J8: =IF($C$2="Attiecināmās izmaksas",IF('Lokālā tāme Nr.2'!$Q11="Attiecināmās",'Lokālā tāme Nr.2'!$J11,0),0) -> 0 | K8: =IF($C$2="Attiecināmās izmaksas",IF('Lokālā tāme Nr.2'!$Q11="Attiecināmās",'Lokālā tāme Nr.2'!$K11,0),0) -> 0 | L8: =IF($C$2="Attiecināmās izmaksas",IF('Lokālā tāme Nr.2'!$Q11="Attiecināmās",'Lokālā tāme Nr.2'!$L11,0),0) -> 0 | M8: =IF($C$2="Attiecināmās izmaksas",IF('Lokālā tāme Nr.2'!$Q11="Attiecināmās",'Lokālā tāme Nr.2'!$M11,0),0) -> 0 | N8: =IF($C$2="Attiecināmās izmaksas",IF('Lokālā tāme Nr.2'!$Q11="Attiecināmās",'Lokālā tāme Nr.2'!$N11,0),0) -> 0 | O8: =IF($C$2="Attiecināmās izmaksas",IF('Lokālā tāme Nr.2'!$Q11="Attiecināmās",'Lokālā tāme Nr.2'!$O11,0),0) -> 0 | P8: =IF($C$2="Attiecināmās izmaksas",IF('Lokālā tāme Nr.2'!$Q11="Attiecināmās",'Lokālā tāme Nr.2'!$P11,0),0) -> 0
A9: =IF(P9=0,0,IF(COUNTBLANK(P9)=1,0,COUNTA($P$8:P9))) -> 0 | B9: =IF($C$2="Attiecināmās izmaksas",IF('Lokālā tāme Nr.2'!$Q12="Attiecināmās",'Lokālā tāme Nr.2'!$B12,0),0) -> 0 | C9: =IF($C$2="Attiecināmās izmaksas",IF('Lokālā tāme Nr.2'!$Q12="Attiecināmās",'Lokālā tāme Nr.2'!$C12,0),0) -> 0 | D9: =IF($C$2="Attiecināmās izmaksas",IF('Lokālā tāme Nr.2'!$Q12="Attiecināmās",'Lokālā tāme Nr.2'!$D12,0),0) -> 0 | E9: =IF($C$2="Attiecināmās izmaksas",IF('Lokālā tāme Nr.2'!$Q12="Attiecināmās",'Lokālā tāme Nr.2'!$E12,0),0) -> 0 | F9: =IF($C$2="Attiecināmās izmaksas",IF('Lokālā tāme Nr.2'!$Q12="Attiecināmās",'Lokālā tāme Nr.2'!$F12,0),0) -> 0 | G9: =IF($C$2="Attiecināmās izmaksas",IF('Lokālā tāme Nr.2'!$Q12="Attiecināmās",'Lokālā tāme Nr.2'!$G12,0),0) -> 0 | H9: =IF($C$2="Attiecināmās izmaksas",IF('Lokālā tāme Nr.2'!$Q12="Attiecināmās",'Lokālā tāme Nr.2'!$H12,0),0) -> 0 | I9: =IF($C$2="Attiecināmās izmaksas",IF('Lokālā tāme Nr.2'!$Q12="Attiecināmās",'Lokālā tāme Nr.2'!$I12,0),0) -> 0 | J9: =IF($C$2="Attiecināmās izmaksas",IF('Lokālā tāme Nr.2'!$Q12="Attiecināmās",'Lokālā tāme Nr.2'!$J12,0),0) -> 0 | K9: =IF($C$2="Attiecināmās izmaksas",IF('Lokālā tāme Nr.2'!$Q12="Attiecināmās",'Lokālā tāme Nr.2'!$K12,0),0) -> 0 | L9: =IF($C$2="Attiecināmās izmaksas",IF('Lokālā tāme Nr.2'!$Q12="Attiecināmās",'Lokālā tāme Nr.2'!$L12,0),0) -> 0 | M9: =IF($C$2="Attiecināmās izmaksas",IF('Lokālā tāme Nr.2'!$Q12="Attiecināmās",'Lokālā tāme Nr.2'!$M12,0),0) -> 0 | N9: =IF($C$2="Attiecināmās izmaksas",IF('Lokālā tāme Nr.2'!$Q12="Attiecināmās",'Lokālā tāme Nr.2'!$N12,0),0) -> 0 | O9: =IF($C$2="Attiecināmās izmaksas",IF('Lokālā tāme Nr.2'!$Q12="Attiecināmās",'Lokālā tāme Nr.2'!$O12,0),0) -> 0 | P9: =IF($C$2="Attiecināmās izmaksas",IF('Lokālā tāme Nr.2'!$Q12="Attiecināmās",'Lokālā tāme Nr.2'!$P12,0),0) -> 0
A10: =IF(P10=0,0,IF(COUNTBLANK(P10)=1,0,COUNTA($P$8:P10))) -> 0 | B10: =IF($C$2="Attiecināmās izmaksas",IF('Lokālā tāme Nr.2'!$Q13="Attiecināmās",'Lokālā tāme Nr.2'!$B13,0),0) -> 0 | C10: =IF($C$2="Attiecināmās izmaksas",IF('Lokālā tāme Nr.2'!$Q13="Attiecināmās",'Lokālā tāme Nr.2'!$C13,0),0) -> 0 | D10: =IF($C$2="Attiecināmās izmaksas",IF('Lokālā tāme Nr.2'!$Q13="Attiecināmās",'Lokālā tāme Nr.2'!$D13,0),0) -> 0 | E10: =IF($C$2="Attiecināmās izmaksas",IF('Lokālā tāme Nr.2'!$Q13="Attiecināmās",'Lokālā tāme Nr.2'!$E13,0),0) -> 0 | F10: =IF($C$2="Attiecināmās izmaksas",IF('Lokālā tāme Nr.2'!$Q13="Attiecināmās",'Lokālā tāme Nr.2'!$F13,0),0) -> 0 | G10: =IF($C$2="Attiecināmās izmaksas",IF('Lokālā tāme Nr.2'!$Q13="Attiecināmās",'Lokālā tāme Nr.2'!$G13,0),0) -> 0 | H10: =IF($C$2="Attiecināmās izmaksas",IF('Lokālā tāme Nr.2'!$Q13="Attiecināmās",'Lokālā tāme Nr.2'!$H13,0),0) -> 0 | I10: =IF($C$2="Attiecināmās izmaksas",IF('Lokālā tāme Nr.2'!$Q13="Attiecināmās",'Lokālā tāme Nr.2'!$I13,0),0) -> 0 | J10: =IF($C$2="Attiecināmās izmaksas",IF('Lokālā tāme Nr.2'!$Q13="Attiecināmās",'Lokālā tāme Nr.2'!$J13,0),0) -> 0 | K10: =IF($C$2="Attiecināmās izmaksas",IF('Lokālā tāme Nr.2'!$Q13="Attiecināmās",'Lokālā tāme Nr.2'!$K13,0),0) -> 0 | L10: =IF($C$2="Attiecināmās izmaksas",IF('Lokālā tāme Nr.2'!$Q13="Attiecināmās",'Lokālā tāme Nr.2'!$L13,0),0) -> 0 | M10: =IF($C$2="Attiecināmās izmaksas",IF('Lokālā tāme Nr.2'!$Q13="Attiecināmās",'Lokālā tāme Nr.2'!$M13,0),0) -> 0 | N10: =IF($C$2="Attiecināmās izmaksas",IF('Lokālā tāme Nr.2'!$Q13="Attiecināmās",'Lokālā tāme Nr.2'!$N13,0),0) -> 0 | O10: =IF($C$2="Attiecināmās izmaksas",IF('Lokālā tāme Nr.2'!$Q13="Attiecināmās",'Lokālā tāme Nr.2'!$O13,0),0) -> 0 | P10: =IF($C$2="Attiecināmās izmaksas",IF('Lokālā tāme Nr.2'!$Q13="Attiecināmās",'Lokālā tāme Nr.2'!$P13,0),0) -> 0
A11: =IF(P11=0,0,IF(COUNTBLANK(P11)=1,0,COUNTA($P$8:P11))) -> 0 | B11: =IF($C$2="Attiecināmās izmaksas",IF('Lokālā tāme Nr.2'!$Q14="Attiecināmās",'Lokālā tāme Nr.2'!$B14,0),0) -> 0 | C11: =IF($C$2="Attiecināmās izmaksas",IF('Lokālā tāme Nr.2'!$Q14="Attiecināmās",'Lokālā tāme Nr.2'!$C14,0),0) -> 0 | D11: =IF($C$2="Attiecināmās izmaksas",IF('Lokālā tāme Nr.2'!$Q14="Attiecināmās",'Lokālā tāme Nr.2'!$D14,0),0) -> 0 | E11: =IF($C$2="Attiecināmās izmaksas",IF('Lokālā tāme Nr.2'!$Q14="Attiecināmās",'Lokālā tāme Nr.2'!$E14,0),0) -> 0 | F11: =IF($C$2="Attiecināmās izmaksas",IF('Lokālā tāme Nr.2'!$Q14="Attiecināmās",'Lokālā tāme Nr.2'!$F14,0),0) -> 0 | G11: =IF($C$2="Attiecināmās izmaksas",IF('Lokālā tāme Nr.2'!$Q14="Attiecināmās",'Lokālā tāme Nr.2'!$G14,0),0) -> 0 | H11: =IF($C$2="Attiecināmās izmaksas",IF('Lokālā tāme Nr.2'!$Q14="Attiecināmās",'Lokālā tāme Nr.2'!$H14,0),0) -> 0 | I11: =IF($C$2="Attiecināmās izmaksas",IF('Lokālā tāme Nr.2'!$Q14="Attiecināmās",'Lokālā tāme Nr.2'!$I14,0),0) -> 0 | J11: =IF($C$2="Attiecināmās izmaksas",IF('Lokālā tāme Nr.2'!$Q14="Attiecināmās",'Lokālā tāme Nr.2'!$J14,0),0) -> 0 | K11: =IF($C$2="Attiecināmās izmaksas",IF('Lokālā tāme Nr.2'!$Q14="Attiecināmās",'Lokālā tāme Nr.2'!$K14,0),0) -> 0 | L11: =IF($C$2="Attiecināmās izmaksas",IF('Lokālā tāme Nr.2'!$Q14="Attiecināmās",'Lokālā tāme Nr.2'!$L14,0),0) -> 0 | M11: =IF($C$2="Attiecināmās izmaksas",IF('Lokālā tāme Nr.2'!$Q14="Attiecināmās",'Lokālā tāme Nr.2'!$M14,0),0) -> 0 | N11: =IF($C$2="Attiecināmās izmaksas",IF('Lokālā tāme Nr.2'!$Q14="Attiecināmās",'Lokālā tāme Nr.2'!$N14,0),0) -> 0 | O11: =IF($C$2="Attiecināmās izmaksas",IF('Lokālā tāme Nr.2'!$Q14="Attiecināmās",'Lokālā tāme Nr.2'!$O14,0),0) -> 0 | P11: =IF($C$2="Attiecināmās izmaksas",IF('Lokālā tāme Nr.2'!$Q14="Attiecināmās",'Lokālā tāme Nr.2'!$P14,0),0) -> 0
A12: =IF(P12=0,0,IF(COUNTBLANK(P12)=1,0,COUNTA($P$8:P12))) -> 0 | B12: =IF($C$2="Attiecināmās izmaksas",IF('Lokālā tāme Nr.2'!$Q15="Attiecināmās",'Lokālā tāme Nr.2'!$B15,0),0) -> 0 | C12: =IF($C$2="Attiecināmās izmaksas",IF('Lokālā tāme Nr.2'!$Q15="Attiecināmās",'Lokālā tāme Nr.2'!$C15,0),0) -> 0 | D12: =IF($C$2="Attiecināmās izmaksas",IF('Lokālā tāme Nr.2'!$Q15="Attiecināmās",'Lokālā tāme Nr.2'!$D15,0),0) -> 0 | E12: =IF($C$2="Attiecināmās izmaksas",IF('Lokālā tāme Nr.2'!$Q15="Attiecināmās",'Lokālā tāme Nr.2'!$E15,0),0) -> 0 | F12: =IF($C$2="Attiecināmās izmaksas",IF('Lokālā tāme Nr.2'!$Q15="Attiecināmās",'Lokālā tāme Nr.2'!$F15,0),0) -> 0 | G12: =IF($C$2="Attiecināmās izmaksas",IF('Lokālā tāme Nr.2'!$Q15="Attiecināmās",'Lokālā tāme Nr.2'!$G15,0),0) -> 0 | H12: =IF($C$2="Attiecināmās izmaksas",IF('Lokālā tāme Nr.2'!$Q15="Attiecināmās",'Lokālā tāme Nr.2'!$H15,0),0) -> 0 | I12: =IF($C$2="Attiecināmās izmaksas",IF('Lokālā tāme Nr.2'!$Q15="Attiecināmās",'Lokālā tāme Nr.2'!$I15,0),0) -> 0 | J12: =IF($C$2="Attiecināmās izmaksas",IF('Lokālā tāme Nr.2'!$Q15="Attiecināmās",'Lokālā tāme Nr.2'!$J15,0),0) -> 0 | K12: =IF($C$2="Attiecināmās izmaksas",IF('Lokālā tāme Nr.2'!$Q15="Attiecināmās",'Lokālā tāme Nr.2'!$K15,0),0) -> 0 | L12: =IF($C$2="Attiecināmās izmaksas",IF('Lokālā tāme Nr.2'!$Q15="Attiecināmās",'Lokālā tāme Nr.2'!$L15,0),0) -> 0 | M12: =IF($C$2="Attiecināmās izmaksas",IF('Lokālā tāme Nr.2'!$Q15="Attiecināmās",'Lokālā tāme Nr.2'!$M15,0),0) -> 0 | N12: =IF($C$2="Attiecināmās izmaksas",IF('Lokālā tāme Nr.2'!$Q15="Attiecināmās",'Lokālā tāme Nr.2'!$N15,0),0) -> 0 | O12: =IF($C$2="Attiecināmās izmaksas",IF('Lokālā tāme Nr.2'!$Q15="Attiecināmās",'Lokālā tāme Nr.2'!$O15,0),0) -> 0 | P12: =IF($C$2="Attiecināmās izmaksas",IF('Lokālā tāme Nr.2'!$Q15="Attiecināmās",'Lokālā tāme Nr.2'!$P15,0),0) -> 0
A13: =IF(P13=0,0,IF(COUNTBLANK(P13)=1,0,COUNTA($P$8:P13))) -> 0 | B13: =IF($C$2="Attiecināmās izmaksas",IF('Lokālā tāme Nr.2'!$Q16="Attiecināmās",'Lokālā tāme Nr.2'!$B16,0),0) -> 0 | C13: =IF($C$2="Attiecināmās izmaksas",IF('Lokālā tāme Nr.2'!$Q16="Attiecināmās",'Lokālā tāme Nr.2'!$C16,0),0) -> 0 | D13: =IF($C$2="Attiecināmās izmaksas",IF('Lokālā tāme Nr.2'!$Q16="Attiecināmās",'Lokālā tāme Nr.2'!$D16,0),0) -> 0 | E13: =IF($C$2="Attiecināmās izmaksas",IF('Lokālā tāme Nr.2'!$Q16="Attiecināmās",'Lokālā tāme Nr.2'!$E16,0),0) -> 0 | F13: =IF($C$2="Attiecināmās izmaksas",IF('Lokālā tāme Nr.2'!$Q16="Attiecināmās",'Lokālā tāme Nr.2'!$F16,0),0) -> 0 | G13: =IF($C$2="Attiecināmās izmaksas",IF('Lokālā tāme Nr.2'!$Q16="Attiecināmās",'Lokālā tāme Nr.2'!$G16,0),0) -> 0 | H13: =IF($C$2="Attiecināmās izmaksas",IF('Lokālā tāme Nr.2'!$Q16="Attiecināmās",'Lokālā tāme Nr.2'!$H16,0),0) -> 0 | I13: =IF($C$2="Attiecināmās izmaksas",IF('Lokālā tāme Nr.2'!$Q16="Attiecināmās",'Lokālā tāme Nr.2'!$I16,0),0) -> 0 | J13: =IF($C$2="Attiecināmās izmaksas",IF('Lokālā tāme Nr.2'!$Q16="Attiecināmās",'Lokālā tāme Nr.2'!$J16,0),0) -> 0 | K13: =IF($C$2="Attiecināmās izmaksas",IF('Lokālā tāme Nr.2'!$Q16="Attiecināmās",'Lokālā tāme Nr.2'!$K16,0),0) -> 0 | L13: =IF($C$2="Attiecināmās izmaksas",IF('Lokālā tāme Nr.2'!$Q16="Attiecināmās",'Lokālā tāme Nr.2'!$L16,0),0) -> 0 | M13: =IF($C$2="Attiecināmās izmaksas",IF('Lokālā tāme Nr.2'!$Q16="Attiecināmās",'Lokālā tāme Nr.2'!$M16,0),0) -> 0 | N13: =IF($C$2="Attiecināmās izmaksas",IF('Lokālā tāme Nr.2'!$Q16="Attiecināmās",'Lokālā tāme Nr.2'!$N16,0),0) -> 0 | O13: =IF($C$2="Attiecināmās izmaksas",IF('Lokālā tāme Nr.2'!$Q16="Attiecināmās",'Lokālā tāme Nr.2'!$O16,0),0) -> 0 | P13: =IF($C$2="Attiecināmās izmaksas",IF('Lokālā tāme Nr.2'!$Q16="Attiecināmās",'Lokālā tāme Nr.2'!$P16,0),0) -> 0
A14: =IF(P14=0,0,IF(COUNTBLANK(P14)=1,0,COUNTA($P$8:P14))) -> 0 | B14: =IF($C$2="Attiecināmās izmaksas",IF('Lokālā tāme Nr.2'!$Q17="Attiecināmās",'Lokālā tāme Nr.2'!$B17,0),0) -> 0 | C14: =IF($C$2="Attiecināmās izmaksas",IF('Lokālā tāme Nr.2'!$Q17="Attiecināmās",'Lokālā tāme Nr.2'!$C17,0),0) -> 0 | D14: =IF($C$2="Attiecināmās izmaksas",IF('Lokālā tāme Nr.2'!$Q17="Attiecināmās",'Lokālā tāme Nr.2'!$D17,0),0) -> 0 | E14: =IF($C$2="Attiecināmās izmaksas",IF('Lokālā tāme Nr.2'!$Q17="Attiecināmās",'Lokālā tāme Nr.2'!$E17,0),0) -> 0 | F14: =IF($C$2="Attiecināmās izmaksas",IF('Lokālā tāme Nr.2'!$Q17="Attiecināmās",'Lokālā tāme Nr.2'!$F17,0),0) -> 0 | G14: =IF($C$2="Attiecināmās izmaksas",IF('Lokālā tāme Nr.2'!$Q17="Attiecināmās",'Lokālā tāme Nr.2'!$G17,0),0) -> 0 | H14: =IF($C$2="Attiecināmās izmaksas",IF('Lokālā tāme Nr.2'!$Q17="Attiecināmās",'Lokālā tāme Nr.2'!$H17,0),0) -> 0 | I14: =IF($C$2="Attiecināmās izmaksas",IF('Lokālā tāme Nr.2'!$Q17="Attiecināmās",'Lokālā tāme Nr.2'!$I17,0),0) -> 0 | J14: =IF($C$2="Attiecināmās izmaksas",IF('Lokālā tāme Nr.2'!$Q17="Attiecināmās",'Lokālā tāme Nr.2'!$J17,0),0) -> 0 | K14: =IF($C$2="Attiecināmās izmaksas",IF('Lokālā tāme Nr.2'!$Q17="Attiecināmās",'Lokālā tāme Nr.2'!$K17,0),0) -> 0 | L14: =IF($C$2="Attiecināmās izmaksas",IF('Lokālā tāme Nr.2'!$Q17="Attiecināmās",'Lokālā tāme Nr.2'!$L17,0),0) -> 0 | M14: =IF($C$2="Attiecināmās izmaksas",IF('Lokālā tāme Nr.2'!$Q17="Attiecināmās",'Lokālā tāme Nr.2'!$M17,0),0) -> 0 | N14: =IF($C$2="Attiecināmās izmaksas",IF('Lokālā tāme Nr.2'!$Q17="Attiecināmās",'Lokālā tāme Nr.2'!$N17,0),0) -> 0 | O14: =IF($C$2="Attiecināmās izmaksas",IF('Lokālā tāme Nr.2'!$Q17="Attiecināmās",'Lokālā tāme Nr.2'!$O17,0),0) -> 0 | P14: =IF($C$2="Attiecināmās izmaksas",IF('Lokālā tāme Nr.2'!$Q17="Attiecināmās",'Lokālā tāme Nr.2'!$P17,0),0) -> 0
A15: =IF(P15=0,0,IF(COUNTBLANK(P15)=1,0,COUNTA($P$8:P15))) -> 0 | B15: =IF($C$2="Attiecināmās izmaksas",IF('Lokālā tāme Nr.2'!$Q18="Attiecināmās",'Lokālā tāme Nr.2'!$B18,0),0) -> 0 | C15: =IF($C$2="Attiecināmās izmaksas",IF('Lokālā tāme Nr.2'!$Q18="Attiecināmās",'Lokālā tāme Nr.2'!$C18,0),0) -> 0 | D15: =IF($C$2="Attiecināmās izmaksas",IF('Lokālā tāme Nr.2'!$Q18="Attiecināmās",'Lokālā tāme Nr.2'!$D18,0),0) -> 0 | E15: =IF($C$2="Attiecināmās izmaksas",IF('Lokālā tāme Nr.2'!$Q18="Attiecināmās",'Lokālā tāme Nr.2'!$E18,0),0) -> 0 | F15: =IF($C$2="Attiecināmās izmaksas",IF('Lokālā tāme Nr.2'!$Q18="Attiecināmās",'Lokālā tāme Nr.2'!$F18,0),0) -> 0 | G15: =IF($C$2="Attiecināmās izmaksas",IF('Lokālā tāme Nr.2'!$Q18="Attiecināmās",'Lokālā tāme Nr.2'!$G18,0),0) -> 0 | H15: =IF($C$2="Attiecināmās izmaksas",IF('Lokālā tāme Nr.2'!$Q18="Attiecināmās",'Lokālā tāme Nr.2'!$H18,0),0) -> 0 | I15: =IF($C$2="Attiecināmās izmaksas",IF('Lokālā tāme Nr.2'!$Q18="Attiecināmās",'Lokālā tāme Nr.2'!$I18,0),0) -> 0 | J15: =IF($C$2="Attiecināmās izmaksas",IF('Lokālā tāme Nr.2'!$Q18="Attiecināmās",'Lokālā tāme Nr.2'!$J18,0),0) -> 0 | K15: =IF($C$2="Attiecināmās izmaksas",IF('Lokālā tāme Nr.2'!$Q18="Attiecināmās",'Lokālā tāme Nr.2'!$K18,0),0) -> 0 | L15: =IF($C$2="Attiecināmās izmaksas",IF('Lokālā tāme Nr.2'!$Q18="Attiecināmās",'Lokālā tāme Nr.2'!$L18,0),0) -> 0 | M15: =IF($C$2="Attiecināmās izmaksas",IF('Lokālā tāme Nr.2'!$Q18="Attiecināmās",'Lokālā tāme Nr.2'!$M18,0),0) -> 0 | N15: =IF($C$2="Attiecināmās izmaksas",IF('Lokālā tāme Nr.2'!$Q18="Attiecināmās",'Lokālā tāme Nr.2'!$N18,0),0) -> 0 | O15: =IF($C$2="Attiecināmās izmaksas",IF('Lokālā tāme Nr.2'!$Q18="Attiecināmās",'Lokālā tāme Nr.2'!$O18,0),0) -> 0 | P15: =IF($C$2="Attiecināmās izmaksas",IF('Lokālā tāme Nr.2'!$Q18="Attiecināmās",'Lokālā tāme Nr.2'!$P18,0),0) -> 0
A16: =IF(P16=0,0,IF(COUNTBLANK(P16)=1,0,COUNTA($P$8:P16))) -> 0 | B16: =IF($C$2="Attiecināmās izmaksas",IF('Lokālā tāme Nr.2'!$Q19="Attiecināmās",'Lokālā tāme Nr.2'!$B19,0),0) -> 0 | C16: =IF($C$2="Attiecināmās izmaksas",IF('Lokālā tāme Nr.2'!$Q19="Attiecināmās",'Lokālā tāme Nr.2'!$C19,0),0) -> 0 | D16: =IF($C$2="Attiecināmās izmaksas",IF('Lokālā tāme Nr.2'!$Q19="Attiecināmās",'Lokālā tāme Nr.2'!$D19,0),0) -> 0 | E16: =IF($C$2="Attiecināmās izmaksas",IF('Lokālā tāme Nr.2'!$Q19="Attiecināmās",'Lokālā tāme Nr.2'!$E19,0),0) -> 0 | F16: =IF($C$2="Attiecināmās izmaksas",IF('Lokālā tāme Nr.2'!$Q19="Attiecināmās",'Lokālā tāme Nr.2'!$F19,0),0) -> 0 | G16: =IF($C$2="Attiecināmās izmaksas",IF('Lokālā tāme Nr.2'!$Q19="Attiecināmās",'Lokālā tāme Nr.2'!$G19,0),0) -> 0 | H16: =IF($C$2="Attiecināmās izmaksas",IF('Lokālā tāme Nr.2'!$Q19="Attiecināmās",'Lokālā tāme Nr.2'!$H19,0),0) -> 0 | I16: =IF($C$2="Attiecināmās izmaksas",IF('Lokālā tāme Nr.2'!$Q19="Attiecināmās",'Lokālā tāme Nr.2'!$I19,0),0) -> 0 | J16: =IF($C$2="Attiecināmās izmaksas",IF('Lokālā tāme Nr.2'!$Q19="Attiecināmās",'Lokālā tāme Nr.2'!$J19,0),0) -> 0 | K16: =IF($C$2="Attiecināmās izmaksas",IF('Lokālā tāme Nr.2'!$Q19="Attiecināmās",'Lokālā tāme Nr.2'!$K19,0),0) -> 0 | L16: =IF($C$2="Attiecināmās izmaksas",IF('Lokālā tāme Nr.2'!$Q19="Attiecināmās",'Lokālā tāme Nr.2'!$L19,0),0) -> 0 | M16: =IF($C$2="Attiecināmās izmaksas",IF('Lokālā tāme Nr.2'!$Q19="Attiecināmās",'Lokālā tāme Nr.2'!$M19,0),0) -> 0 | N16: =IF($C$2="Attiecināmās izmaksas",IF('Lokālā tāme Nr.2'!$Q19="Attiecināmās",'Lokālā tāme Nr.2'!$N19,0),0) -> 0 | O16: =IF($C$2="Attiecināmās izmaksas",IF('Lokālā tāme Nr.2'!$Q19="Attiecināmās",'Lokālā tāme Nr.2'!$O19,0),0) -> 0 | P16: =IF($C$2="Attiecināmās izmaksas",IF('Lokālā tāme Nr.2'!$Q19="Attiecināmās",'Lokālā tāme Nr.2'!$P19,0),0) -> 0
A17: =IF(P17=0,0,IF(COUNTBLANK(P17)=1,0,COUNTA($P$8:P17))) -> 0 | B17: =IF($C$2="Attiecināmās izmaksas",IF('Lokālā tāme Nr.2'!$Q20="Attiecināmās",'Lokālā tāme Nr.2'!$B20,0),0) -> 0 | C17: =IF($C$2="Attiecināmās izmaksas",IF('Lokālā tāme Nr.2'!$Q20="Attiecināmās",'Lokālā tāme Nr.2'!$C20,0),0) -> 0 | D17: =IF($C$2="Attiecināmās izmaksas",IF('Lokālā tāme Nr.2'!$Q20="Attiecināmās",'Lokālā tāme Nr.2'!$D20,0),0) -> 0 | E17: =IF($C$2="Attiecināmās izmaksas",IF('Lokālā tāme Nr.2'!$Q20="Attiecināmās",'Lokālā tāme Nr.2'!$E20,0),0) -> 0 | F17: =IF($C$2="Attiecināmās izmaksas",IF('Lokālā tāme Nr.2'!$Q20="Attiecināmās",'Lokālā tāme Nr.2'!$F20,0),0) -> 0 | G17: =IF($C$2="Attiecināmās izmaksas",IF('Lokālā tāme Nr.2'!$Q20="Attiecināmās",'Lokālā tāme Nr.2'!$G20,0),0) -> 0 | H17: =IF($C$2="Attiecināmās izmaksas",IF('Lokālā tāme Nr.2'!$Q20="Attiecināmās",'Lokālā tāme Nr.2'!$H20,0),0) -> 0 | I17: =IF($C$2="Attiecināmās izmaksas",IF('Lokālā tāme Nr.2'!$Q20="Attiecināmās",'Lokālā tāme Nr.2'!$I20,0),0) -> 0 | J17: =IF($C$2="Attiecināmās izmaksas",IF('Lokālā tāme Nr.2'!$Q20="Attiecināmās",'Lokālā tāme Nr.2'!$J20,0),0) -> 0 | K17: =IF($C$2="Attiecināmās izmaksas",IF('Lokālā tāme Nr.2'!$Q20="Attiecināmās",'Lokālā tāme Nr.2'!$K20,0),0) -> 0 | L17: =IF($C$2="Attiecināmās izmaksas",IF('Lokālā tāme Nr.2'!$Q20="Attiecināmās",'Lokālā tāme Nr.2'!$L20,0),0) -> 0 | M17: =IF($C$2="Attiecināmās izmaksas",IF('Lokālā tāme Nr.2'!$Q20="Attiecināmās",'Lokālā tāme Nr.2'!$M20,0),0) -> 0 | N17: =IF($C$2="Attiecināmās izmaksas",IF('Lokālā tāme Nr.2'!$Q20="Attiecināmās",'Lokālā tāme Nr.2'!$N20,0),0) -> 0 | O17: =IF($C$2="Attiecināmās izmaksas",IF('Lokālā tāme Nr.2'!$Q20="Attiecināmās",'Lokālā tāme Nr.2'!$O20,0),0) -> 0 | P17: =IF($C$2="Attiecināmās izmaksas",IF('Lokālā tāme Nr.2'!$Q20="Attiecināmās",'Lokālā tāme Nr.2'!$P20,0),0) -> 0
A18: =IF(P18=0,0,IF(COUNTBLANK(P18)=1,0,COUNTA($P$8:P18))) -> 0 | B18: =IF($C$2="Attiecināmās izmaksas",IF('Lokālā tāme Nr.2'!$Q21="Attiecināmās",'Lokālā tāme Nr.2'!$B21,0),0) -> 0 | C18: =IF($C$2="Attiecināmās izmaksas",IF('Lokālā tāme Nr.2'!$Q21="Attiecināmās",'Lokālā tāme Nr.2'!$C21,0),0) -> 0 | D18: =IF($C$2="Attiecināmās izmaksas",IF('Lokālā tāme Nr.2'!$Q21="Attiecināmās",'Lokālā tāme Nr.2'!$D21,0),0) -> 0 | E18: =IF($C$2="Attiecināmās izmaksas",IF('Lokālā tāme Nr.2'!$Q21="Attiecināmās",'Lokālā tāme Nr.2'!$E21,0),0) -> 0 | F18: =IF($C$2="Attiecināmās izmaksas",IF('Lokālā tāme Nr.2'!$Q21="Attiecināmās",'Lokālā tāme Nr.2'!$F21,0),0) -> 0 | G18: =IF($C$2="Attiecināmās izmaksas",IF('Lokālā tāme Nr.2'!$Q21="Attiecināmās",'Lokālā tāme Nr.2'!$G21,0),0) -> 0 | H18: =IF($C$2="Attiecināmās izmaksas",IF('Lokālā tāme Nr.2'!$Q21="Attiecināmās",'Lokālā tāme Nr.2'!$H21,0),0) -> 0 | I18: =IF($C$2="Attiecināmās izmaksas",IF('Lokālā tāme Nr.2'!$Q21="Attiecināmās",'Lokālā tāme Nr.2'!$I21,0),0) -> 0 | J18: =IF($C$2="Attiecināmās izmaksas",IF('Lokālā tāme Nr.2'!$Q21="Attiecināmās",'Lokālā tāme Nr.2'!$J21,0),0) -> 0 | K18: =IF($C$2="Attiecināmās izmaksas",IF('Lokālā tāme Nr.2'!$Q21="Attiecināmās",'Lokālā tāme Nr.2'!$K21,0),0) -> 0 | L18: =IF($C$2="Attiecināmās izmaksas",IF('Lokālā tāme Nr.2'!$Q21="Attiecināmās",'Lokālā tāme Nr.2'!$L21,0),0) -> 0 | M18: =IF($C$2="Attiecināmās izmaksas",IF('Lokālā tāme Nr.2'!$Q21="Attiecināmās",'Lokālā tāme Nr.2'!$M21,0),0) -> 0 | N18: =IF($C$2="Attiecināmās izmaksas",IF('Lokālā tāme Nr.2'!$Q21="Attiecināmās",'Lokālā tāme Nr.2'!$N21,0),0) -> 0 | O18: =IF($C$2="Attiecināmās izmaksas",IF('Lokālā tāme Nr.2'!$Q21="Attiecināmās",'Lokālā tāme Nr.2'!$O21,0),0) -> 0 | P18: =IF($C$2="Attiecināmās izmaksas",IF('Lokālā tāme Nr.2'!$Q21="Attiecināmās",'Lokālā tāme Nr.2'!$P21,0),0) -> 0
A19: =IF(P19=0,0,IF(COUNTBLANK(P19)=1,0,COUNTA($P$8:P19))) -> 0 | B19: =IF($C$2="Attiecināmās izmaksas",IF('Lokālā tāme Nr.2'!$Q22="Attiecināmās",'Lokālā tāme Nr.2'!$B22,0),0) -> 0 | C19: =IF($C$2="Attiecināmās izmaksas",IF('Lokālā tāme Nr.2'!$Q22="Attiecināmās",'Lokālā tāme Nr.2'!$C22,0),0) -> 0 | D19: =IF($C$2="Attiecināmās izmaksas",IF('Lokālā tāme Nr.2'!$Q22="Attiecināmās",'Lokālā tāme Nr.2'!$D22,0),0) -> 0 | E19: =IF($C$2="Attiecināmās izmaksas",IF('Lokālā tāme Nr.2'!$Q22="Attiecināmās",'Lokālā tāme Nr.2'!$E22,0),0) -> 0 | F19: =IF($C$2="Attiecināmās izmaksas",IF('Lokālā tāme Nr.2'!$Q22="Attiecināmās",'Lokālā tāme Nr.2'!$F22,0),0) -> 0 | G19: =IF($C$2="Attiecināmās izmaksas",IF('Lokālā tāme Nr.2'!$Q22="Attiecināmās",'Lokālā tāme Nr.2'!$G22,0),0) -> 0 | H19: =IF($C$2="Attiecināmās izmaksas",IF('Lokālā tāme Nr.2'!$Q22="Attiecināmās",'Lokālā tāme Nr.2'!$H22,0),0) -> 0 | I19: =IF($C$2="Attiecināmās izmaksas",IF('Lokālā tāme Nr.2'!$Q22="Attiecināmās",'Lokālā tāme Nr.2'!$I22,0),0) -> 0 | J19: =IF($C$2="Attiecināmās izmaksas",IF('Lokālā tāme Nr.2'!$Q22="Attiecināmās",'Lokālā tāme Nr.2'!$J22,0),0) -> 0 | K19: =IF($C$2="Attiecināmās izmaksas",IF('Lokālā tāme Nr.2'!$Q22="Attiecināmās",'Lokālā tāme Nr.2'!$K22,0),0) -> 0 | L19: =IF($C$2="Attiecināmās izmaksas",IF('Lokālā tāme Nr.2'!$Q22="Attiecināmās",'Lokālā tāme Nr.2'!$L22,0),0) -> 0 | M19: =IF($C$2="Attiecināmās izmaksas",IF('Lokālā tāme Nr.2'!$Q22="Attiecināmās",'Lokālā tāme Nr.2'!$M22,0),0) -> 0 | N19: =IF($C$2="Attiecināmās izmaksas",IF('Lokālā tāme Nr.2'!$Q22="Attiecināmās",'Lokālā tāme Nr.2'!$N22,0),0) -> 0 | O19: =IF($C$2="Attiecināmās izmaksas",IF('Lokālā tāme Nr.2'!$Q22="Attiecināmās",'Lokālā tāme Nr.2'!$O22,0),0) -> 0 | P19: =IF($C$2="Attiecināmās izmaksas",IF('Lokālā tāme Nr.2'!$Q22="Attiecināmās",'Lokālā tāme Nr.2'!$P22,0),0) -> 0
... A494: =IF(P494=0,0,IF(COUNTBLANK(P494)=1,0,COUNTA($P$8:P494))) -> 0 | B494: =IF($C$2="Attiecināmās izmaksas",IF('Lokālā tāme Nr.2'!$Q497="Attiecināmās",'Lokālā tāme Nr.2'!$B497,0),0) -> 0 | C494: =IF($C$2="Attiecināmās izmaksas",IF('Lokālā tāme Nr.2'!$Q497="Attiecināmās",'Lokālā tāme Nr.2'!$C497,0),0) -> 0 | D494: =IF($C$2="Attiecināmās izmaksas",IF('Lokālā tāme Nr.2'!$Q497="Attiecināmās",'Lokālā tāme Nr.2'!$D497,0),0) -> 0 | E494: =IF($C$2="Attiecināmās izmaksas",IF('Lokālā tāme Nr.2'!$Q497="Attiecināmās",'Lokālā tāme Nr.2'!$E497,0),0) -> 0 | F494: =IF($C$2="Attiecināmās izmaksas",IF('Lokālā tāme Nr.2'!$Q497="Attiecināmās",'Lokālā tāme Nr.2'!$F497,0),0) -> 0 | G494: =IF($C$2="Attiecināmās izmaksas",IF('Lokālā tāme Nr.2'!$Q497="Attiecināmās",'Lokālā tāme Nr.2'!$G497,0),0) -> 0 | H494: =IF($C$2="Attiecināmās izmaksas",IF('Lokālā tāme Nr.2'!$Q497="Attiecināmās",'Lokālā tāme Nr.2'!$H497,0),0) -> 0 | I494: =IF($C$2="Attiecināmās izmaksas",IF('Lokālā tāme Nr.2'!$Q497="Attiecināmās",'Lokālā tāme Nr.2'!$I497,0),0) -> 0 | J494: =IF($C$2="Attiecināmās izmaksas",IF('Lokālā tāme Nr.2'!$Q497="Attiecināmās",'Lokālā tāme Nr.2'!$J497,0),0) -> 0 | K494: =IF($C$2="Attiecināmās izmaksas",IF('Lokālā tāme Nr.2'!$Q497="Attiecināmās",'Lokālā tāme Nr.2'!$K497,0),0) -> 0 | L494: =IF($C$2="Attiecināmās izmaksas",IF('Lokālā tāme Nr.2'!$Q497="Attiecināmās",'Lokālā tāme Nr.2'!$L497,0),0) -> 0 | M494: =IF($C$2="Attiecināmās izmaksas",IF('Lokālā tāme Nr.2'!$Q497="Attiecināmās",'Lokālā tāme Nr.2'!$M497,0),0) -> 0 | N494: =IF($C$2="Attiecināmās izmaksas",IF('Lokālā tāme Nr.2'!$Q497="Attiecināmās",'Lokālā tāme Nr.2'!$N497,0),0) -> 0 | O494: =IF($C$2="Attiecināmās izmaksas",IF('Lokālā tāme Nr.2'!$Q497="Attiecināmās",'Lokālā tāme Nr.2'!$O497,0),0) -> 0 | P494: =IF($C$2="Attiecināmās izmaksas",IF('Lokālā tāme Nr.2'!$Q497="Attiecināmās",'Lokālā tāme Nr.2'!$P497,0),0) -> 0
A495: Tiešās izmaksas kopā, t. sk. darba devēja sociālais nodoklis __.__% | L495: =SUM(L8:L494) -> 0 | M495: =SUM(M8:M494) -> 0 | N495: =SUM(N8:N494) -> 0 | O495: =SUM(O8:O494) -> 0 | P495: =SUM(P8:P494) -> 0
A498: Sastādīja | C498: =_xlfn.SINGLE('Neatt izm.'!#REF!) -> #REF!
C499: (paraksts un tā atšifrējums, datums)
A501: =_xlfn.SINGLE('Neatt izm.'!#REF!) -> #REF!
A503: Pārbaudīja | C503: =_xlfn.SINGLE('Neatt izm.'!#REF!) -> #REF!
C504: (paraksts un tā atšifrējums, datums)
A506: Sertifikāta Nr. | C506: ='Neatt izm.'!#REF! -> #REF!

Sheet 2c
C1: Lokālā tāme Nr. | D1: ='Lokālā tāme Nr.2'!Q2 -> 2
C2: ='Lokālā tāme Nr.2'!B4:I4 -> 0
C3: (darba veids vai konstruktīvā elementa nosaukums)
C4: Neattiecināmās izmaksas
J5: Tāmes izmaksas EUR | N5: =P497 -> 0
A8: Nr.p.k. | B8: Kods | C8: Darba nosaukums | D8: Mērvienība | E8: Daudzums | F8: Vienības izmaksas | L8: Kopā uz visu apjomu
F9: Laika norma (c/h) | G9: Darba samaksas likme (EUR/h) | H9: Darba alga (EUR) | I9: Būvizstrādājumi (EUR) | J9: Mehānismi (EUR) | K9: Kopā (EUR) | L9: Laika norma (c/h) | M9: Darba alga (EUR) | N9: Būvizstrādājumi (EUR) | O9: Mehānismi (EUR) | P9: Kopā (EUR)
A10: =IF(P10=0,0,IF(COUNTBLANK(P10)=1,0,COUNTA($P$10:P10))) -> 0 | B10: =IF($C$4="Neattiecināmās izmaksas",IF('Lokālā tāme Nr.2'!$Q11="Neattiecināmās",'Lokālā tāme Nr.2'!$B11,0)) -> 0 | C10: =IF($C$4="Neattiecināmās izmaksas",IF('Lokālā tāme Nr.2'!$Q11="Neattiecināmās",'Lokālā tāme Nr.2'!$C11,0)) -> 0 | D10: =IF($C$4="Neattiecināmās izmaksas",IF('Lokālā tāme Nr.2'!$Q11="Neattiecināmās",'Lokālā tāme Nr.2'!$D11,0)) -> 0 | E10: =IF($C$4="Neattiecināmās izmaksas",IF('Lokālā tāme Nr.2'!$Q11="Neattiecināmās",'Lokālā tāme Nr.2'!$E11,0)) -> 0 | F10: =IF($C$4="Neattiecināmās izmaksas",IF('Lokālā tāme Nr.2'!$Q11="Neattiecināmās",'Lokālā tāme Nr.2'!$F11,0)) -> 0 | G10: =IF($C$4="Neattiecināmās izmaksas",IF('Lokālā tāme Nr.2'!$Q11="Neattiecināmās",'Lokālā tāme Nr.2'!$G11,0)) -> 0 | H10: =IF($C$4="Neattiecināmās izmaksas",IF('Lokālā tāme Nr.2'!$Q11="Neattiecināmās",'Lokālā tāme Nr.2'!$H11,0)) -> 0 | I10: =IF($C$4="Neattiecināmās izmaksas",IF('Lokālā tāme Nr.2'!$Q11="Neattiecināmās",'Lokālā tāme Nr.2'!$I11,0)) -> 0 | J10: =IF($C$4="Neattiecināmās izmaksas",IF('Lokālā tāme Nr.2'!$Q11="Neattiecināmās",'Lokālā tāme Nr.2'!$J11,0)) -> 0 | K10: =IF($C$4="Neattiecināmās izmaksas",IF('Lokālā tāme Nr.2'!$Q11="Neattiecināmās",'Lokālā tāme Nr.2'!$K11,0)) -> 0 | L10: =IF($C$4="Neattiecināmās izmaksas",IF('Lokālā tāme Nr.2'!$Q11="Neattiecināmās",'Lokālā tāme Nr.2'!$L11,0)) -> 0 | M10: =IF($C$4="Neattiecināmās izmaksas",IF('Lokālā tāme Nr.2'!$Q11="Neattiecināmās",'Lokālā tāme Nr.2'!$M11,0)) -> 0 | N10: =IF($C$4="Neattiecināmās izmaksas",IF('Lokālā tāme Nr.2'!$Q11="Neattiecināmās",'Lokālā tāme Nr.2'!$N11,0)) -> 0 | O10: =IF($C$4="Neattiecināmās izmaksas",IF('Lokālā tāme Nr.2'!$Q11="Neattiecināmās",'Lokālā tāme Nr.2'!$O11,0)) -> 0 | P10: =IF($C$4="Neattiecināmās izmaksas",IF('Lokālā tāme Nr.2'!$Q11="Neattiecināmās",'Lokālā tāme Nr.2'!$P11,0)) -> 0
A11: =IF(P11=0,0,IF(COUNTBLANK(P11)=1,0,COUNTA($P$10:P11))) -> 0 | B11: =IF($C$4="Neattiecināmās izmaksas",IF('Lokālā tāme Nr.2'!$Q12="Neattiecināmās",'Lokālā tāme Nr.2'!$B12,0)) -> 0 | C11: =IF($C$4="Neattiecināmās izmaksas",IF('Lokālā tāme Nr.2'!$Q12="Neattiecināmās",'Lokālā tāme Nr.2'!$C12,0)) -> 0 | D11: =IF($C$4="Neattiecināmās izmaksas",IF('Lokālā tāme Nr.2'!$Q12="Neattiecināmās",'Lokālā tāme Nr.2'!$D12,0)) -> 0 | E11: =IF($C$4="Neattiecināmās izmaksas",IF('Lokālā tāme Nr.2'!$Q12="Neattiecināmās",'Lokālā tāme Nr.2'!$E12,0)) -> 0 | F11: =IF($C$4="Neattiecināmās izmaksas",IF('Lokālā tāme Nr.2'!$Q12="Neattiecināmās",'Lokālā tāme Nr.2'!$F12,0)) -> 0 | G11: =IF($C$4="Neattiecināmās izmaksas",IF('Lokālā tāme Nr.2'!$Q12="Neattiecināmās",'Lokālā tāme Nr.2'!$G12,0)) -> 0 | H11: =IF($C$4="Neattiecināmās izmaksas",IF('Lokālā tāme Nr.2'!$Q12="Neattiecināmās",'Lokālā tāme Nr.2'!$H12,0)) -> 0 | I11: =IF($C$4="Neattiecināmās izmaksas",IF('Lokālā tāme Nr.2'!$Q12="Neattiecināmās",'Lokālā tāme Nr.2'!$I12,0)) -> 0 | J11: =IF($C$4="Neattiecināmās izmaksas",IF('Lokālā tāme Nr.2'!$Q12="Neattiecināmās",'Lokālā tāme Nr.2'!$J12,0)) -> 0 | K11: =IF($C$4="Neattiecināmās izmaksas",IF('Lokālā tāme Nr.2'!$Q12="Neattiecināmās",'Lokālā tāme Nr.2'!$K12,0)) -> 0 | L11: =IF($C$4="Neattiecināmās izmaksas",IF('Lokālā tāme Nr.2'!$Q12="Neattiecināmās",'Lokālā tāme Nr.2'!$L12,0)) -> 0 | M11: =IF($C$4="Neattiecināmās izmaksas",IF('Lokālā tāme Nr.2'!$Q12="Neattiecināmās",'Lokālā tāme Nr.2'!$M12,0)) -> 0 | N11: =IF($C$4="Neattiecināmās izmaksas",IF('Lokālā tāme Nr.2'!$Q12="Neattiecināmās",'Lokālā tāme Nr.2'!$N12,0)) -> 0 | O11: =IF($C$4="Neattiecināmās izmaksas",IF('Lokālā tāme Nr.2'!$Q12="Neattiecināmās",'Lokālā tāme Nr.2'!$O12,0)) -> 0 | P11: =IF($C$4="Neattiecināmās izmaksas",IF('Lokālā tāme Nr.2'!$Q12="Neattiecināmās",'Lokālā tāme Nr.2'!$P12,0)) -> 0
A12: =IF(P12=0,0,IF(COUNTBLANK(P12)=1,0,COUNTA($P$10:P12))) -> 0 | B12: =IF($C$4="Neattiecināmās izmaksas",IF('Lokālā tāme Nr.2'!$Q13="Neattiecināmās",'Lokālā tāme Nr.2'!$B13,0)) -> 0 | C12: =IF($C$4="Neattiecināmās izmaksas",IF('Lokālā tāme Nr.2'!$Q13="Neattiecināmās",'Lokālā tāme Nr.2'!$C13,0)) -> 0 | D12: =IF($C$4="Neattiecināmās izmaksas",IF('Lokālā tāme Nr.2'!$Q13="Neattiecināmās",'Lokālā tāme Nr.2'!$D13,0)) -> 0 | E12: =IF($C$4="Neattiecināmās izmaksas",IF('Lokālā tāme Nr.2'!$Q13="Neattiecināmās",'Lokālā tāme Nr.2'!$E13,0)) -> 0 | F12: =IF($C$4="Neattiecināmās izmaksas",IF('Lokālā tāme Nr.2'!$Q13="Neattiecināmās",'Lokālā tāme Nr.2'!$F13,0)) -> 0 | G12: =IF($C$4="Neattiecināmās izmaksas",IF('Lokālā tāme Nr.2'!$Q13="Neattiecināmās",'Lokālā tāme Nr.2'!$G13,0)) -> 0 | H12: =IF($C$4="Neattiecināmās izmaksas",IF('Lokālā tāme Nr.2'!$Q13="Neattiecināmās",'Lokālā tāme Nr.2'!$H13,0)) -> 0 | I12: =IF($C$4="Neattiecināmās izmaksas",IF('Lokālā tāme Nr.2'!$Q13="Neattiecināmās",'Lokālā tāme Nr.2'!$I13,0)) -> 0 | J12: =IF($C$4="Neattiecināmās izmaksas",IF('Lokālā tāme Nr.2'!$Q13="Neattiecināmās",'Lokālā tāme Nr.2'!$J13,0)) -> 0 | K12: =IF($C$4="Neattiecināmās izmaksas",IF('Lokālā tāme Nr.2'!$Q13="Neattiecināmās",'Lokālā tāme Nr.2'!$K13,0)) -> 0 | L12: =IF($C$4="Neattiecināmās izmaksas",IF('Lokālā tāme Nr.2'!$Q13="Neattiecināmās",'Lokālā tāme Nr.2'!$L13,0)) -> 0 | M12: =IF($C$4="Neattiecināmās izmaksas",IF('Lokālā tāme Nr.2'!$Q13="Neattiecināmās",'Lokālā tāme Nr.2'!$M13,0)) -> 0 | N12: =IF($C$4="Neattiecināmās izmaksas",IF('Lokālā tāme Nr.2'!$Q13="Neattiecināmās",'Lokālā tāme Nr.2'!$N13,0)) -> 0 | O12: =IF($C$4="Neattiecināmās izmaksas",IF('Lokālā tāme Nr.2'!$Q13="Neattiecināmās",'Lokālā tāme Nr.2'!$O13,0)) -> 0 | P12: =IF($C$4="Neattiecināmās izmaksas",IF('Lokālā tāme Nr.2'!$Q13="Neattiecināmās",'Lokālā tāme Nr.2'!$P13,0)) -> 0
A13: =IF(P13=0,0,IF(COUNTBLANK(P13)=1,0,COUNTA($P$10:P13))) -> 0 | B13: =IF($C$4="Neattiecināmās izmaksas",IF('Lokālā tāme Nr.2'!$Q14="Neattiecināmās",'Lokālā tāme Nr.2'!$B14,0)) -> 0 | C13: =IF($C$4="Neattiecināmās izmaksas",IF('Lokālā tāme Nr.2'!$Q14="Neattiecināmās",'Lokālā tāme Nr.2'!$C14,0)) -> 0 | D13: =IF($C$4="Neattiecināmās izmaksas",IF('Lokālā tāme Nr.2'!$Q14="Neattiecināmās",'Lokālā tāme Nr.2'!$D14,0)) -> 0 | E13: =IF($C$4="Neattiecināmās izmaksas",IF('Lokālā tāme Nr.2'!$Q14="Neattiecināmās",'Lokālā tāme Nr.2'!$E14,0)) -> 0 | F13: =IF($C$4="Neattiecināmās izmaksas",IF('Lokālā tāme Nr.2'!$Q14="Neattiecināmās",'Lokālā tāme Nr.2'!$F14,0)) -> 0 | G13: =IF($C$4="Neattiecināmās izmaksas",IF('Lokālā tāme Nr.2'!$Q14="Neattiecināmās",'Lokālā tāme Nr.2'!$G14,0)) -> 0 | H13: =IF($C$4="Neattiecināmās izmaksas",IF('Lokālā tāme Nr.2'!$Q14="Neattiecināmās",'Lokālā tāme Nr.2'!$H14,0)) -> 0 | I13: =IF($C$4="Neattiecināmās izmaksas",IF('Lokālā tāme Nr.2'!$Q14="Neattiecināmās",'Lokālā tāme Nr.2'!$I14,0)) -> 0 | J13: =IF($C$4="Neattiecināmās izmaksas",IF('Lokālā tāme Nr.2'!$Q14="Neattiecināmās",'Lokālā tāme Nr.2'!$J14,0)) -> 0 | K13: =IF($C$4="Neattiecināmās izmaksas",IF('Lokālā tāme Nr.2'!$Q14="Neattiecināmās",'Lokālā tāme Nr.2'!$K14,0)) -> 0 | L13: =IF($C$4="Neattiecināmās izmaksas",IF('Lokālā tāme Nr.2'!$Q14="Neattiecināmās",'Lokālā tāme Nr.2'!$L14,0)) -> 0 | M13: =IF($C$4="Neattiecināmās izmaksas",IF('Lokālā tāme Nr.2'!$Q14="Neattiecināmās",'Lokālā tāme Nr.2'!$M14,0)) -> 0 | N13: =IF($C$4="Neattiecināmās izmaksas",IF('Lokālā tāme Nr.2'!$Q14="Neattiecināmās",'Lokālā tāme Nr.2'!$N14,0)) -> 0 | O13: =IF($C$4="Neattiecināmās izmaksas",IF('Lokālā tāme Nr.2'!$Q14="Neattiecināmās",'Lokālā tāme Nr.2'!$O14,0)) -> 0 | P13: =IF($C$4="Neattiecināmās izmaksas",IF('Lokālā tāme Nr.2'!$Q14="Neattiecināmās",'Lokālā tāme Nr.2'!$P14,0)) -> 0
A14: =IF(P14=0,0,IF(COUNTBLANK(P14)=1,0,COUNTA($P$10:P14))) -> 0 | B14: =IF($C$4="Neattiecināmās izmaksas",IF('Lokālā tāme Nr.2'!$Q15="Neattiecināmās",'Lokālā tāme Nr.2'!$B15,0)) -> 0 | C14: =IF($C$4="Neattiecināmās izmaksas",IF('Lokālā tāme Nr.2'!$Q15="Neattiecināmās",'Lokālā tāme Nr.2'!$C15,0)) -> 0 | D14: =IF($C$4="Neattiecināmās izmaksas",IF('Lokālā tāme Nr.2'!$Q15="Neattiecināmās",'Lokālā tāme Nr.2'!$D15,0)) -> 0 | E14: =IF($C$4="Neattiecināmās izmaksas",IF('Lokālā tāme Nr.2'!$Q15="Neattiecināmās",'Lokālā tāme Nr.2'!$E15,0)) -> 0 | F14: =IF($C$4="Neattiecināmās izmaksas",IF('Lokālā tāme Nr.2'!$Q15="Neattiecināmās",'Lokālā tāme Nr.2'!$F15,0)) -> 0 | G14: =IF($C$4="Neattiecināmās izmaksas",IF('Lokālā tāme Nr.2'!$Q15="Neattiecināmās",'Lokālā tāme Nr.2'!$G15,0)) -> 0 | H14: =IF($C$4="Neattiecināmās izmaksas",IF('Lokālā tāme Nr.2'!$Q15="Neattiecināmās",'Lokālā tāme Nr.2'!$H15,0)) -> 0 | I14: =IF($C$4="Neattiecināmās izmaksas",IF('Lokālā tāme Nr.2'!$Q15="Neattiecināmās",'Lokālā tāme Nr.2'!$I15,0)) -> 0 | J14: =IF($C$4="Neattiecināmās izmaksas",IF('Lokālā tāme Nr.2'!$Q15="Neattiecināmās",'Lokālā tāme Nr.2'!$J15,0)) -> 0 | K14: =IF($C$4="Neattiecināmās izmaksas",IF('Lokālā tāme Nr.2'!$Q15="Neattiecināmās",'Lokālā tāme Nr.2'!$K15,0)) -> 0 | L14: =IF($C$4="Neattiecināmās izmaksas",IF('Lokālā tāme Nr.2'!$Q15="Neattiecināmās",'Lokālā tāme Nr.2'!$L15,0)) -> 0 | M14: =IF($C$4="Neattiecināmās izmaksas",IF('Lokālā tāme Nr.2'!$Q15="Neattiecināmās",'Lokālā tāme Nr.2'!$M15,0)) -> 0 | N14: =IF($C$4="Neattiecināmās izmaksas",IF('Lokālā tāme Nr.2'!$Q15="Neattiecināmās",'Lokālā tāme Nr.2'!$N15,0)) -> 0 | O14: =IF($C$4="Neattiecināmās izmaksas",IF('Lokālā tāme Nr.2'!$Q15="Neattiecināmās",'Lokālā tāme Nr.2'!$O15,0)) -> 0 | P14: =IF($C$4="Neattiecināmās izmaksas",IF('Lokālā tāme Nr.2'!$Q15="Neattiecināmās",'Lokālā tāme Nr.2'!$P15,0)) -> 0
A15: =IF(P15=0,0,IF(COUNTBLANK(P15)=1,0,COUNTA($P$10:P15))) -> 0 | B15: =IF($C$4="Neattiecināmās izmaksas",IF('Lokālā tāme Nr.2'!$Q16="Neattiecināmās",'Lokālā tāme Nr.2'!$B16,0)) -> 0 | C15: =IF($C$4="Neattiecināmās izmaksas",IF('Lokālā tāme Nr.2'!$Q16="Neattiecināmās",'Lokālā tāme Nr.2'!$C16,0)) -> 0 | D15: =IF($C$4="Neattiecināmās izmaksas",IF('Lokālā tāme Nr.2'!$Q16="Neattiecināmās",'Lokālā tāme Nr.2'!$D16,0)) -> 0 | E15: =IF($C$4="Neattiecināmās izmaksas",IF('Lokālā tāme Nr.2'!$Q16="Neattiecināmās",'Lokālā tāme Nr.2'!$E16,0)) -> 0 | F15: =IF($C$4="Neattiecināmās izmaksas",IF('Lokālā tāme Nr.2'!$Q16="Neattiecināmās",'Lokālā tāme Nr.2'!$F16,0)) -> 0 | G15: =IF($C$4="Neattiecināmās izmaksas",IF('Lokālā tāme Nr.2'!$Q16="Neattiecināmās",'Lokālā tāme Nr.2'!$G16,0)) -> 0 | H15: =IF($C$4="Neattiecināmās izmaksas",IF('Lokālā tāme Nr.2'!$Q16="Neattiecināmās",'Lokālā tāme Nr.2'!$H16,0)) -> 0 | I15: =IF($C$4="Neattiecināmās izmaksas",IF('Lokālā tāme Nr.2'!$Q16="Neattiecināmās",'Lokālā tāme Nr.2'!$I16,0)) -> 0 | J15: =IF($C$4="Neattiecināmās izmaksas",IF('Lokālā tāme Nr.2'!$Q16="Neattiecināmās",'Lokālā tāme Nr.2'!$J16,0)) -> 0 | K15: =IF($C$4="Neattiecināmās izmaksas",IF('Lokālā tāme Nr.2'!$Q16="Neattiecināmās",'Lokālā tāme Nr.2'!$K16,0)) -> 0 | L15: =IF($C$4="Neattiecināmās izmaksas",IF('Lokālā tāme Nr.2'!$Q16="Neattiecināmās",'Lokālā tāme Nr.2'!$L16,0)) -> 0 | M15: =IF($C$4="Neattiecināmās izmaksas",IF('Lokālā tāme Nr.2'!$Q16="Neattiecināmās",'Lokālā tāme Nr.2'!$M16,0)) -> 0 | N15: =IF($C$4="Neattiecināmās izmaksas",IF('Lokālā tāme Nr.2'!$Q16="Neattiecināmās",'Lokālā tāme Nr.2'!$N16,0)) -> 0 | O15: =IF($C$4="Neattiecināmās izmaksas",IF('Lokālā tāme Nr.2'!$Q16="Neattiecināmās",'Lokālā tāme Nr.2'!$O16,0)) -> 0 | P15: =IF($C$4="Neattiecināmās izmaksas",IF('Lokālā tāme Nr.2'!$Q16="Neattiecināmās",'Lokālā tāme Nr.2'!$P16,0)) -> 0
A16: =IF(P16=0,0,IF(COUNTBLANK(P16)=1,0,COUNTA($P$10:P16))) -> 0 | B16: =IF($C$4="Neattiecināmās izmaksas",IF('Lokālā tāme Nr.2'!$Q17="Neattiecināmās",'Lokālā tāme Nr.2'!$B17,0)) -> 0 | C16: =IF($C$4="Neattiecināmās izmaksas",IF('Lokālā tāme Nr.2'!$Q17="Neattiecināmās",'Lokālā tāme Nr.2'!$C17,0)) -> 0 | D16: =IF($C$4="Neattiecināmās izmaksas",IF('Lokālā tāme Nr.2'!$Q17="Neattiecināmās",'Lokālā tāme Nr.2'!$D17,0)) -> 0 | E16: =IF($C$4="Neattiecināmās izmaksas",IF('Lokālā tāme Nr.2'!$Q17="Neattiecināmās",'Lokālā tāme Nr.2'!$E17,0)) -> 0 | F16: =IF($C$4="Neattiecināmās izmaksas",IF('Lokālā tāme Nr.2'!$Q17="Neattiecināmās",'Lokālā tāme Nr.2'!$F17,0)) -> 0 | G16: =IF($C$4="Neattiecināmās izmaksas",IF('Lokālā tāme Nr.2'!$Q17="Neattiecināmās",'Lokālā tāme Nr.2'!$G17,0)) -> 0 | H16: =IF($C$4="Neattiecināmās izmaksas",IF('Lokālā tāme Nr.2'!$Q17="Neattiecināmās",'Lokālā tāme Nr.2'!$H17,0)) -> 0 | I16: =IF($C$4="Neattiecināmās izmaksas",IF('Lokālā tāme Nr.2'!$Q17="Neattiecināmās",'Lokālā tāme Nr.2'!$I17,0)) -> 0 | J16: =IF($C$4="Neattiecināmās izmaksas",IF('Lokālā tāme Nr.2'!$Q17="Neattiecināmās",'Lokālā tāme Nr.2'!$J17,0)) -> 0 | K16: =IF($C$4="Neattiecināmās izmaksas",IF('Lokālā tāme Nr.2'!$Q17="Neattiecināmās",'Lokālā tāme Nr.2'!$K17,0)) -> 0 | L16: =IF($C$4="Neattiecināmās izmaksas",IF('Lokālā tāme Nr.2'!$Q17="Neattiecināmās",'Lokālā tāme Nr.2'!$L17,0)) -> 0 | M16: =IF($C$4="Neattiecināmās izmaksas",IF('Lokālā tāme Nr.2'!$Q17="Neattiecināmās",'Lokālā tāme Nr.2'!$M17,0)) -> 0 | N16: =IF($C$4="Neattiecināmās izmaksas",IF('Lokālā tāme Nr.2'!$Q17="Neattiecināmās",'Lokālā tāme Nr.2'!$N17,0)) -> 0 | O16: =IF($C$4="Neattiecināmās izmaksas",IF('Lokālā tāme Nr.2'!$Q17="Neattiecināmās",'Lokālā tāme Nr.2'!$O17,0)) -> 0 | P16: =IF($C$4="Neattiecināmās izmaksas",IF('Lokālā tāme Nr.2'!$Q17="Neattiecināmās",'Lokālā tāme Nr.2'!$P17,0)) -> 0
A17: =IF(P17=0,0,IF(COUNTBLANK(P17)=1,0,COUNTA($P$10:P17))) -> 0 | B17: =IF($C$4="Neattiecināmās izmaksas",IF('Lokālā tāme Nr.2'!$Q18="Neattiecināmās",'Lokālā tāme Nr.2'!$B18,0)) -> 0 | C17: =IF($C$4="Neattiecināmās izmaksas",IF('Lokālā tāme Nr.2'!$Q18="Neattiecināmās",'Lokālā tāme Nr.2'!$C18,0)) -> 0 | D17: =IF($C$4="Neattiecināmās izmaksas",IF('Lokālā tāme Nr.2'!$Q18="Neattiecināmās",'Lokālā tāme Nr.2'!$D18,0)) -> 0 | E17: =IF($C$4="Neattiecināmās izmaksas",IF('Lokālā tāme Nr.2'!$Q18="Neattiecināmās",'Lokālā tāme Nr.2'!$E18,0)) -> 0 | F17: =IF($C$4="Neattiecināmās izmaksas",IF('Lokālā tāme Nr.2'!$Q18="Neattiecināmās",'Lokālā tāme Nr.2'!$F18,0)) -> 0 | G17: =IF($C$4="Neattiecināmās izmaksas",IF('Lokālā tāme Nr.2'!$Q18="Neattiecināmās",'Lokālā tāme Nr.2'!$G18,0)) -> 0 | H17: =IF($C$4="Neattiecināmās izmaksas",IF('Lokālā tāme Nr.2'!$Q18="Neattiecināmās",'Lokālā tāme Nr.2'!$H18,0)) -> 0 | I17: =IF($C$4="Neattiecināmās izmaksas",IF('Lokālā tāme Nr.2'!$Q18="Neattiecināmās",'Lokālā tāme Nr.2'!$I18,0)) -> 0 | J17: =IF($C$4="Neattiecināmās izmaksas",IF('Lokālā tāme Nr.2'!$Q18="Neattiecināmās",'Lokālā tāme Nr.2'!$J18,0)) -> 0 | K17: =IF($C$4="Neattiecināmās izmaksas",IF('Lokālā tāme Nr.2'!$Q18="Neattiecināmās",'Lokālā tāme Nr.2'!$K18,0)) -> 0 | L17: =IF($C$4="Neattiecināmās izmaksas",IF('Lokālā tāme Nr.2'!$Q18="Neattiecināmās",'Lokālā tāme Nr.2'!$L18,0)) -> 0 | M17: =IF($C$4="Neattiecināmās izmaksas",IF('Lokālā tāme Nr.2'!$Q18="Neattiecināmās",'Lokālā tāme Nr.2'!$M18,0)) -> 0 | N17: =IF($C$4="Neattiecināmās izmaksas",IF('Lokālā tāme Nr.2'!$Q18="Neattiecināmās",'Lokālā tāme Nr.2'!$N18,0)) -> 0 | O17: =IF($C$4="Neattiecināmās izmaksas",IF('Lokālā tāme Nr.2'!$Q18="Neattiecināmās",'Lokālā tāme Nr.2'!$O18,0)) -> 0 | P17: =IF($C$4="Neattiecināmās izmaksas",IF('Lokālā tāme Nr.2'!$Q18="Neattiecināmās",'Lokālā tāme Nr.2'!$P18,0)) -> 0
A18: =IF(P18=0,0,IF(COUNTBLANK(P18)=1,0,COUNTA($P$10:P18))) -> 0 | B18: =IF($C$4="Neattiecināmās izmaksas",IF('Lokālā tāme Nr.2'!$Q19="Neattiecināmās",'Lokālā tāme Nr.2'!$B19,0)) -> 0 | C18: =IF($C$4="Neattiecināmās izmaksas",IF('Lokālā tāme Nr.2'!$Q19="Neattiecināmās",'Lokālā tāme Nr.2'!$C19,0)) -> 0 | D18: =IF($C$4="Neattiecināmās izmaksas",IF('Lokālā tāme Nr.2'!$Q19="Neattiecināmās",'Lokālā tāme Nr.2'!$D19,0)) -> 0 | E18: =IF($C$4="Neattiecināmās izmaksas",IF('Lokālā tāme Nr.2'!$Q19="Neattiecināmās",'Lokālā tāme Nr.2'!$E19,0)) -> 0 | F18: =IF($C$4="Neattiecināmās izmaksas",IF('Lokālā tāme Nr.2'!$Q19="Neattiecināmās",'Lokālā tāme Nr.2'!$F19,0)) -> 0 | G18: =IF($C$4="Neattiecināmās izmaksas",IF('Lokālā tāme Nr.2'!$Q19="Neattiecināmās",'Lokālā tāme Nr.2'!$G19,0)) -> 0 | H18: =IF($C$4="Neattiecināmās izmaksas",IF('Lokālā tāme Nr.2'!$Q19="Neattiecināmās",'Lokālā tāme Nr.2'!$H19,0)) -> 0 | I18: =IF($C$4="Neattiecināmās izmaksas",IF('Lokālā tāme Nr.2'!$Q19="Neattiecināmās",'Lokālā tāme Nr.2'!$I19,0)) -> 0 | J18: =IF($C$4="Neattiecināmās izmaksas",IF('Lokālā tāme Nr.2'!$Q19="Neattiecināmās",'Lokālā tāme Nr.2'!$J19,0)) -> 0 | K18: =IF($C$4="Neattiecināmās izmaksas",IF('Lokālā tāme Nr.2'!$Q19="Neattiecināmās",'Lokālā tāme Nr.2'!$K19,0)) -> 0 | L18: =IF($C$4="Neattiecināmās izmaksas",IF('Lokālā tāme Nr.2'!$Q19="Neattiecināmās",'Lokālā tāme Nr.2'!$L19,0)) -> 0 | M18: =IF($C$4="Neattiecināmās izmaksas",IF('Lokālā tāme Nr.2'!$Q19="Neattiecināmās",'Lokālā tāme Nr.2'!$M19,0)) -> 0 | N18: =IF($C$4="Neattiecināmās izmaksas",IF('Lokālā tāme Nr.2'!$Q19="Neattiecināmās",'Lokālā tāme Nr.2'!$N19,0)) -> 0 | O18: =IF($C$4="Neattiecināmās izmaksas",IF('Lokālā tāme Nr.2'!$Q19="Neattiecināmās",'Lokālā tāme Nr.2'!$O19,0)) -> 0 | P18: =IF($C$4="Neattiecināmās izmaksas",IF('Lokālā tāme Nr.2'!$Q19="Neattiecināmās",'Lokālā tāme Nr.2'!$P19,0)) -> 0
A19: =IF(P19=0,0,IF(COUNTBLANK(P19)=1,0,COUNTA($P$10:P19))) -> 0 | B19: =IF($C$4="Neattiecināmās izmaksas",IF('Lokālā tāme Nr.2'!$Q20="Neattiecināmās",'Lokālā tāme Nr.2'!$B20,0)) -> 0 | C19: =IF($C$4="Neattiecināmās izmaksas",IF('Lokālā tāme Nr.2'!$Q20="Neattiecināmās",'Lokālā tāme Nr.2'!$C20,0)) -> 0 | D19: =IF($C$4="Neattiecināmās izmaksas",IF('Lokālā tāme Nr.2'!$Q20="Neattiecināmās",'Lokālā tāme Nr.2'!$D20,0)) -> 0 | E19: =IF($C$4="Neattiecināmās izmaksas",IF('Lokālā tāme Nr.2'!$Q20="Neattiecināmās",'Lokālā tāme Nr.2'!$E20,0)) -> 0 | F19: =IF($C$4="Neattiecināmās izmaksas",IF('Lokālā tāme Nr.2'!$Q20="Neattiecināmās",'Lokālā tāme Nr.2'!$F20,0)) -> 0 | G19: =IF($C$4="Neattiecināmās izmaksas",IF('Lokālā tāme Nr.2'!$Q20="Neattiecināmās",'Lokālā tāme Nr.2'!$G20,0)) -> 0 | H19: =IF($C$4="Neattiecināmās izmaksas",IF('Lokālā tāme Nr.2'!$Q20="Neattiecināmās",'Lokālā tāme Nr.2'!$H20,0)) -> 0 | I19: =IF($C$4="Neattiecināmās izmaksas",IF('Lokālā tāme Nr.2'!$Q20="Neattiecināmās",'Lokālā tāme Nr.2'!$I20,0)) -> 0 | J19: =IF($C$4="Neattiecināmās izmaksas",IF('Lokālā tāme Nr.2'!$Q20="Neattiecināmās",'Lokālā tāme Nr.2'!$J20,0)) -> 0 | K19: =IF($C$4="Neattiecināmās izmaksas",IF('Lokālā tāme Nr.2'!$Q20="Neattiecināmās",'Lokālā tāme Nr.2'!$K20,0)) -> 0 | L19: =IF($C$4="Neattiecināmās izmaksas",IF('Lokālā tāme Nr.2'!$Q20="Neattiecināmās",'Lokālā tāme Nr.2'!$L20,0)) -> 0 | M19: =IF($C$4="Neattiecināmās izmaksas",IF('Lokālā tāme Nr.2'!$Q20="Neattiecināmās",'Lokālā tāme Nr.2'!$M20,0)) -> 0 | N19: =IF($C$4="Neattiecināmās izmaksas",IF('Lokālā tāme Nr.2'!$Q20="Neattiecināmās",'Lokālā tāme Nr.2'!$N20,0)) -> 0 | O19: =IF($C$4="Neattiecināmās izmaksas",IF('Lokālā tāme Nr.2'!$Q20="Neattiecināmās",'Lokālā tāme Nr.2'!$O20,0)) -> 0 | P19: =IF($C$4="Neattiecināmās izmaksas",IF('Lokālā tāme Nr.2'!$Q20="Neattiecināmās",'Lokālā tāme Nr.2'!$P20,0)) -> 0
A20: =IF(P20=0,0,IF(COUNTBLANK(P20)=1,0,COUNTA($P$10:P20))) -> 0 | B20: =IF($C$4="Neattiecināmās izmaksas",IF('Lokālā tāme Nr.2'!$Q21="Neattiecināmās",'Lokālā tāme Nr.2'!$B21,0)) -> 0 | C20: =IF($C$4="Neattiecināmās izmaksas",IF('Lokālā tāme Nr.2'!$Q21="Neattiecināmās",'Lokālā tāme Nr.2'!$C21,0)) -> 0 | D20: =IF($C$4="Neattiecināmās izmaksas",IF('Lokālā tāme Nr.2'!$Q21="Neattiecināmās",'Lokālā tāme Nr.2'!$D21,0)) -> 0 | E20: =IF($C$4="Neattiecināmās izmaksas",IF('Lokālā tāme Nr.2'!$Q21="Neattiecināmās",'Lokālā tāme Nr.2'!$E21,0)) -> 0 | F20: =IF($C$4="Neattiecināmās izmaksas",IF('Lokālā tāme Nr.2'!$Q21="Neattiecināmās",'Lokālā tāme Nr.2'!$F21,0)) -> 0 | G20: =IF($C$4="Neattiecināmās izmaksas",IF('Lokālā tāme Nr.2'!$Q21="Neattiecināmās",'Lokālā tāme Nr.2'!$G21,0)) -> 0 | H20: =IF($C$4="Neattiecināmās izmaksas",IF('Lokālā tāme Nr.2'!$Q21="Neattiecināmās",'Lokālā tāme Nr.2'!$H21,0)) -> 0 | I20: =IF($C$4="Neattiecināmās izmaksas",IF('Lokālā tāme Nr.2'!$Q21="Neattiecināmās",'Lokālā tāme Nr.2'!$I21,0)) -> 0 | J20: =IF($C$4="Neattiecināmās izmaksas",IF('Lokālā tāme Nr.2'!$Q21="Neattiecināmās",'Lokālā tāme Nr.2'!$J21,0)) -> 0 | K20: =IF($C$4="Neattiecināmās izmaksas",IF('Lokālā tāme Nr.2'!$Q21="Neattiecināmās",'Lokālā tāme Nr.2'!$K21,0)) -> 0 | L20: =IF($C$4="Neattiecināmās izmaksas",IF('Lokālā tāme Nr.2'!$Q21="Neattiecināmās",'Lokālā tāme Nr.2'!$L21,0)) -> 0 | M20: =IF($C$4="Neattiecināmās izmaksas",IF('Lokālā tāme Nr.2'!$Q21="Neattiecināmās",'Lokālā tāme Nr.2'!$M21,0)) -> 0 | N20: =IF($C$4="Neattiecināmās izmaksas",IF('Lokālā tāme Nr.2'!$Q21="Neattiecināmās",'Lokālā tāme Nr.2'!$N21,0)) -> 0 | O20: =IF($C$4="Neattiecināmās izmaksas",IF('Lokālā tāme Nr.2'!$Q21="Neattiecināmās",'Lokālā tāme Nr.2'!$O21,0)) -> 0 | P20: =IF($C$4="Neattiecināmās izmaksas",IF('Lokālā tāme Nr.2'!$Q21="Neattiecināmās",'Lokālā tāme Nr.2'!$P21,0)) -> 0
A21: =IF(P21=0,0,IF(COUNTBLANK(P21)=1,0,COUNTA($P$10:P21))) -> 0 | B21: =IF($C$4="Neattiecināmās izmaksas",IF('Lokālā tāme Nr.2'!$Q22="Neattiecināmās",'Lokālā tāme Nr.2'!$B22,0)) -> 0 | C21: =IF($C$4="Neattiecināmās izmaksas",IF('Lokālā tāme Nr.2'!$Q22="Neattiecināmās",'Lokālā tāme Nr.2'!$C22,0)) -> 0 | D21: =IF($C$4="Neattiecināmās izmaksas",IF('Lokālā tāme Nr.2'!$Q22="Neattiecināmās",'Lokālā tāme Nr.2'!$D22,0)) -> 0 | E21: =IF($C$4="Neattiecināmās izmaksas",IF('Lokālā tāme Nr.2'!$Q22="Neattiecināmās",'Lokālā tāme Nr.2'!$E22,0)) -> 0 | F21: =IF($C$4="Neattiecināmās izmaksas",IF('Lokālā tāme Nr.2'!$Q22="Neattiecināmās",'Lokālā tāme Nr.2'!$F22,0)) -> 0 | G21: =IF($C$4="Neattiecināmās izmaksas",IF('Lokālā tāme Nr.2'!$Q22="Neattiecināmās",'Lokālā tāme Nr.2'!$G22,0)) -> 0 | H21: =IF($C$4="Neattiecināmās izmaksas",IF('Lokālā tāme Nr.2'!$Q22="Neattiecināmās",'Lokālā tāme Nr.2'!$H22,0)) -> 0 | I21: =IF($C$4="Neattiecināmās izmaksas",IF('Lokālā tāme Nr.2'!$Q22="Neattiecināmās",'Lokālā tāme Nr.2'!$I22,0)) -> 0 | J21: =IF($C$4="Neattiecināmās izmaksas",IF('Lokālā tāme Nr.2'!$Q22="Neattiecināmās",'Lokālā tāme Nr.2'!$J22,0)) -> 0 | K21: =IF($C$4="Neattiecināmās izmaksas",IF('Lokālā tāme Nr.2'!$Q22="Neattiecināmās",'Lokālā tāme Nr.2'!$K22,0)) -> 0 | L21: =IF($C$4="Neattiecināmās izmaksas",IF('Lokālā tāme Nr.2'!$Q22="Neattiecināmās",'Lokālā tāme Nr.2'!$L22,0)) -> 0 | M21: =IF($C$4="Neattiecināmās izmaksas",IF('Lokālā tāme Nr.2'!$Q22="Neattiecināmās",'Lokālā tāme Nr.2'!$M22,0)) -> 0 | N21: =IF($C$4="Neattiecināmās izmaksas",IF('Lokālā tāme Nr.2'!$Q22="Neattiecināmās",'Lokālā tāme Nr.2'!$N22,0)) -> 0 | O21: =IF($C$4="Neattiecināmās izmaksas",IF('Lokālā tāme Nr.2'!$Q22="Neattiecināmās",'Lokālā tāme Nr.2'!$O22,0)) -> 0 | P21: =IF($C$4="Neattiecināmās izmaksas",IF('Lokālā tāme Nr.2'!$Q22="Neattiecināmās",'Lokālā tāme Nr.2'!$P22,0)) -> 0
... A496: =IF(P496=0,0,IF(COUNTBLANK(P496)=1,0,COUNTA($P$10:P496))) -> 0 | B496: =IF($C$4="Neattiecināmās izmaksas",IF('Lokālā tāme Nr.2'!$Q497="Neattiecināmās",'Lokālā tāme Nr.2'!$B497,0)) -> 0 | C496: =IF($C$4="Neattiecināmās izmaksas",IF('Lokālā tāme Nr.2'!$Q497="Neattiecināmās",'Lokālā tāme Nr.2'!$C497,0)) -> 0 | D496: =IF($C$4="Neattiecināmās izmaksas",IF('Lokālā tāme Nr.2'!$Q497="Neattiecināmās",'Lokālā tāme Nr.2'!$D497,0)) -> 0 | E496: =IF($C$4="Neattiecināmās izmaksas",IF('Lokālā tāme Nr.2'!$Q497="Neattiecināmās",'Lokālā tāme Nr.2'!$E497,0)) -> 0 | F496: =IF($C$4="Neattiecināmās izmaksas",IF('Lokālā tāme Nr.2'!$Q497="Neattiecināmās",'Lokālā tāme Nr.2'!$F497,0)) -> 0 | G496: =IF($C$4="Neattiecināmās izmaksas",IF('Lokālā tāme Nr.2'!$Q497="Neattiecināmās",'Lokālā tāme Nr.2'!$G497,0)) -> 0 | H496: =IF($C$4="Neattiecināmās izmaksas",IF('Lokālā tāme Nr.2'!$Q497="Neattiecināmās",'Lokālā tāme Nr.2'!$H497,0)) -> 0 | I496: =IF($C$4="Neattiecināmās izmaksas",IF('Lokālā tāme Nr.2'!$Q497="Neattiecināmās",'Lokālā tāme Nr.2'!$I497,0)) -> 0 | J496: =IF($C$4="Neattiecināmās izmaksas",IF('Lokālā tāme Nr.2'!$Q497="Neattiecināmās",'Lokālā tāme Nr.2'!$J497,0)) -> 0 | K496: =IF($C$4="Neattiecināmās izmaksas",IF('Lokālā tāme Nr.2'!$Q497="Neattiecināmās",'Lokālā tāme Nr.2'!$K497,0)) -> 0 | L496: =IF($C$4="Neattiecināmās izmaksas",IF('Lokālā tāme Nr.2'!$Q497="Neattiecināmās",'Lokālā tāme Nr.2'!$L497,0)) -> 0 | M496: =IF($C$4="Neattiecināmās izmaksas",IF('Lokālā tāme Nr.2'!$Q497="Neattiecināmās",'Lokālā tāme Nr.2'!$M497,0)) -> 0 | N496: =IF($C$4="Neattiecināmās izmaksas",IF('Lokālā tāme Nr.2'!$Q497="Neattiecināmās",'Lokālā tāme Nr.2'!$N497,0)) -> 0 | O496: =IF($C$4="Neattiecināmās izmaksas",IF('Lokālā tāme Nr.2'!$Q497="Neattiecināmās",'Lokālā tāme Nr.2'!$O497,0)) -> 0 | P496: =IF($C$4="Neattiecināmās izmaksas",IF('Lokālā tāme Nr.2'!$Q497="Neattiecināmās",'Lokālā tāme Nr.2'!$P497,0)) -> 0
A497: Tiešās izmaksas kopā, t. sk. darba devēja sociālais nodoklis __.__% | L497: =SUM(L10:L496) -> 0 | M497: =SUM(M10:M496) -> 0 | N497: =SUM(N10:N496) -> 0 | O497: =SUM(O10:O496) -> 0 | P497: =SUM(P10:P496) -> 0
A500: Sastādīja | C500: =_xlfn.SINGLE('Neatt izm.'!#REF!) -> #REF!
C501: (paraksts un tā atšifrējums, datums)
A503: =_xlfn.SINGLE('Neatt izm.'!#REF!) -> #REF!
A505: Pārbaudīja | C505: =_xlfn.SINGLE('Neatt izm.'!#REF!) -> #REF!
C506: (paraksts un tā atšifrējums, datums)
A508: Sertifikāta Nr. | C508: ='Neatt izm.'!#REF! -> #REF!

Sheet Lokālā tāme Nr.3
B2: LOKĀLĀ TĀME NR. | Q2: 3
N4: =B4 -> 0
B5: darba veids vai konstruktīvā elementa nosaukums
B7: KOPĒJĀS IZMAKSAS | E7: =P498 -> 0
B9: Nr.p.k. | C9: Darba nosaukums | D9: Mērvienība | E9: Daudzums | F9: Vienības izmaksas | L9: Kopā uz visu apjomu | Q9: Izmaksu veids (attiecināmās vai neattiecināmas)
F10: Laika norma (c/h) | G10: Darba samaksas likme (EUR/h) | H10: Darba alga (EUR) | I10: Būvizstrādājumi (EUR) | J10: Mehānismi (EUR) | K10: Kopā (EUR) | L10: Laika norma (c/h) | M10: Darba alga (EUR) | N10: Būvizstrādājumi (EUR) | O10: Mehānismi (EUR) | P10: Kopā (EUR)
H11: =ROUND(F11*G11,2) -> 0 | K11: =SUM(H11:J11) -> 0 | L11: =ROUND(E11*F11,2) -> 0 | M11: =ROUND(H11*E11,2) -> 0 | N11: =ROUND(I11*E11,2) -> 0 | O11: =ROUND(J11*E11,2) -> 0 | P11: =SUM(M11:O11) -> 0
H12: =ROUND(F12*G12,2) -> 0 | K12: =SUM(H12:J12) -> 0 | L12: =ROUND(E12*F12,2) -> 0 | M12: =ROUND(H12*E12,2) -> 0 | N12: =ROUND(I12*E12,2) -> 0 | O12: =ROUND(J12*E12,2) -> 0 | P12: =SUM(M12:O12) -> 0
H13: =ROUND(F13*G13,2) -> 0 | K13: =SUM(H13:J13) -> 0 | L13: =ROUND(E13*F13,2) -> 0 | M13: =ROUND(H13*E13,2) -> 0 | N13: =ROUND(I13*E13,2) -> 0 | O13: =ROUND(J13*E13,2) -> 0 | P13: =SUM(M13:O13) -> 0
H14: =ROUND(F14*G14,2) -> 0 | K14: =SUM(H14:J14) -> 0 | L14: =ROUND(E14*F14,2) -> 0 | M14: =ROUND(H14*E14,2) -> 0 | N14: =ROUND(I14*E14,2) -> 0 | O14: =ROUND(J14*E14,2) -> 0 | P14: =SUM(M14:O14) -> 0
H15: =ROUND(F15*G15,2) -> 0 | K15: =SUM(H15:J15) -> 0 | L15: =ROUND(E15*F15,2) -> 0 | M15: =ROUND(H15*E15,2) -> 0 | N15: =ROUND(I15*E15,2) -> 0 | O15: =ROUND(J15*E15,2) -> 0 | P15: =SUM(M15:O15) -> 0
H16: =ROUND(F16*G16,2) -> 0 | K16: =SUM(H16:J16) -> 0 | L16: =ROUND(E16*F16,2) -> 0 | M16: =ROUND(H16*E16,2) -> 0 | N16: =ROUND(I16*E16,2) -> 0 | O16: =ROUND(J16*E16,2) -> 0 | P16: =SUM(M16:O16) -> 0
H17: =ROUND(F17*G17,2) -> 0 | K17: =SUM(H17:J17) -> 0 | L17: =ROUND(E17*F17,2) -> 0 | M17: =ROUND(H17*E17,2) -> 0 | N17: =ROUND(I17*E17,2) -> 0 | O17: =ROUND(J17*E17,2) -> 0 | P17: =SUM(M17:O17) -> 0
H18: =ROUND(F18*G18,2) -> 0 | K18: =SUM(H18:J18) -> 0 | L18: =ROUND(E18*F18,2) -> 0 | M18: =ROUND(H18*E18,2) -> 0 | N18: =ROUND(I18*E18,2) -> 0 | O18: =ROUND(J18*E18,2) -> 0 | P18: =SUM(M18:O18) -> 0
H19: =ROUND(F19*G19,2) -> 0 | K19: =SUM(H19:J19) -> 0 | L19: =ROUND(E19*F19,2) -> 0 | M19: =ROUND(H19*E19,2) -> 0 | N19: =ROUND(I19*E19,2) -> 0 | O19: =ROUND(J19*E19,2) -> 0 | P19: =SUM(M19:O19) -> 0
H20: =ROUND(F20*G20,2) -> 0 | K20: =SUM(H20:J20) -> 0 | L20: =ROUND(E20*F20,2) -> 0 | M20: =ROUND(H20*E20,2) -> 0 | N20: =ROUND(I20*E20,2) -> 0 | O20: =ROUND(J20*E20,2) -> 0 | P20: =SUM(M20:O20) -> 0
H21: =ROUND(F21*G21,2) -> 0 | K21: =SUM(H21:J21) -> 0 | L21: =ROUND(E21*F21,2) -> 0 | M21: =ROUND(H21*E21,2) -> 0 | N21: =ROUND(I21*E21,2) -> 0 | O21: =ROUND(J21*E21,2) -> 0 | P21: =SUM(M21:O21) -> 0
H22: =ROUND(F22*G22,2) -> 0 | K22: =SUM(H22:J22) -> 0 | L22: =ROUND(E22*F22,2) -> 0 | M22: =ROUND(H22*E22,2) -> 0 | N22: =ROUND(I22*E22,2) -> 0 | O22: =ROUND(J22*E22,2) -> 0 | P22: =SUM(M22:O22) -> 0
... H497: =ROUND(F497*G497,2) -> 0 | K497: =SUM(H497:J497) -> 0 | L497: =ROUND(E497*F497,2) -> 0 | M497: =ROUND(H497*E497,2) -> 0 | N497: =ROUND(I497*E497,2) -> 0 | O497: =ROUND(J497*E497,2) -> 0 | P497: =SUM(M497:O497) -> 0
B498: Tiešās izmaksas kopā, t. sk. darba devēja sociālais nodoklis 23.59% | L498: =SUM(L11:L497) -> 0 | M498: =SUM(M11:M497) -> 0 | N498: =SUM(N11:N497) -> 0 | O498: =SUM(O11:O497) -> 0 | P498: =SUM(P11:P497) -> 0

Sheet 3a
C1: Lokālā tāme Nr. | D1: ='Lokālā tāme Nr.3'!Q2 -> 3
C2: Attiecināmās izmaksas
J3: Tāmes izmaksas EUR | N3: =P495 -> 0
A6: Nr.p.k. | B6: Kods | C6: Darba nosaukums | D6: Mērvienība | E6: Daudzums | F6: Vienības izmaksas | L6: Kopā uz visu apjomu
F7: Laika norma (c/h) | G7: Darba samaksas likme (EUR/h) | H7: Darba alga (EUR) | I7: Būvizstrādājumi (EUR) | J7: Mehānismi (EUR) | K7: Kopā (EUR) | L7: Laika norma (c/h) | M7: Darba alga (EUR) | N7: Būvizstrādājumi (EUR) | O7: Mehānismi (EUR) | P7: Kopā (EUR)
A8: =IF(P8=0,0,IF(COUNTBLANK(P8)=1,0,COUNTA($P$8:P8))) -> 0 | B8: =IF($C$2="Attiecināmās izmaksas",IF('Lokālā tāme Nr.3'!$Q11="Attiecināmās",'Lokālā tāme Nr.3'!$B11,0),0) -> 0 | C8: =IF($C$2="Attiecināmās izmaksas",IF('Lokālā tāme Nr.3'!$Q11="Attiecināmās",'Lokālā tāme Nr.3'!$C11,0),0) -> 0 | D8: =IF($C$2="Attiecināmās izmaksas",IF('Lokālā tāme Nr.3'!$Q11="Attiecināmās",'Lokālā tāme Nr.3'!$D11,0),0) -> 0 | E8: =IF($C$2="Attiecināmās izmaksas",IF('Lokālā tāme Nr.3'!$Q11="Attiecināmās",'Lokālā tāme Nr.3'!$E11,0),0) -> 0 | F8: =IF($C$2="Attiecināmās izmaksas",IF('Lokālā tāme Nr.3'!$Q11="Attiecināmās",'Lokālā tāme Nr.3'!$F11,0),0) -> 0 | G8: =IF($C$2="Attiecināmās izmaksas",IF('Lokālā tāme Nr.3'!$Q11="Attiecināmās",'Lokālā tāme Nr.3'!$G11,0),0) -> 0 | H8: =IF($C$2="Attiecināmās izmaksas",IF('Lokālā tāme Nr.3'!$Q11="Attiecināmās",'Lokālā tāme Nr.3'!$H11,0),0) -> 0 | I8: =IF($C$2="Attiecināmās izmaksas",IF('Lokālā tāme Nr.3'!$Q11="Attiecināmās",'Lokālā tāme Nr.3'!$I11,0),0) -> 0 | J8: =IF($C$2="Attiecināmās izmaksas",IF('Lokālā tāme Nr.3'!$Q11="Attiecināmās",'Lokālā tāme Nr.3'!$J11,0),0) -> 0 | K8: =IF($C$2="Attiecināmās izmaksas",IF('Lokālā tāme Nr.3'!$Q11="Attiecināmās",'Lokālā tāme Nr.3'!$K11,0),0) -> 0 | L8: =IF($C$2="Attiecināmās izmaksas",IF('Lokālā tāme Nr.3'!$Q11="Attiecināmās",'Lokālā tāme Nr.3'!$L11,0),0) -> 0 | M8: =IF($C$2="Attiecināmās izmaksas",IF('Lokālā tāme Nr.3'!$Q11="Attiecināmās",'Lokālā tāme Nr.3'!$M11,0),0) -> 0 | N8: =IF($C$2="Attiecināmās izmaksas",IF('Lokālā tāme Nr.3'!$Q11="Attiecināmās",'Lokālā tāme Nr.3'!$N11,0),0) -> 0 | O8: =IF($C$2="Attiecināmās izmaksas",IF('Lokālā tāme Nr.3'!$Q11="Attiecināmās",'Lokālā tāme Nr.3'!$O11,0),0) -> 0 | P8: =IF($C$2="Attiecināmās izmaksas",IF('Lokālā tāme Nr.3'!$Q11="Attiecināmās",'Lokālā tāme Nr.3'!$P11,0),0) -> 0
A9: =IF(P9=0,0,IF(COUNTBLANK(P9)=1,0,COUNTA($P$8:P9))) -> 0 | B9: =IF($C$2="Attiecināmās izmaksas",IF('Lokālā tāme Nr.3'!$Q12="Attiecināmās",'Lokālā tāme Nr.3'!$B12,0),0) -> 0 | C9: =IF($C$2="Attiecināmās izmaksas",IF('Lokālā tāme Nr.3'!$Q12="Attiecināmās",'Lokālā tāme Nr.3'!$C12,0),0) -> 0 | D9: =IF($C$2="Attiecināmās izmaksas",IF('Lokālā tāme Nr.3'!$Q12="Attiecināmās",'Lokālā tāme Nr.3'!$D12,0),0) -> 0 | E9: =IF($C$2="Attiecināmās izmaksas",IF('Lokālā tāme Nr.3'!$Q12="Attiecināmās",'Lokālā tāme Nr.3'!$E12,0),0) -> 0 | F9: =IF($C$2="Attiecināmās izmaksas",IF('Lokālā tāme Nr.3'!$Q12="Attiecināmās",'Lokālā tāme Nr.3'!$F12,0),0) -> 0 | G9: =IF($C$2="Attiecināmās izmaksas",IF('Lokālā tāme Nr.3'!$Q12="Attiecināmās",'Lokālā tāme Nr.3'!$G12,0),0) -> 0 | H9: =IF($C$2="Attiecināmās izmaksas",IF('Lokālā tāme Nr.3'!$Q12="Attiecināmās",'Lokālā tāme Nr.3'!$H12,0),0) -> 0 | I9: =IF($C$2="Attiecināmās izmaksas",IF('Lokālā tāme Nr.3'!$Q12="Attiecināmās",'Lokālā tāme Nr.3'!$I12,0),0) -> 0 | J9: =IF($C$2="Attiecināmās izmaksas",IF('Lokālā tāme Nr.3'!$Q12="Attiecināmās",'Lokālā tāme Nr.3'!$J12,0),0) -> 0 | K9: =IF($C$2="Attiecināmās izmaksas",IF('Lokālā tāme Nr.3'!$Q12="Attiecināmās",'Lokālā tāme Nr.3'!$K12,0),0) -> 0 | L9: =IF($C$2="Attiecināmās izmaksas",IF('Lokālā tāme Nr.3'!$Q12="Attiecināmās",'Lokālā tāme Nr.3'!$L12,0),0) -> 0 | M9: =IF($C$2="Attiecināmās izmaksas",IF('Lokālā tāme Nr.3'!$Q12="Attiecināmās",'Lokālā tāme Nr.3'!$M12,0),0) -> 0 | N9: =IF($C$2="Attiecināmās izmaksas",IF('Lokālā tāme Nr.3'!$Q12="Attiecināmās",'Lokālā tāme Nr.3'!$N12,0),0) -> 0 | O9: =IF($C$2="Attiecināmās izmaksas",IF('Lokālā tāme Nr.3'!$Q12="Attiecināmās",'Lokālā tāme Nr.3'!$O12,0),0) -> 0 | P9: =IF($C$2="Attiecināmās izmaksas",IF('Lokālā tāme Nr.3'!$Q12="Attiecināmās",'Lokālā tāme Nr.3'!$P12,0),0) -> 0
A10: =IF(P10=0,0,IF(COUNTBLANK(P10)=1,0,COUNTA($P$8:P10))) -> 0 | B10: =IF($C$2="Attiecināmās izmaksas",IF('Lokālā tāme Nr.3'!$Q13="Attiecināmās",'Lokālā tāme Nr.3'!$B13,0),0) -> 0 | C10: =IF($C$2="Attiecināmās izmaksas",IF('Lokālā tāme Nr.3'!$Q13="Attiecināmās",'Lokālā tāme Nr.3'!$C13,0),0) -> 0 | D10: =IF($C$2="Attiecināmās izmaksas",IF('Lokālā tāme Nr.3'!$Q13="Attiecināmās",'Lokālā tāme Nr.3'!$D13,0),0) -> 0 | E10: =IF($C$2="Attiecināmās izmaksas",IF('Lokālā tāme Nr.3'!$Q13="Attiecināmās",'Lokālā tāme Nr.3'!$E13,0),0) -> 0 | F10: =IF($C$2="Attiecināmās izmaksas",IF('Lokālā tāme Nr.3'!$Q13="Attiecināmās",'Lokālā tāme Nr.3'!$F13,0),0) -> 0 | G10: =IF($C$2="Attiecināmās izmaksas",IF('Lokālā tāme Nr.3'!$Q13="Attiecināmās",'Lokālā tāme Nr.3'!$G13,0),0) -> 0 | H10: =IF($C$2="Attiecināmās izmaksas",IF('Lokālā tāme Nr.3'!$Q13="Attiecināmās",'Lokālā tāme Nr.3'!$H13,0),0) -> 0 | I10: =IF($C$2="Attiecināmās izmaksas",IF('Lokālā tāme Nr.3'!$Q13="Attiecināmās",'Lokālā tāme Nr.3'!$I13,0),0) -> 0 | J10: =IF($C$2="Attiecināmās izmaksas",IF('Lokālā tāme Nr.3'!$Q13="Attiecināmās",'Lokālā tāme Nr.3'!$J13,0),0) -> 0 | K10: =IF($C$2="Attiecināmās izmaksas",IF('Lokālā tāme Nr.3'!$Q13="Attiecināmās",'Lokālā tāme Nr.3'!$K13,0),0) -> 0 | L10: =IF($C$2="Attiecināmās izmaksas",IF('Lokālā tāme Nr.3'!$Q13="Attiecināmās",'Lokālā tāme Nr.3'!$L13,0),0) -> 0 | M10: =IF($C$2="Attiecināmās izmaksas",IF('Lokālā tāme Nr.3'!$Q13="Attiecināmās",'Lokālā tāme Nr.3'!$M13,0),0) -> 0 | N10: =IF($C$2="Attiecināmās izmaksas",IF('Lokālā tāme Nr.3'!$Q13="Attiecināmās",'Lokālā tāme Nr.3'!$N13,0),0) -> 0 | O10: =IF($C$2="Attiecināmās izmaksas",IF('Lokālā tāme Nr.3'!$Q13="Attiecināmās",'Lokālā tāme Nr.3'!$O13,0),0) -> 0 | P10: =IF($C$2="Attiecināmās izmaksas",IF('Lokālā tāme Nr.3'!$Q13="Attiecināmās",'Lokālā tāme Nr.3'!$P13,0),0) -> 0
A11: =IF(P11=0,0,IF(COUNTBLANK(P11)=1,0,COUNTA($P$8:P11))) -> 0 | B11: =IF($C$2="Attiecināmās izmaksas",IF('Lokālā tāme Nr.3'!$Q14="Attiecināmās",'Lokālā tāme Nr.3'!$B14,0),0) -> 0 | C11: =IF($C$2="Attiecināmās izmaksas",IF('Lokālā tāme Nr.3'!$Q14="Attiecināmās",'Lokālā tāme Nr.3'!$C14,0),0) -> 0 | D11: =IF($C$2="Attiecināmās izmaksas",IF('Lokālā tāme Nr.3'!$Q14="Attiecināmās",'Lokālā tāme Nr.3'!$D14,0),0) -> 0 | E11: =IF($C$2="Attiecināmās izmaksas",IF('Lokālā tāme Nr.3'!$Q14="Attiecināmās",'Lokālā tāme Nr.3'!$E14,0),0) -> 0 | F11: =IF($C$2="Attiecināmās izmaksas",IF('Lokālā tāme Nr.3'!$Q14="Attiecināmās",'Lokālā tāme Nr.3'!$F14,0),0) -> 0 | G11: =IF($C$2="Attiecināmās izmaksas",IF('Lokālā tāme Nr.3'!$Q14="Attiecināmās",'Lokālā tāme Nr.3'!$G14,0),0) -> 0 | H11: =IF($C$2="Attiecināmās izmaksas",IF('Lokālā tāme Nr.3'!$Q14="Attiecināmās",'Lokālā tāme Nr.3'!$H14,0),0) -> 0 | I11: =IF($C$2="Attiecināmās izmaksas",IF('Lokālā tāme Nr.3'!$Q14="Attiecināmās",'Lokālā tāme Nr.3'!$I14,0),0) -> 0 | J11: =IF($C$2="Attiecināmās izmaksas",IF('Lokālā tāme Nr.3'!$Q14="Attiecināmās",'Lokālā tāme Nr.3'!$J14,0),0) -> 0 | K11: =IF($C$2="Attiecināmās izmaksas",IF('Lokālā tāme Nr.3'!$Q14="Attiecināmās",'Lokālā tāme Nr.3'!$K14,0),0) -> 0 | L11: =IF($C$2="Attiecināmās izmaksas",IF('Lokālā tāme Nr.3'!$Q14="Attiecināmās",'Lokālā tāme Nr.3'!$L14,0),0) -> 0 | M11: =IF($C$2="Attiecināmās izmaksas",IF('Lokālā tāme Nr.3'!$Q14="Attiecināmās",'Lokālā tāme Nr.3'!$M14,0),0) -> 0 | N11: =IF($C$2="Attiecināmās izmaksas",IF('Lokālā tāme Nr.3'!$Q14="Attiecināmās",'Lokālā tāme Nr.3'!$N14,0),0) -> 0 | O11: =IF($C$2="Attiecināmās izmaksas",IF('Lokālā tāme Nr.3'!$Q14="Attiecināmās",'Lokālā tāme Nr.3'!$O14,0),0) -> 0 | P11: =IF($C$2="Attiecināmās izmaksas",IF('Lokālā tāme Nr.3'!$Q14="Attiecināmās",'Lokālā tāme Nr.3'!$P14,0),0) -> 0
A12: =IF(P12=0,0,IF(COUNTBLANK(P12)=1,0,COUNTA($P$8:P12))) -> 0 | B12: =IF($C$2="Attiecināmās izmaksas",IF('Lokālā tāme Nr.3'!$Q15="Attiecināmās",'Lokālā tāme Nr.3'!$B15,0),0) -> 0 | C12: =IF($C$2="Attiecināmās izmaksas",IF('Lokālā tāme Nr.3'!$Q15="Attiecināmās",'Lokālā tāme Nr.3'!$C15,0),0) -> 0 | D12: =IF($C$2="Attiecināmās izmaksas",IF('Lokālā tāme Nr.3'!$Q15="Attiecināmās",'Lokālā tāme Nr.3'!$D15,0),0) -> 0 | E12: =IF($C$2="Attiecināmās izmaksas",IF('Lokālā tāme Nr.3'!$Q15="Attiecināmās",'Lokālā tāme Nr.3'!$E15,0),0) -> 0 | F12: =IF($C$2="Attiecināmās izmaksas",IF('Lokālā tāme Nr.3'!$Q15="Attiecināmās",'Lokālā tāme Nr.3'!$F15,0),0) -> 0 | G12: =IF($C$2="Attiecināmās izmaksas",IF('Lokālā tāme Nr.3'!$Q15="Attiecināmās",'Lokālā tāme Nr.3'!$G15,0),0) -> 0 | H12: =IF($C$2="Attiecināmās izmaksas",IF('Lokālā tāme Nr.3'!$Q15="Attiecināmās",'Lokālā tāme Nr.3'!$H15,0),0) -> 0 | I12: =IF($C$2="Attiecināmās izmaksas",IF('Lokālā tāme Nr.3'!$Q15="Attiecināmās",'Lokālā tāme Nr.3'!$I15,0),0) -> 0 | J12: =IF($C$2="Attiecināmās izmaksas",IF('Lokālā tāme Nr.3'!$Q15="Attiecināmās",'Lokālā tāme Nr.3'!$J15,0),0) -> 0 | K12: =IF($C$2="Attiecināmās izmaksas",IF('Lokālā tāme Nr.3'!$Q15="Attiecināmās",'Lokālā tāme Nr.3'!$K15,0),0) -> 0 | L12: =IF($C$2="Attiecināmās izmaksas",IF('Lokālā tāme Nr.3'!$Q15="Attiecināmās",'Lokālā tāme Nr.3'!$L15,0),0) -> 0 | M12: =IF($C$2="Attiecināmās izmaksas",IF('Lokālā tāme Nr.3'!$Q15="Attiecināmās",'Lokālā tāme Nr.3'!$M15,0),0) -> 0 | N12: =IF($C$2="Attiecināmās izmaksas",IF('Lokālā tāme Nr.3'!$Q15="Attiecināmās",'Lokālā tāme Nr.3'!$N15,0),0) -> 0 | O12: =IF($C$2="Attiecināmās izmaksas",IF('Lokālā tāme Nr.3'!$Q15="Attiecināmās",'Lokālā tāme Nr.3'!$O15,0),0) -> 0 | P12: =IF($C$2="Attiecināmās izmaksas",IF('Lokālā tāme Nr.3'!$Q15="Attiecināmās",'Lokālā tāme Nr.3'!$P15,0),0) -> 0
A13: =IF(P13=0,0,IF(COUNTBLANK(P13)=1,0,COUNTA($P$8:P13))) -> 0 | B13: =IF($C$2="Attiecināmās izmaksas",IF('Lokālā tāme Nr.3'!$Q16="Attiecināmās",'Lokālā tāme Nr.3'!$B16,0),0) -> 0 | C13: =IF($C$2="Attiecināmās izmaksas",IF('Lokālā tāme Nr.3'!$Q16="Attiecināmās",'Lokālā tāme Nr.3'!$C16,0),0) -> 0 | D13: =IF($C$2="Attiecināmās izmaksas",IF('Lokālā tāme Nr.3'!$Q16="Attiecināmās",'Lokālā tāme Nr.3'!$D16,0),0) -> 0 | E13: =IF($C$2="Attiecināmās izmaksas",IF('Lokālā tāme Nr.3'!$Q16="Attiecināmās",'Lokālā tāme Nr.3'!$E16,0),0) -> 0 | F13: =IF($C$2="Attiecināmās izmaksas",IF('Lokālā tāme Nr.3'!$Q16="Attiecināmās",'Lokālā tāme Nr.3'!$F16,0),0) -> 0 | G13: =IF($C$2="Attiecināmās izmaksas",IF('Lokālā tāme Nr.3'!$Q16="Attiecināmās",'Lokālā tāme Nr.3'!$G16,0),0) -> 0 | H13: =IF($C$2="Attiecināmās izmaksas",IF('Lokālā tāme Nr.3'!$Q16="Attiecināmās",'Lokālā tāme Nr.3'!$H16,0),0) -> 0 | I13: =IF($C$2="Attiecināmās izmaksas",IF('Lokālā tāme Nr.3'!$Q16="Attiecināmās",'Lokālā tāme Nr.3'!$I16,0),0) -> 0 | J13: =IF($C$2="Attiecināmās izmaksas",IF('Lokālā tāme Nr.3'!$Q16="Attiecināmās",'Lokālā tāme Nr.3'!$J16,0),0) -> 0 | K13: =IF($C$2="Attiecināmās izmaksas",IF('Lokālā tāme Nr.3'!$Q16="Attiecināmās",'Lokālā tāme Nr.3'!$K16,0),0) -> 0 | L13: =IF($C$2="Attiecināmās izmaksas",IF('Lokālā tāme Nr.3'!$Q16="Attiecināmās",'Lokālā tāme Nr.3'!$L16,0),0) -> 0 | M13: =IF($C$2="Attiecināmās izmaksas",IF('Lokālā tāme Nr.3'!$Q16="Attiecināmās",'Lokālā tāme Nr.3'!$M16,0),0) -> 0 | N13: =IF($C$2="Attiecināmās izmaksas",IF('Lokālā tāme Nr.3'!$Q16="Attiecināmās",'Lokālā tāme Nr.3'!$N16,0),0) -> 0 | O13: =IF($C$2="Attiecināmās izmaksas",IF('Lokālā tāme Nr.3'!$Q16="Attiecināmās",'Lokālā tāme Nr.3'!$O16,0),0) -> 0 | P13: =IF($C$2="Attiecināmās izmaksas",IF('Lokālā tāme Nr.3'!$Q16="Attiecināmās",'Lokālā tāme Nr.3'!$P16,0),0) -> 0
A14: =IF(P14=0,0,IF(COUNTBLANK(P14)=1,0,COUNTA($P$8:P14))) -> 0 | B14: =IF($C$2="Attiecināmās izmaksas",IF('Lokālā tāme Nr.3'!$Q17="Attiecināmās",'Lokālā tāme Nr.3'!$B17,0),0) -> 0 | C14: =IF($C$2="Attiecināmās izmaksas",IF('Lokālā tāme Nr.3'!$Q17="Attiecināmās",'Lokālā tāme Nr.3'!$C17,0),0) -> 0 | D14: =IF($C$2="Attiecināmās izmaksas",IF('Lokālā tāme Nr.3'!$Q17="Attiecināmās",'Lokālā tāme Nr.3'!$D17,0),0) -> 0 | E14: =IF($C$2="Attiecināmās izmaksas",IF('Lokālā tāme Nr.3'!$Q17="Attiecināmās",'Lokālā tāme Nr.3'!$E17,0),0) -> 0 | F14: =IF($C$2="Attiecināmās izmaksas",IF('Lokālā tāme Nr.3'!$Q17="Attiecināmās",'Lokālā tāme Nr.3'!$F17,0),0) -> 0 | G14: =IF($C$2="Attiecināmās izmaksas",IF('Lokālā tāme Nr.3'!$Q17="Attiecināmās",'Lokālā tāme Nr.3'!$G17,0),0) -> 0 | H14: =IF($C$2="Attiecināmās izmaksas",IF('Lokālā tāme Nr.3'!$Q17="Attiecināmās",'Lokālā tāme Nr.3'!$H17,0),0) -> 0 | I14: =IF($C$2="Attiecināmās izmaksas",IF('Lokālā tāme Nr.3'!$Q17="Attiecināmās",'Lokālā tāme Nr.3'!$I17,0),0) -> 0 | J14: =IF($C$2="Attiecināmās izmaksas",IF('Lokālā tāme Nr.3'!$Q17="Attiecināmās",'Lokālā tāme Nr.3'!$J17,0),0) -> 0 | K14: =IF($C$2="Attiecināmās izmaksas",IF('Lokālā tāme Nr.3'!$Q17="Attiecināmās",'Lokālā tāme Nr.3'!$K17,0),0) -> 0 | L14: =IF($C$2="Attiecināmās izmaksas",IF('Lokālā tāme Nr.3'!$Q17="Attiecināmās",'Lokālā tāme Nr.3'!$L17,0),0) -> 0 | M14: =IF($C$2="Attiecināmās izmaksas",IF('Lokālā tāme Nr.3'!$Q17="Attiecināmās",'Lokālā tāme Nr.3'!$M17,0),0) -> 0 | N14: =IF($C$2="Attiecināmās izmaksas",IF('Lokālā tāme Nr.3'!$Q17="Attiecināmās",'Lokālā tāme Nr.3'!$N17,0),0) -> 0 | O14: =IF($C$2="Attiecināmās izmaksas",IF('Lokālā tāme Nr.3'!$Q17="Attiecināmās",'Lokālā tāme Nr.3'!$O17,0),0) -> 0 | P14: =IF($C$2="Attiecināmās izmaksas",IF('Lokālā tāme Nr.3'!$Q17="Attiecināmās",'Lokālā tāme Nr.3'!$P17,0),0) -> 0
A15: =IF(P15=0,0,IF(COUNTBLANK(P15)=1,0,COUNTA($P$8:P15))) -> 0 | B15: =IF($C$2="Attiecināmās izmaksas",IF('Lokālā tāme Nr.3'!$Q18="Attiecināmās",'Lokālā tāme Nr.3'!$B18,0),0) -> 0 | C15: =IF($C$2="Attiecināmās izmaksas",IF('Lokālā tāme Nr.3'!$Q18="Attiecināmās",'Lokālā tāme Nr.3'!$C18,0),0) -> 0 | D15: =IF($C$2="Attiecināmās izmaksas",IF('Lokālā tāme Nr.3'!$Q18="Attiecināmās",'Lokālā tāme Nr.3'!$D18,0),0) -> 0 | E15: =IF($C$2="Attiecināmās izmaksas",IF('Lokālā tāme Nr.3'!$Q18="Attiecināmās",'Lokālā tāme Nr.3'!$E18,0),0) -> 0 | F15: =IF($C$2="Attiecināmās izmaksas",IF('Lokālā tāme Nr.3'!$Q18="Attiecināmās",'Lokālā tāme Nr.3'!$F18,0),0) -> 0 | G15: =IF($C$2="Attiecināmās izmaksas",IF('Lokālā tāme Nr.3'!$Q18="Attiecināmās",'Lokālā tāme Nr.3'!$G18,0),0) -> 0 | H15: =IF($C$2="Attiecināmās izmaksas",IF('Lokālā tāme Nr.3'!$Q18="Attiecināmās",'Lokālā tāme Nr.3'!$H18,0),0) -> 0 | I15: =IF($C$2="Attiecināmās izmaksas",IF('Lokālā tāme Nr.3'!$Q18="Attiecināmās",'Lokālā tāme Nr.3'!$I18,0),0) -> 0 | J15: =IF($C$2="Attiecināmās izmaksas",IF('Lokālā tāme Nr.3'!$Q18="Attiecināmās",'Lokālā tāme Nr.3'!$J18,0),0) -> 0 | K15: =IF($C$2="Attiecināmās izmaksas",IF('Lokālā tāme Nr.3'!$Q18="Attiecināmās",'Lokālā tāme Nr.3'!$K18,0),0) -> 0 | L15: =IF($C$2="Attiecināmās izmaksas",IF('Lokālā tāme Nr.3'!$Q18="Attiecināmās",'Lokālā tāme Nr.3'!$L18,0),0) -> 0 | M15: =IF($C$2="Attiecināmās izmaksas",IF('Lokālā tāme Nr.3'!$Q18="Attiecināmās",'Lokālā tāme Nr.3'!$M18,0),0) -> 0 | N15: =IF($C$2="Attiecināmās izmaksas",IF('Lokālā tāme Nr.3'!$Q18="Attiecināmās",'Lokālā tāme Nr.3'!$N18,0),0) -> 0 | O15: =IF($C$2="Attiecināmās izmaksas",IF('Lokālā tāme Nr.3'!$Q18="Attiecināmās",'Lokālā tāme Nr.3'!$O18,0),0) -> 0 | P15: =IF($C$2="Attiecināmās izmaksas",IF('Lokālā tāme Nr.3'!$Q18="Attiecināmās",'Lokālā tāme Nr.3'!$P18,0),0) -> 0
A16: =IF(P16=0,0,IF(COUNTBLANK(P16)=1,0,COUNTA($P$8:P16))) -> 0 | B16: =IF($C$2="Attiecināmās izmaksas",IF('Lokālā tāme Nr.3'!$Q19="Attiecināmās",'Lokālā tāme Nr.3'!$B19,0),0) -> 0 | C16: =IF($C$2="Attiecināmās izmaksas",IF('Lokālā tāme Nr.3'!$Q19="Attiecināmās",'Lokālā tāme Nr.3'!$C19,0),0) -> 0 | D16: =IF($C$2="Attiecināmās izmaksas",IF('Lokālā tāme Nr.3'!$Q19="Attiecināmās",'Lokālā tāme Nr.3'!$D19,0),0) -> 0 | E16: =IF($C$2="Attiecināmās izmaksas",IF('Lokālā tāme Nr.3'!$Q19="Attiecināmās",'Lokālā tāme Nr.3'!$E19,0),0) -> 0 | F16: =IF($C$2="Attiecināmās izmaksas",IF('Lokālā tāme Nr.3'!$Q19="Attiecināmās",'Lokālā tāme Nr.3'!$F19,0),0) -> 0 | G16: =IF($C$2="Attiecināmās izmaksas",IF('Lokālā tāme Nr.3'!$Q19="Attiecināmās",'Lokālā tāme Nr.3'!$G19,0),0) -> 0 | H16: =IF($C$2="Attiecināmās izmaksas",IF('Lokālā tāme Nr.3'!$Q19="Attiecināmās",'Lokālā tāme Nr.3'!$H19,0),0) -> 0 | I16: =IF($C$2="Attiecināmās izmaksas",IF('Lokālā tāme Nr.3'!$Q19="Attiecināmās",'Lokālā tāme Nr.3'!$I19,0),0) -> 0 | J16: =IF($C$2="Attiecināmās izmaksas",IF('Lokālā tāme Nr.3'!$Q19="Attiecināmās",'Lokālā tāme Nr.3'!$J19,0),0) -> 0 | K16: =IF($C$2="Attiecināmās izmaksas",IF('Lokālā tāme Nr.3'!$Q19="Attiecināmās",'Lokālā tāme Nr.3'!$K19,0),0) -> 0 | L16: =IF($C$2="Attiecināmās izmaksas",IF('Lokālā tāme Nr.3'!$Q19="Attiecināmās",'Lokālā tāme Nr.3'!$L19,0),0) -> 0 | M16: =IF($C$2="Attiecināmās izmaksas",IF('Lokālā tāme Nr.3'!$Q19="Attiecināmās",'Lokālā tāme Nr.3'!$M19,0),0) -> 0 | N16: =IF($C$2="Attiecināmās izmaksas",IF('Lokālā tāme Nr.3'!$Q19="Attiecināmās",'Lokālā tāme Nr.3'!$N19,0),0) -> 0 | O16: =IF($C$2="Attiecināmās izmaksas",IF('Lokālā tāme Nr.3'!$Q19="Attiecināmās",'Lokālā tāme Nr.3'!$O19,0),0) -> 0 | P16: =IF($C$2="Attiecināmās izmaksas",IF('Lokālā tāme Nr.3'!$Q19="Attiecināmās",'Lokālā tāme Nr.3'!$P19,0),0) -> 0
A17: =IF(P17=0,0,IF(COUNTBLANK(P17)=1,0,COUNTA($P$8:P17))) -> 0 | B17: =IF($C$2="Attiecināmās izmaksas",IF('Lokālā tāme Nr.3'!$Q20="Attiecināmās",'Lokālā tāme Nr.3'!$B20,0),0) -> 0 | C17: =IF($C$2="Attiecināmās izmaksas",IF('Lokālā tāme Nr.3'!$Q20="Attiecināmās",'Lokālā tāme Nr.3'!$C20,0),0) -> 0 | D17: =IF($C$2="Attiecināmās izmaksas",IF('Lokālā tāme Nr.3'!$Q20="Attiecināmās",'Lokālā tāme Nr.3'!$D20,0),0) -> 0 | E17: =IF($C$2="Attiecināmās izmaksas",IF('Lokālā tāme Nr.3'!$Q20="Attiecināmās",'Lokālā tāme Nr.3'!$E20,0),0) -> 0 | F17: =IF($C$2="Attiecināmās izmaksas",IF('Lokālā tāme Nr.3'!$Q20="Attiecināmās",'Lokālā tāme Nr.3'!$F20,0),0) -> 0 | G17: =IF($C$2="Attiecināmās izmaksas",IF('Lokālā tāme Nr.3'!$Q20="Attiecināmās",'Lokālā tāme Nr.3'!$G20,0),0) -> 0 | H17: =IF($C$2="Attiecināmās izmaksas",IF('Lokālā tāme Nr.3'!$Q20="Attiecināmās",'Lokālā tāme Nr.3'!$H20,0),0) -> 0 | I17: =IF($C$2="Attiecināmās izmaksas",IF('Lokālā tāme Nr.3'!$Q20="Attiecināmās",'Lokālā tāme Nr.3'!$I20,0),0) -> 0 | J17: =IF($C$2="Attiecināmās izmaksas",IF('Lokālā tāme Nr.3'!$Q20="Attiecināmās",'Lokālā tāme Nr.3'!$J20,0),0) -> 0 | K17: =IF($C$2="Attiecināmās izmaksas",IF('Lokālā tāme Nr.3'!$Q20="Attiecināmās",'Lokālā tāme Nr.3'!$K20,0),0) -> 0 | L17: =IF($C$2="Attiecināmās izmaksas",IF('Lokālā tāme Nr.3'!$Q20="Attiecināmās",'Lokālā tāme Nr.3'!$L20,0),0) -> 0 | M17: =IF($C$2="Attiecināmās izmaksas",IF('Lokālā tāme Nr.3'!$Q20="Attiecināmās",'Lokālā tāme Nr.3'!$M20,0),0) -> 0 | N17: =IF($C$2="Attiecināmās izmaksas",IF('Lokālā tāme Nr.3'!$Q20="Attiecināmās",'Lokālā tāme Nr.3'!$N20,0),0) -> 0 | O17: =IF($C$2="Attiecināmās izmaksas",IF('Lokālā tāme Nr.3'!$Q20="Attiecināmās",'Lokālā tāme Nr.3'!$O20,0),0) -> 0 | P17: =IF($C$2="Attiecināmās izmaksas",IF('Lokālā tāme Nr.3'!$Q20="Attiecināmās",'Lokālā tāme Nr.3'!$P20,0),0) -> 0
A18: =IF(P18=0,0,IF(COUNTBLANK(P18)=1,0,COUNTA($P$8:P18))) -> 0 | B18: =IF($C$2="Attiecināmās izmaksas",IF('Lokālā tāme Nr.3'!$Q21="Attiecināmās",'Lokālā tāme Nr.3'!$B21,0),0) -> 0 | C18: =IF($C$2="Attiecināmās izmaksas",IF('Lokālā tāme Nr.3'!$Q21="Attiecināmās",'Lokālā tāme Nr.3'!$C21,0),0) -> 0 | D18: =IF($C$2="Attiecināmās izmaksas",IF('Lokālā tāme Nr.3'!$Q21="Attiecināmās",'Lokālā tāme Nr.3'!$D21,0),0) -> 0 | E18: =IF($C$2="Attiecināmās izmaksas",IF('Lokālā tāme Nr.3'!$Q21="Attiecināmās",'Lokālā tāme Nr.3'!$E21,0),0) -> 0 | F18: =IF($C$2="Attiecināmās izmaksas",IF('Lokālā tāme Nr.3'!$Q21="Attiecināmās",'Lokālā tāme Nr.3'!$F21,0),0) -> 0 | G18: =IF($C$2="Attiecināmās izmaksas",IF('Lokālā tāme Nr.3'!$Q21="Attiecināmās",'Lokālā tāme Nr.3'!$G21,0),0) -> 0 | H18: =IF($C$2="Attiecināmās izmaksas",IF('Lokālā tāme Nr.3'!$Q21="Attiecināmās",'Lokālā tāme Nr.3'!$H21,0),0) -> 0 | I18: =IF($C$2="Attiecināmās izmaksas",IF('Lokālā tāme Nr.3'!$Q21="Attiecināmās",'Lokālā tāme Nr.3'!$I21,0),0) -> 0 | J18: =IF($C$2="Attiecināmās izmaksas",IF('Lokālā tāme Nr.3'!$Q21="Attiecināmās",'Lokālā tāme Nr.3'!$J21,0),0) -> 0 | K18: =IF($C$2="Attiecināmās izmaksas",IF('Lokālā tāme Nr.3'!$Q21="Attiecināmās",'Lokālā tāme Nr.3'!$K21,0),0) -> 0 | L18: =IF($C$2="Attiecināmās izmaksas",IF('Lokālā tāme Nr.3'!$Q21="Attiecināmās",'Lokālā tāme Nr.3'!$L21,0),0) -> 0 | M18: =IF($C$2="Attiecināmās izmaksas",IF('Lokālā tāme Nr.3'!$Q21="Attiecināmās",'Lokālā tāme Nr.3'!$M21,0),0) -> 0 | N18: =IF($C$2="Attiecināmās izmaksas",IF('Lokālā tāme Nr.3'!$Q21="Attiecināmās",'Lokālā tāme Nr.3'!$N21,0),0) -> 0 | O18: =IF($C$2="Attiecināmās izmaksas",IF('Lokālā tāme Nr.3'!$Q21="Attiecināmās",'Lokālā tāme Nr.3'!$O21,0),0) -> 0 | P18: =IF($C$2="Attiecināmās izmaksas",IF('Lokālā tāme Nr.3'!$Q21="Attiecināmās",'Lokālā tāme Nr.3'!$P21,0),0) -> 0
A19: =IF(P19=0,0,IF(COUNTBLANK(P19)=1,0,COUNTA($P$8:P19))) -> 0 | B19: =IF($C$2="Attiecināmās izmaksas",IF('Lokālā tāme Nr.3'!$Q22="Attiecināmās",'Lokālā tāme Nr.3'!$B22,0),0) -> 0 | C19: =IF($C$2="Attiecināmās izmaksas",IF('Lokālā tāme Nr.3'!$Q22="Attiecināmās",'Lokālā tāme Nr.3'!$C22,0),0) -> 0 | D19: =IF($C$2="Attiecināmās izmaksas",IF('Lokālā tāme Nr.3'!$Q22="Attiecināmās",'Lokālā tāme Nr.3'!$D22,0),0) -> 0 | E19: =IF($C$2="Attiecināmās izmaksas",IF('Lokālā tāme Nr.3'!$Q22="Attiecināmās",'Lokālā tāme Nr.3'!$E22,0),0) -> 0 | F19: =IF($C$2="Attiecināmās izmaksas",IF('Lokālā tāme Nr.3'!$Q22="Attiecināmās",'Lokālā tāme Nr.3'!$F22,0),0) -> 0 | G19: =IF($C$2="Attiecināmās izmaksas",IF('Lokālā tāme Nr.3'!$Q22="Attiecināmās",'Lokālā tāme Nr.3'!$G22,0),0) -> 0 | H19: =IF($C$2="Attiecināmās izmaksas",IF('Lokālā tāme Nr.3'!$Q22="Attiecināmās",'Lokālā tāme Nr.3'!$H22,0),0) -> 0 | I19: =IF($C$2="Attiecināmās izmaksas",IF('Lokālā tāme Nr.3'!$Q22="Attiecināmās",'Lokālā tāme Nr.3'!$I22,0),0) -> 0 | J19: =IF($C$2="Attiecināmās izmaksas",IF('Lokālā tāme Nr.3'!$Q22="Attiecināmās",'Lokālā tāme Nr.3'!$J22,0),0) -> 0 | K19: =IF($C$2="Attiecināmās izmaksas",IF('Lokālā tāme Nr.3'!$Q22="Attiecināmās",'Lokālā tāme Nr.3'!$K22,0),0) -> 0 | L19: =IF($C$2="Attiecināmās izmaksas",IF('Lokālā tāme Nr.3'!$Q22="Attiecināmās",'Lokālā tāme Nr.3'!$L22,0),0) -> 0 | M19: =IF($C$2="Attiecināmās izmaksas",IF('Lokālā tāme Nr.3'!$Q22="Attiecināmās",'Lokālā tāme Nr.3'!$M22,0),0) -> 0 | N19: =IF($C$2="Attiecināmās izmaksas",IF('Lokālā tāme Nr.3'!$Q22="Attiecināmās",'Lokālā tāme Nr.3'!$N22,0),0) -> 0 | O19: =IF($C$2="Attiecināmās izmaksas",IF('Lokālā tāme Nr.3'!$Q22="Attiecināmās",'Lokālā tāme Nr.3'!$O22,0),0) -> 0 | P19: =IF($C$2="Attiecināmās izmaksas",IF('Lokālā tāme Nr.3'!$Q22="Attiecināmās",'Lokālā tāme Nr.3'!$P22,0),0) -> 0
... A494: =IF(P494=0,0,IF(COUNTBLANK(P494)=1,0,COUNTA($P$8:P494))) -> 0 | B494: =IF($C$2="Attiecināmās izmaksas",IF('Lokālā tāme Nr.3'!$Q497="Attiecināmās",'Lokālā tāme Nr.3'!$B497,0),0) -> 0 | C494: =IF($C$2="Attiecināmās izmaksas",IF('Lokālā tāme Nr.3'!$Q497="Attiecināmās",'Lokālā tāme Nr.3'!$C497,0),0) -> 0 | D494: =IF($C$2="Attiecināmās izmaksas",IF('Lokālā tāme Nr.3'!$Q497="Attiecināmās",'Lokālā tāme Nr.3'!$D497,0),0) -> 0 | E494: =IF($C$2="Attiecināmās izmaksas",IF('Lokālā tāme Nr.3'!$Q497="Attiecināmās",'Lokālā tāme Nr.3'!$E497,0),0) -> 0 | F494: =IF($C$2="Attiecināmās izmaksas",IF('Lokālā tāme Nr.3'!$Q497="Attiecināmās",'Lokālā tāme Nr.3'!$F497,0),0) -> 0 | G494: =IF($C$2="Attiecināmās izmaksas",IF('Lokālā tāme Nr.3'!$Q497="Attiecināmās",'Lokālā tāme Nr.3'!$G497,0),0) -> 0 | H494: =IF($C$2="Attiecināmās izmaksas",IF('Lokālā tāme Nr.3'!$Q497="Attiecināmās",'Lokālā tāme Nr.3'!$H497,0),0) -> 0 | I494: =IF($C$2="Attiecināmās izmaksas",IF('Lokālā tāme Nr.3'!$Q497="Attiecināmās",'Lokālā tāme Nr.3'!$I497,0),0) -> 0 | J494: =IF($C$2="Attiecināmās izmaksas",IF('Lokālā tāme Nr.3'!$Q497="Attiecināmās",'Lokālā tāme Nr.3'!$J497,0),0) -> 0 | K494: =IF($C$2="Attiecināmās izmaksas",IF('Lokālā tāme Nr.3'!$Q497="Attiecināmās",'Lokālā tāme Nr.3'!$K497,0),0) -> 0 | L494: =IF($C$2="Attiecināmās izmaksas",IF('Lokālā tāme Nr.3'!$Q497="Attiecināmās",'Lokālā tāme Nr.3'!$L497,0),0) -> 0 | M494: =IF($C$2="Attiecināmās izmaksas",IF('Lokālā tāme Nr.3'!$Q497="Attiecināmās",'Lokālā tāme Nr.3'!$M497,0),0) -> 0 | N494: =IF($C$2="Attiecināmās izmaksas",IF('Lokālā tāme Nr.3'!$Q497="Attiecināmās",'Lokālā tāme Nr.3'!$N497,0),0) -> 0 | O494: =IF($C$2="Attiecināmās izmaksas",IF('Lokālā tāme Nr.3'!$Q497="Attiecināmās",'Lokālā tāme Nr.3'!$O497,0),0) -> 0 | P494: =IF($C$2="Attiecināmās izmaksas",IF('Lokālā tāme Nr.3'!$Q497="Attiecināmās",'Lokālā tāme Nr.3'!$P497,0),0) -> 0
A495: Tiešās izmaksas kopā, t. sk. darba devēja sociālais nodoklis __.__% | L495: =SUM(L8:L494) -> 0 | M495: =SUM(M8:M494) -> 0 | N495: =SUM(N8:N494) -> 0 | O495: =SUM(O8:O494) -> 0 | P495: =SUM(P8:P494) -> 0

Sheet 3c
C1: Lokālā tāme Nr. | D1: ='Lokālā tāme Nr.3'!Q2 -> 3
C2: Neattiecināmās izmaksas
J3: Tāmes izmaksas EUR | N3: =P495 -> 0
P4: ='Koptāme a+n'!#REF! -> #REF!
A6: Nr.p.k. | B6: Kods | C6: Darba nosaukums | D6: Mērvienība | E6: Daudzums | F6: Vienības izmaksas | L6: Kopā uz visu apjomu
F7: Laika norma (c/h) | G7: Darba samaksas likme (EUR/h) | H7: Darba alga (EUR) | I7: Būvizstrādājumi (EUR) | J7: Mehānismi (EUR) | K7: Kopā (EUR) | L7: Laika norma (c/h) | M7: Darba alga (EUR) | N7: Būvizstrādājumi (EUR) | O7: Mehānismi (EUR) | P7: Kopā (EUR)
A8: =IF(P8=0,0,IF(COUNTBLANK(P8)=1,0,COUNTA($P$8:P8))) -> 0 | B8: =IF($C$2="Neattiecināmās izmaksas",IF('Lokālā tāme Nr.3'!$Q11="Neattiecināmās",'Lokālā tāme Nr.3'!$B11,0)) -> 0 | C8: =IF($C$2="Neattiecināmās izmaksas",IF('Lokālā tāme Nr.3'!$Q11="Neattiecināmās",'Lokālā tāme Nr.3'!$C11,0)) -> 0 | D8: =IF($C$2="Neattiecināmās izmaksas",IF('Lokālā tāme Nr.3'!$Q11="Neattiecināmās",'Lokālā tāme Nr.3'!$D11,0)) -> 0 | E8: =IF($C$2="Neattiecināmās izmaksas",IF('Lokālā tāme Nr.3'!$Q11="Neattiecināmās",'Lokālā tāme Nr.3'!$E11,0)) -> 0 | F8: =IF($C$2="Neattiecināmās izmaksas",IF('Lokālā tāme Nr.3'!$Q11="Neattiecināmās",'Lokālā tāme Nr.3'!$F11,0)) -> 0 | G8: =IF($C$2="Neattiecināmās izmaksas",IF('Lokālā tāme Nr.3'!$Q11="Neattiecināmās",'Lokālā tāme Nr.3'!$G11,0)) -> 0 | H8: =IF($C$2="Neattiecināmās izmaksas",IF('Lokālā tāme Nr.3'!$Q11="Neattiecināmās",'Lokālā tāme Nr.3'!$H11,0)) -> 0 | I8: =IF($C$2="Neattiecināmās izmaksas",IF('Lokālā tāme Nr.3'!$Q11="Neattiecināmās",'Lokālā tāme Nr.3'!$I11,0)) -> 0 | J8: =IF($C$2="Neattiecināmās izmaksas",IF('Lokālā tāme Nr.3'!$Q11="Neattiecināmās",'Lokālā tāme Nr.3'!$J11,0)) -> 0 | K8: =IF($C$2="Neattiecināmās izmaksas",IF('Lokālā tāme Nr.3'!$Q11="Neattiecināmās",'Lokālā tāme Nr.3'!$K11,0)) -> 0 | L8: =IF($C$2="Neattiecināmās izmaksas",IF('Lokālā tāme Nr.3'!$Q11="Neattiecināmās",'Lokālā tāme Nr.3'!$L11,0)) -> 0 | M8: =IF($C$2="Neattiecināmās izmaksas",IF('Lokālā tāme Nr.3'!$Q11="Neattiecināmās",'Lokālā tāme Nr.3'!$M11,0)) -> 0 | N8: =IF($C$2="Neattiecināmās izmaksas",IF('Lokālā tāme Nr.3'!$Q11="Neattiecināmās",'Lokālā tāme Nr.3'!$N11,0)) -> 0 | O8: =IF($C$2="Neattiecināmās izmaksas",IF('Lokālā tāme Nr.3'!$Q11="Neattiecināmās",'Lokālā tāme Nr.3'!$O11,0)) -> 0 | P8: =IF($C$2="Neattiecināmās izmaksas",IF('Lokālā tāme Nr.3'!$Q11="Neattiecināmās",'Lokālā tāme Nr.3'!$P11,0)) -> 0
A9: =IF(P9=0,0,IF(COUNTBLANK(P9)=1,0,COUNTA($P$8:P9))) -> 0 | B9: =IF($C$2="Neattiecināmās izmaksas",IF('Lokālā tāme Nr.3'!$Q12="Neattiecināmās",'Lokālā tāme Nr.3'!$B12,0)) -> 0 | C9: =IF($C$2="Neattiecināmās izmaksas",IF('Lokālā tāme Nr.3'!$Q12="Neattiecināmās",'Lokālā tāme Nr.3'!$C12,0)) -> 0 | D9: =IF($C$2="Neattiecināmās izmaksas",IF('Lokālā tāme Nr.3'!$Q12="Neattiecināmās",'Lokālā tāme Nr.3'!$D12,0)) -> 0 | E9: =IF($C$2="Neattiecināmās izmaksas",IF('Lokālā tāme Nr.3'!$Q12="Neattiecināmās",'Lokālā tāme Nr.3'!$E12,0)) -> 0 | F9: =IF($C$2="Neattiecināmās izmaksas",IF('Lokālā tāme Nr.3'!$Q12="Neattiecināmās",'Lokālā tāme Nr.3'!$F12,0)) -> 0 | G9: =IF($C$2="Neattiecināmās izmaksas",IF('Lokālā tāme Nr.3'!$Q12="Neattiecināmās",'Lokālā tāme Nr.3'!$G12,0)) -> 0 | H9: =IF($C$2="Neattiecināmās izmaksas",IF('Lokālā tāme Nr.3'!$Q12="Neattiecināmās",'Lokālā tāme Nr.3'!$H12,0)) -> 0 | I9: =IF($C$2="Neattiecināmās izmaksas",IF('Lokālā tāme Nr.3'!$Q12="Neattiecināmās",'Lokālā tāme Nr.3'!$I12,0)) -> 0 | J9: =IF($C$2="Neattiecināmās izmaksas",IF('Lokālā tāme Nr.3'!$Q12="Neattiecināmās",'Lokālā tāme Nr.3'!$J12,0)) -> 0 | K9: =IF($C$2="Neattiecināmās izmaksas",IF('Lokālā tāme Nr.3'!$Q12="Neattiecināmās",'Lokālā tāme Nr.3'!$K12,0)) -> 0 | L9: =IF($C$2="Neattiecināmās izmaksas",IF('Lokālā tāme Nr.3'!$Q12="Neattiecināmās",'Lokālā tāme Nr.3'!$L12,0)) -> 0 | M9: =IF($C$2="Neattiecināmās izmaksas",IF('Lokālā tāme Nr.3'!$Q12="Neattiecināmās",'Lokālā tāme Nr.3'!$M12,0)) -> 0 | N9: =IF($C$2="Neattiecināmās izmaksas",IF('Lokālā tāme Nr.3'!$Q12="Neattiecināmās",'Lokālā tāme Nr.3'!$N12,0)) -> 0 | O9: =IF($C$2="Neattiecināmās izmaksas",IF('Lokālā tāme Nr.3'!$Q12="Neattiecināmās",'Lokālā tāme Nr.3'!$O12,0)) -> 0 | P9: =IF($C$2="Neattiecināmās izmaksas",IF('Lokālā tāme Nr.3'!$Q12="Neattiecināmās",'Lokālā tāme Nr.3'!$P12,0)) -> 0
A10: =IF(P10=0,0,IF(COUNTBLANK(P10)=1,0,COUNTA($P$8:P10))) -> 0 | B10: =IF($C$2="Neattiecināmās izmaksas",IF('Lokālā tāme Nr.3'!$Q13="Neattiecināmās",'Lokālā tāme Nr.3'!$B13,0)) -> 0 | C10: =IF($C$2="Neattiecināmās izmaksas",IF('Lokālā tāme Nr.3'!$Q13="Neattiecināmās",'Lokālā tāme Nr.3'!$C13,0)) -> 0 | D10: =IF($C$2="Neattiecināmās izmaksas",IF('Lokālā tāme Nr.3'!$Q13="Neattiecināmās",'Lokālā tāme Nr.3'!$D13,0)) -> 0 | E10: =IF($C$2="Neattiecināmās izmaksas",IF('Lokālā tāme Nr.3'!$Q13="Neattiecināmās",'Lokālā tāme Nr.3'!$E13,0)) -> 0 | F10: =IF($C$2="Neattiecināmās izmaksas",IF('Lokālā tāme Nr.3'!$Q13="Neattiecināmās",'Lokālā tāme Nr.3'!$F13,0)) -> 0 | G10: =IF($C$2="Neattiecināmās izmaksas",IF('Lokālā tāme Nr.3'!$Q13="Neattiecināmās",'Lokālā tāme Nr.3'!$G13,0)) -> 0 | H10: =IF($C$2="Neattiecināmās izmaksas",IF('Lokālā tāme Nr.3'!$Q13="Neattiecināmās",'Lokālā tāme Nr.3'!$H13,0)) -> 0 | I10: =IF($C$2="Neattiecināmās izmaksas",IF('Lokālā tāme Nr.3'!$Q13="Neattiecināmās",'Lokālā tāme Nr.3'!$I13,0)) -> 0 | J10: =IF($C$2="Neattiecināmās izmaksas",IF('Lokālā tāme Nr.3'!$Q13="Neattiecināmās",'Lokālā tāme Nr.3'!$J13,0)) -> 0 | K10: =IF($C$2="Neattiecināmās izmaksas",IF('Lokālā tāme Nr.3'!$Q13="Neattiecināmās",'Lokālā tāme Nr.3'!$K13,0)) -> 0 | L10: =IF($C$2="Neattiecināmās izmaksas",IF('Lokālā tāme Nr.3'!$Q13="Neattiecināmās",'Lokālā tāme Nr.3'!$L13,0)) -> 0 | M10: =IF($C$2="Neattiecināmās izmaksas",IF('Lokālā tāme Nr.3'!$Q13="Neattiecināmās",'Lokālā tāme Nr.3'!$M13,0)) -> 0 | N10: =IF($C$2="Neattiecināmās izmaksas",IF('Lokālā tāme Nr.3'!$Q13="Neattiecināmās",'Lokālā tāme Nr.3'!$N13,0)) -> 0 | O10: =IF($C$2="Neattiecināmās izmaksas",IF('Lokālā tāme Nr.3'!$Q13="Neattiecināmās",'Lokālā tāme Nr.3'!$O13,0)) -> 0 | P10: =IF($C$2="Neattiecināmās izmaksas",IF('Lokālā tāme Nr.3'!$Q13="Neattiecināmās",'Lokālā tāme Nr.3'!$P13,0)) -> 0
A11: =IF(P11=0,0,IF(COUNTBLANK(P11)=1,0,COUNTA($P$8:P11))) -> 0 | B11: =IF($C$2="Neattiecināmās izmaksas",IF('Lokālā tāme Nr.3'!$Q14="Neattiecināmās",'Lokālā tāme Nr.3'!$B14,0)) -> 0 | C11: =IF($C$2="Neattiecināmās izmaksas",IF('Lokālā tāme Nr.3'!$Q14="Neattiecināmās",'Lokālā tāme Nr.3'!$C14,0)) -> 0 | D11: =IF($C$2="Neattiecināmās izmaksas",IF('Lokālā tāme Nr.3'!$Q14="Neattiecināmās",'Lokālā tāme Nr.3'!$D14,0)) -> 0 | E11: =IF($C$2="Neattiecināmās izmaksas",IF('Lokālā tāme Nr.3'!$Q14="Neattiecināmās",'Lokālā tāme Nr.3'!$E14,0)) -> 0 | F11: =IF($C$2="Neattiecināmās izmaksas",IF('Lokālā tāme Nr.3'!$Q14="Neattiecināmās",'Lokālā tāme Nr.3'!$F14,0)) -> 0 | G11: =IF($C$2="Neattiecināmās izmaksas",IF('Lokālā tāme Nr.3'!$Q14="Neattiecināmās",'Lokālā tāme Nr.3'!$G14,0)) -> 0 | H11: =IF($C$2="Neattiecināmās izmaksas",IF('Lokālā tāme Nr.3'!$Q14="Neattiecināmās",'Lokālā tāme Nr.3'!$H14,0)) -> 0 | I11: =IF($C$2="Neattiecināmās izmaksas",IF('Lokālā tāme Nr.3'!$Q14="Neattiecināmās",'Lokālā tāme Nr.3'!$I14,0)) -> 0 | J11: =IF($C$2="Neattiecināmās izmaksas",IF('Lokālā tāme Nr.3'!$Q14="Neattiecināmās",'Lokālā tāme Nr.3'!$J14,0)) -> 0 | K11: =IF($C$2="Neattiecināmās izmaksas",IF('Lokālā tāme Nr.3'!$Q14="Neattiecināmās",'Lokālā tāme Nr.3'!$K14,0)) -> 0 | L11: =IF($C$2="Neattiecināmās izmaksas",IF('Lokālā tāme Nr.3'!$Q14="Neattiecināmās",'Lokālā tāme Nr.3'!$L14,0)) -> 0 | M11: =IF($C$2="Neattiecināmās izmaksas",IF('Lokālā tāme Nr.3'!$Q14="Neattiecināmās",'Lokālā tāme Nr.3'!$M14,0)) -> 0 | N11: =IF($C$2="Neattiecināmās izmaksas",IF('Lokālā tāme Nr.3'!$Q14="Neattiecināmās",'Lokālā tāme Nr.3'!$N14,0)) -> 0 | O11: =IF($C$2="Neattiecināmās izmaksas",IF('Lokālā tāme Nr.3'!$Q14="Neattiecināmās",'Lokālā tāme Nr.3'!$O14,0)) -> 0 | P11: =IF($C$2="Neattiecināmās izmaksas",IF('Lokālā tāme Nr.3'!$Q14="Neattiecināmās",'Lokālā tāme Nr.3'!$P14,0)) -> 0
A12: =IF(P12=0,0,IF(COUNTBLANK(P12)=1,0,COUNTA($P$8:P12))) -> 0 | B12: =IF($C$2="Neattiecināmās izmaksas",IF('Lokālā tāme Nr.3'!$Q15="Neattiecināmās",'Lokālā tāme Nr.3'!$B15,0)) -> 0 | C12: =IF($C$2="Neattiecināmās izmaksas",IF('Lokālā tāme Nr.3'!$Q15="Neattiecināmās",'Lokālā tāme Nr.3'!$C15,0)) -> 0 | D12: =IF($C$2="Neattiecināmās izmaksas",IF('Lokālā tāme Nr.3'!$Q15="Neattiecināmās",'Lokālā tāme Nr.3'!$D15,0)) -> 0 | E12: =IF($C$2="Neattiecināmās izmaksas",IF('Lokālā tāme Nr.3'!$Q15="Neattiecināmās",'Lokālā tāme Nr.3'!$E15,0)) -> 0 | F12: =IF($C$2="Neattiecināmās izmaksas",IF('Lokālā tāme Nr.3'!$Q15="Neattiecināmās",'Lokālā tāme Nr.3'!$F15,0)) -> 0 | G12: =IF($C$2="Neattiecināmās izmaksas",IF('Lokālā tāme Nr.3'!$Q15="Neattiecināmās",'Lokālā tāme Nr.3'!$G15,0)) -> 0 | H12: =IF($C$2="Neattiecināmās izmaksas",IF('Lokālā tāme Nr.3'!$Q15="Neattiecināmās",'Lokālā tāme Nr.3'!$H15,0)) -> 0 | I12: =IF($C$2="Neattiecināmās izmaksas",IF('Lokālā tāme Nr.3'!$Q15="Neattiecināmās",'Lokālā tāme Nr.3'!$I15,0)) -> 0 | J12: =IF($C$2="Neattiecināmās izmaksas",IF('Lokālā tāme Nr.3'!$Q15="Neattiecināmās",'Lokālā tāme Nr.3'!$J15,0)) -> 0 | K12: =IF($C$2="Neattiecināmās izmaksas",IF('Lokālā tāme Nr.3'!$Q15="Neattiecināmās",'Lokālā tāme Nr.3'!$K15,0)) -> 0 | L12: =IF($C$2="Neattiecināmās izmaksas",IF('Lokālā tāme Nr.3'!$Q15="Neattiecināmās",'Lokālā tāme Nr.3'!$L15,0)) -> 0 | M12: =IF($C$2="Neattiecināmās izmaksas",IF('Lokālā tāme Nr.3'!$Q15="Neattiecināmās",'Lokālā tāme Nr.3'!$M15,0)) -> 0 | N12: =IF($C$2="Neattiecināmās izmaksas",IF('Lokālā tāme Nr.3'!$Q15="Neattiecināmās",'Lokālā tāme Nr.3'!$N15,0)) -> 0 | O12: =IF($C$2="Neattiecināmās izmaksas",IF('Lokālā tāme Nr.3'!$Q15="Neattiecināmās",'Lokālā tāme Nr.3'!$O15,0)) -> 0 | P12: =IF($C$2="Neattiecināmās izmaksas",IF('Lokālā tāme Nr.3'!$Q15="Neattiecināmās",'Lokālā tāme Nr.3'!$P15,0)) -> 0
A13: =IF(P13=0,0,IF(COUNTBLANK(P13)=1,0,COUNTA($P$8:P13))) -> 0 | B13: =IF($C$2="Neattiecināmās izmaksas",IF('Lokālā tāme Nr.3'!$Q16="Neattiecināmās",'Lokālā tāme Nr.3'!$B16,0)) -> 0 | C13: =IF($C$2="Neattiecināmās izmaksas",IF('Lokālā tāme Nr.3'!$Q16="Neattiecināmās",'Lokālā tāme Nr.3'!$C16,0)) -> 0 | D13: =IF($C$2="Neattiecināmās izmaksas",IF('Lokālā tāme Nr.3'!$Q16="Neattiecināmās",'Lokālā tāme Nr.3'!$D16,0)) -> 0 | E13: =IF($C$2="Neattiecināmās izmaksas",IF('Lokālā tāme Nr.3'!$Q16="Neattiecināmās",'Lokālā tāme Nr.3'!$E16,0)) -> 0 | F13: =IF($C$2="Neattiecināmās izmaksas",IF('Lokālā tāme Nr.3'!$Q16="Neattiecināmās",'Lokālā tāme Nr.3'!$F16,0)) -> 0 | G13: =IF($C$2="Neattiecināmās izmaksas",IF('Lokālā tāme Nr.3'!$Q16="Neattiecināmās",'Lokālā tāme Nr.3'!$G16,0)) -> 0 | H13: =IF($C$2="Neattiecināmās izmaksas",IF('Lokālā tāme Nr.3'!$Q16="Neattiecināmās",'Lokālā tāme Nr.3'!$H16,0)) -> 0 | I13: =IF($C$2="Neattiecināmās izmaksas",IF('Lokālā tāme Nr.3'!$Q16="Neattiecināmās",'Lokālā tāme Nr.3'!$I16,0)) -> 0 | J13: =IF($C$2="Neattiecināmās izmaksas",IF('Lokālā tāme Nr.3'!$Q16="Neattiecināmās",'Lokālā tāme Nr.3'!$J16,0)) -> 0 | K13: =IF($C$2="Neattiecināmās izmaksas",IF('Lokālā tāme Nr.3'!$Q16="Neattiecināmās",'Lokālā tāme Nr.3'!$K16,0)) -> 0 | L13: =IF($C$2="Neattiecināmās izmaksas",IF('Lokālā tāme Nr.3'!$Q16="Neattiecināmās",'Lokālā tāme Nr.3'!$L16,0)) -> 0 | M13: =IF($C$2="Neattiecināmās izmaksas",IF('Lokālā tāme Nr.3'!$Q16="Neattiecināmās",'Lokālā tāme Nr.3'!$M16,0)) -> 0 | N13: =IF($C$2="Neattiecināmās izmaksas",IF('Lokālā tāme Nr.3'!$Q16="Neattiecināmās",'Lokālā tāme Nr.3'!$N16,0)) -> 0 | O13: =IF($C$2="Neattiecināmās izmaksas",IF('Lokālā tāme Nr.3'!$Q16="Neattiecināmās",'Lokālā tāme Nr.3'!$O16,0)) -> 0 | P13: =IF($C$2="Neattiecināmās izmaksas",IF('Lokālā tāme Nr.3'!$Q16="Neattiecināmās",'Lokālā tāme Nr.3'!$P16,0)) -> 0
A14: =IF(P14=0,0,IF(COUNTBLANK(P14)=1,0,COUNTA($P$8:P14))) -> 0 | B14: =IF($C$2="Neattiecināmās izmaksas",IF('Lokālā tāme Nr.3'!$Q17="Neattiecināmās",'Lokālā tāme Nr.3'!$B17,0)) -> 0 | C14: =IF($C$2="Neattiecināmās izmaksas",IF('Lokālā tāme Nr.3'!$Q17="Neattiecināmās",'Lokālā tāme Nr.3'!$C17,0)) -> 0 | D14: =IF($C$2="Neattiecināmās izmaksas",IF('Lokālā tāme Nr.3'!$Q17="Neattiecināmās",'Lokālā tāme Nr.3'!$D17,0)) -> 0 | E14: =IF($C$2="Neattiecināmās izmaksas",IF('Lokālā tāme Nr.3'!$Q17="Neattiecināmās",'Lokālā tāme Nr.3'!$E17,0)) -> 0 | F14: =IF($C$2="Neattiecināmās izmaksas",IF('Lokālā tāme Nr.3'!$Q17="Neattiecināmās",'Lokālā tāme Nr.3'!$F17,0)) -> 0 | G14: =IF($C$2="Neattiecināmās izmaksas",IF('Lokālā tāme Nr.3'!$Q17="Neattiecināmās",'Lokālā tāme Nr.3'!$G17,0)) -> 0 | H14: =IF($C$2="Neattiecināmās izmaksas",IF('Lokālā tāme Nr.3'!$Q17="Neattiecināmās",'Lokālā tāme Nr.3'!$H17,0)) -> 0 | I14: =IF($C$2="Neattiecināmās izmaksas",IF('Lokālā tāme Nr.3'!$Q17="Neattiecināmās",'Lokālā tāme Nr.3'!$I17,0)) -> 0 | J14: =IF($C$2="Neattiecināmās izmaksas",IF('Lokālā tāme Nr.3'!$Q17="Neattiecināmās",'Lokālā tāme Nr.3'!$J17,0)) -> 0 | K14: =IF($C$2="Neattiecināmās izmaksas",IF('Lokālā tāme Nr.3'!$Q17="Neattiecināmās",'Lokālā tāme Nr.3'!$K17,0)) -> 0 | L14: =IF($C$2="Neattiecināmās izmaksas",IF('Lokālā tāme Nr.3'!$Q17="Neattiecināmās",'Lokālā tāme Nr.3'!$L17,0)) -> 0 | M14: =IF($C$2="Neattiecināmās izmaksas",IF('Lokālā tāme Nr.3'!$Q17="Neattiecināmās",'Lokālā tāme Nr.3'!$M17,0)) -> 0 | N14: =IF($C$2="Neattiecināmās izmaksas",IF('Lokālā tāme Nr.3'!$Q17="Neattiecināmās",'Lokālā tāme Nr.3'!$N17,0)) -> 0 | O14: =IF($C$2="Neattiecināmās izmaksas",IF('Lokālā tāme Nr.3'!$Q17="Neattiecināmās",'Lokālā tāme Nr.3'!$O17,0)) -> 0 | P14: =IF($C$2="Neattiecināmās izmaksas",IF('Lokālā tāme Nr.3'!$Q17="Neattiecināmās",'Lokālā tāme Nr.3'!$P17,0)) -> 0
A15: =IF(P15=0,0,IF(COUNTBLANK(P15)=1,0,COUNTA($P$8:P15))) -> 0 | B15: =IF($C$2="Neattiecināmās izmaksas",IF('Lokālā tāme Nr.3'!$Q18="Neattiecināmās",'Lokālā tāme Nr.3'!$B18,0)) -> 0 | C15: =IF($C$2="Neattiecināmās izmaksas",IF('Lokālā tāme Nr.3'!$Q18="Neattiecināmās",'Lokālā tāme Nr.3'!$C18,0)) -> 0 | D15: =IF($C$2="Neattiecināmās izmaksas",IF('Lokālā tāme Nr.3'!$Q18="Neattiecināmās",'Lokālā tāme Nr.3'!$D18,0)) -> 0 | E15: =IF($C$2="Neattiecināmās izmaksas",IF('Lokālā tāme Nr.3'!$Q18="Neattiecināmās",'Lokālā tāme Nr.3'!$E18,0)) -> 0 | F15: =IF($C$2="Neattiecināmās izmaksas",IF('Lokālā tāme Nr.3'!$Q18="Neattiecināmās",'Lokālā tāme Nr.3'!$F18,0)) -> 0 | G15: =IF($C$2="Neattiecināmās izmaksas",IF('Lokālā tāme Nr.3'!$Q18="Neattiecināmās",'Lokālā tāme Nr.3'!$G18,0)) -> 0 | H15: =IF($C$2="Neattiecināmās izmaksas",IF('Lokālā tāme Nr.3'!$Q18="Neattiecināmās",'Lokālā tāme Nr.3'!$H18,0)) -> 0 | I15: =IF($C$2="Neattiecināmās izmaksas",IF('Lokālā tāme Nr.3'!$Q18="Neattiecināmās",'Lokālā tāme Nr.3'!$I18,0)) -> 0 | J15: =IF($C$2="Neattiecināmās izmaksas",IF('Lokālā tāme Nr.3'!$Q18="Neattiecināmās",'Lokālā tāme Nr.3'!$J18,0)) -> 0 | K15: =IF($C$2="Neattiecināmās izmaksas",IF('Lokālā tāme Nr.3'!$Q18="Neattiecināmās",'Lokālā tāme Nr.3'!$K18,0)) -> 0 | L15: =IF($C$2="Neattiecināmās izmaksas",IF('Lokālā tāme Nr.3'!$Q18="Neattiecināmās",'Lokālā tāme Nr.3'!$L18,0)) -> 0 | M15: =IF($C$2="Neattiecināmās izmaksas",IF('Lokālā tāme Nr.3'!$Q18="Neattiecināmās",'Lokālā tāme Nr.3'!$M18,0)) -> 0 | N15: =IF($C$2="Neattiecināmās izmaksas",IF('Lokālā tāme Nr.3'!$Q18="Neattiecināmās",'Lokālā tāme Nr.3'!$N18,0)) -> 0 | O15: =IF($C$2="Neattiecināmās izmaksas",IF('Lokālā tāme Nr.3'!$Q18="Neattiecināmās",'Lokālā tāme Nr.3'!$O18,0)) -> 0 | P15: =IF($C$2="Neattiecināmās izmaksas",IF('Lokālā tāme Nr.3'!$Q18="Neattiecināmās",'Lokālā tāme Nr.3'!$P18,0)) -> 0
A16: =IF(P16=0,0,IF(COUNTBLANK(P16)=1,0,COUNTA($P$8:P16))) -> 0 | B16: =IF($C$2="Neattiecināmās izmaksas",IF('Lokālā tāme Nr.3'!$Q19="Neattiecināmās",'Lokālā tāme Nr.3'!$B19,0)) -> 0 | C16: =IF($C$2="Neattiecināmās izmaksas",IF('Lokālā tāme Nr.3'!$Q19="Neattiecināmās",'Lokālā tāme Nr.3'!$C19,0)) -> 0 | D16: =IF($C$2="Neattiecināmās izmaksas",IF('Lokālā tāme Nr.3'!$Q19="Neattiecināmās",'Lokālā tāme Nr.3'!$D19,0)) -> 0 | E16: =IF($C$2="Neattiecināmās izmaksas",IF('Lokālā tāme Nr.3'!$Q19="Neattiecināmās",'Lokālā tāme Nr.3'!$E19,0)) -> 0 | F16: =IF($C$2="Neattiecināmās izmaksas",IF('Lokālā tāme Nr.3'!$Q19="Neattiecināmās",'Lokālā tāme Nr.3'!$F19,0)) -> 0 | G16: =IF($C$2="Neattiecināmās izmaksas",IF('Lokālā tāme Nr.3'!$Q19="Neattiecināmās",'Lokālā tāme Nr.3'!$G19,0)) -> 0 | H16: =IF($C$2="Neattiecināmās izmaksas",IF('Lokālā tāme Nr.3'!$Q19="Neattiecināmās",'Lokālā tāme Nr.3'!$H19,0)) -> 0 | I16: =IF($C$2="Neattiecināmās izmaksas",IF('Lokālā tāme Nr.3'!$Q19="Neattiecināmās",'Lokālā tāme Nr.3'!$I19,0)) -> 0 | J16: =IF($C$2="Neattiecināmās izmaksas",IF('Lokālā tāme Nr.3'!$Q19="Neattiecināmās",'Lokālā tāme Nr.3'!$J19,0)) -> 0 | K16: =IF($C$2="Neattiecināmās izmaksas",IF('Lokālā tāme Nr.3'!$Q19="Neattiecināmās",'Lokālā tāme Nr.3'!$K19,0)) -> 0 | L16: =IF($C$2="Neattiecināmās izmaksas",IF('Lokālā tāme Nr.3'!$Q19="Neattiecināmās",'Lokālā tāme Nr.3'!$L19,0)) -> 0 | M16: =IF($C$2="Neattiecināmās izmaksas",IF('Lokālā tāme Nr.3'!$Q19="Neattiecināmās",'Lokālā tāme Nr.3'!$M19,0)) -> 0 | N16: =IF($C$2="Neattiecināmās izmaksas",IF('Lokālā tāme Nr.3'!$Q19="Neattiecināmās",'Lokālā tāme Nr.3'!$N19,0)) -> 0 | O16: =IF($C$2="Neattiecināmās izmaksas",IF('Lokālā tāme Nr.3'!$Q19="Neattiecināmās",'Lokālā tāme Nr.3'!$O19,0)) -> 0 | P16: =IF($C$2="Neattiecināmās izmaksas",IF('Lokālā tāme Nr.3'!$Q19="Neattiecināmās",'Lokālā tāme Nr.3'!$P19,0)) -> 0
A17: =IF(P17=0,0,IF(COUNTBLANK(P17)=1,0,COUNTA($P$8:P17))) -> 0 | B17: =IF($C$2="Neattiecināmās izmaksas",IF('Lokālā tāme Nr.3'!$Q20="Neattiecināmās",'Lokālā tāme Nr.3'!$B20,0)) -> 0 | C17: =IF($C$2="Neattiecināmās izmaksas",IF('Lokālā tāme Nr.3'!$Q20="Neattiecināmās",'Lokālā tāme Nr.3'!$C20,0)) -> 0 | D17: =IF($C$2="Neattiecināmās izmaksas",IF('Lokālā tāme Nr.3'!$Q20="Neattiecināmās",'Lokālā tāme Nr.3'!$D20,0)) -> 0 | E17: =IF($C$2="Neattiecināmās izmaksas",IF('Lokālā tāme Nr.3'!$Q20="Neattiecināmās",'Lokālā tāme Nr.3'!$E20,0)) -> 0 | F17: =IF($C$2="Neattiecināmās izmaksas",IF('Lokālā tāme Nr.3'!$Q20="Neattiecināmās",'Lokālā tāme Nr.3'!$F20,0)) -> 0 | G17: =IF($C$2="Neattiecināmās izmaksas",IF('Lokālā tāme Nr.3'!$Q20="Neattiecināmās",'Lokālā tāme Nr.3'!$G20,0)) -> 0 | H17: =IF($C$2="Neattiecināmās izmaksas",IF('Lokālā tāme Nr.3'!$Q20="Neattiecināmās",'Lokālā tāme Nr.3'!$H20,0)) -> 0 | I17: =IF($C$2="Neattiecināmās izmaksas",IF('Lokālā tāme Nr.3'!$Q20="Neattiecināmās",'Lokālā tāme Nr.3'!$I20,0)) -> 0 | J17: =IF($C$2="Neattiecināmās izmaksas",IF('Lokālā tāme Nr.3'!$Q20="Neattiecināmās",'Lokālā tāme Nr.3'!$J20,0)) -> 0 | K17: =IF($C$2="Neattiecināmās izmaksas",IF('Lokālā tāme Nr.3'!$Q20="Neattiecināmās",'Lokālā tāme Nr.3'!$K20,0)) -> 0 | L17: =IF($C$2="Neattiecināmās izmaksas",IF('Lokālā tāme Nr.3'!$Q20="Neattiecināmās",'Lokālā tāme Nr.3'!$L20,0)) -> 0 | M17: =IF($C$2="Neattiecināmās izmaksas",IF('Lokālā tāme Nr.3'!$Q20="Neattiecināmās",'Lokālā tāme Nr.3'!$M20,0)) -> 0 | N17: =IF($C$2="Neattiecināmās izmaksas",IF('Lokālā tāme Nr.3'!$Q20="Neattiecināmās",'Lokālā tāme Nr.3'!$N20,0)) -> 0 | O17: =IF($C$2="Neattiecināmās izmaksas",IF('Lokālā tāme Nr.3'!$Q20="Neattiecināmās",'Lokālā tāme Nr.3'!$O20,0)) -> 0 | P17: =IF($C$2="Neattiecināmās izmaksas",IF('Lokālā tāme Nr.3'!$Q20="Neattiecināmās",'Lokālā tāme Nr.3'!$P20,0)) -> 0
A18: =IF(P18=0,0,IF(COUNTBLANK(P18)=1,0,COUNTA($P$8:P18))) -> 0 | B18: =IF($C$2="Neattiecināmās izmaksas",IF('Lokālā tāme Nr.3'!$Q21="Neattiecināmās",'Lokālā tāme Nr.3'!$B21,0)) -> 0 | C18: =IF($C$2="Neattiecināmās izmaksas",IF('Lokālā tāme Nr.3'!$Q21="Neattiecināmās",'Lokālā tāme Nr.3'!$C21,0)) -> 0 | D18: =IF($C$2="Neattiecināmās izmaksas",IF('Lokālā tāme Nr.3'!$Q21="Neattiecināmās",'Lokālā tāme Nr.3'!$D21,0)) -> 0 | E18: =IF($C$2="Neattiecināmās izmaksas",IF('Lokālā tāme Nr.3'!$Q21="Neattiecināmās",'Lokālā tāme Nr.3'!$E21,0)) -> 0 | F18: =IF($C$2="Neattiecināmās izmaksas",IF('Lokālā tāme Nr.3'!$Q21="Neattiecināmās",'Lokālā tāme Nr.3'!$F21,0)) -> 0 | G18: =IF($C$2="Neattiecināmās izmaksas",IF('Lokālā tāme Nr.3'!$Q21="Neattiecināmās",'Lokālā tāme Nr.3'!$G21,0)) -> 0 | H18: =IF($C$2="Neattiecināmās izmaksas",IF('Lokālā tāme Nr.3'!$Q21="Neattiecināmās",'Lokālā tāme Nr.3'!$H21,0)) -> 0 | I18: =IF($C$2="Neattiecināmās izmaksas",IF('Lokālā tāme Nr.3'!$Q21="Neattiecināmās",'Lokālā tāme Nr.3'!$I21,0)) -> 0 | J18: =IF($C$2="Neattiecināmās izmaksas",IF('Lokālā tāme Nr.3'!$Q21="Neattiecināmās",'Lokālā tāme Nr.3'!$J21,0)) -> 0 | K18: =IF($C$2="Neattiecināmās izmaksas",IF('Lokālā tāme Nr.3'!$Q21="Neattiecināmās",'Lokālā tāme Nr.3'!$K21,0)) -> 0 | L18: =IF($C$2="Neattiecināmās izmaksas",IF('Lokālā tāme Nr.3'!$Q21="Neattiecināmās",'Lokālā tāme Nr.3'!$L21,0)) -> 0 | M18: =IF($C$2="Neattiecināmās izmaksas",IF('Lokālā tāme Nr.3'!$Q21="Neattiecināmās",'Lokālā tāme Nr.3'!$M21,0)) -> 0 | N18: =IF($C$2="Neattiecināmās izmaksas",IF('Lokālā tāme Nr.3'!$Q21="Neattiecināmās",'Lokālā tāme Nr.3'!$N21,0)) -> 0 | O18: =IF($C$2="Neattiecināmās izmaksas",IF('Lokālā tāme Nr.3'!$Q21="Neattiecināmās",'Lokālā tāme Nr.3'!$O21,0)) -> 0 | P18: =IF($C$2="Neattiecināmās izmaksas",IF('Lokālā tāme Nr.3'!$Q21="Neattiecināmās",'Lokālā tāme Nr.3'!$P21,0)) -> 0
A19: =IF(P19=0,0,IF(COUNTBLANK(P19)=1,0,COUNTA($P$8:P19))) -> 0 | B19: =IF($C$2="Neattiecināmās izmaksas",IF('Lokālā tāme Nr.3'!$Q22="Neattiecināmās",'Lokālā tāme Nr.3'!$B22,0)) -> 0 | C19: =IF($C$2="Neattiecināmās izmaksas",IF('Lokālā tāme Nr.3'!$Q22="Neattiecināmās",'Lokālā tāme Nr.3'!$C22,0)) -> 0 | D19: =IF($C$2="Neattiecināmās izmaksas",IF('Lokālā tāme Nr.3'!$Q22="Neattiecināmās",'Lokālā tāme Nr.3'!$D22,0)) -> 0 | E19: =IF($C$2="Neattiecināmās izmaksas",IF('Lokālā tāme Nr.3'!$Q22="Neattiecināmās",'Lokālā tāme Nr.3'!$E22,0)) -> 0 | F19: =IF($C$2="Neattiecināmās izmaksas",IF('Lokālā tāme Nr.3'!$Q22="Neattiecināmās",'Lokālā tāme Nr.3'!$F22,0)) -> 0 | G19: =IF($C$2="Neattiecināmās izmaksas",IF('Lokālā tāme Nr.3'!$Q22="Neattiecināmās",'Lokālā tāme Nr.3'!$G22,0)) -> 0 | H19: =IF($C$2="Neattiecināmās izmaksas",IF('Lokālā tāme Nr.3'!$Q22="Neattiecināmās",'Lokālā tāme Nr.3'!$H22,0)) -> 0 | I19: =IF($C$2="Neattiecināmās izmaksas",IF('Lokālā tāme Nr.3'!$Q22="Neattiecināmās",'Lokālā tāme Nr.3'!$I22,0)) -> 0 | J19: =IF($C$2="Neattiecināmās izmaksas",IF('Lokālā tāme Nr.3'!$Q22="Neattiecināmās",'Lokālā tāme Nr.3'!$J22,0)) -> 0 | K19: =IF($C$2="Neattiecināmās izmaksas",IF('Lokālā tāme Nr.3'!$Q22="Neattiecināmās",'Lokālā tāme Nr.3'!$K22,0)) -> 0 | L19: =IF($C$2="Neattiecināmās izmaksas",IF('Lokālā tāme Nr.3'!$Q22="Neattiecināmās",'Lokālā tāme Nr.3'!$L22,0)) -> 0 | M19: =IF($C$2="Neattiecināmās izmaksas",IF('Lokālā tāme Nr.3'!$Q22="Neattiecināmās",'Lokālā tāme Nr.3'!$M22,0)) -> 0 | N19: =IF($C$2="Neattiecināmās izmaksas",IF('Lokālā tāme Nr.3'!$Q22="Neattiecināmās",'Lokālā tāme Nr.3'!$N22,0)) -> 0 | O19: =IF($C$2="Neattiecināmās izmaksas",IF('Lokālā tāme Nr.3'!$Q22="Neattiecināmās",'Lokālā tāme Nr.3'!$O22,0)) -> 0 | P19: =IF($C$2="Neattiecināmās izmaksas",IF('Lokālā tāme Nr.3'!$Q22="Neattiecināmās",'Lokālā tāme Nr.3'!$P22,0)) -> 0
... A494: =IF(P494=0,0,IF(COUNTBLANK(P494)=1,0,COUNTA($P$8:P494))) -> 0 | B494: =IF($C$2="Neattiecināmās izmaksas",IF('Lokālā tāme Nr.3'!$Q497="Neattiecināmās",'Lokālā tāme Nr.3'!$B497,0)) -> 0 | C494: =IF($C$2="Neattiecināmās izmaksas",IF('Lokālā tāme Nr.3'!$Q497="Neattiecināmās",'Lokālā tāme Nr.3'!$C497,0)) -> 0 | D494: =IF($C$2="Neattiecināmās izmaksas",IF('Lokālā tāme Nr.3'!$Q497="Neattiecināmās",'Lokālā tāme Nr.3'!$D497,0)) -> 0 | E494: =IF($C$2="Neattiecināmās izmaksas",IF('Lokālā tāme Nr.3'!$Q497="Neattiecināmās",'Lokālā tāme Nr.3'!$E497,0)) -> 0 | F494: =IF($C$2="Neattiecināmās izmaksas",IF('Lokālā tāme Nr.3'!$Q497="Neattiecināmās",'Lokālā tāme Nr.3'!$F497,0)) -> 0 | G494: =IF($C$2="Neattiecināmās izmaksas",IF('Lokālā tāme Nr.3'!$Q497="Neattiecināmās",'Lokālā tāme Nr.3'!$G497,0)) -> 0 | H494: =IF($C$2="Neattiecināmās izmaksas",IF('Lokālā tāme Nr.3'!$Q497="Neattiecināmās",'Lokālā tāme Nr.3'!$H497,0)) -> 0 | I494: =IF($C$2="Neattiecināmās izmaksas",IF('Lokālā tāme Nr.3'!$Q497="Neattiecināmās",'Lokālā tāme Nr.3'!$I497,0)) -> 0 | J494: =IF($C$2="Neattiecināmās izmaksas",IF('Lokālā tāme Nr.3'!$Q497="Neattiecināmās",'Lokālā tāme Nr.3'!$J497,0)) -> 0 | K494: =IF($C$2="Neattiecināmās izmaksas",IF('Lokālā tāme Nr.3'!$Q497="Neattiecināmās",'Lokālā tāme Nr.3'!$K497,0)) -> 0 | L494: =IF($C$2="Neattiecināmās izmaksas",IF('Lokālā tāme Nr.3'!$Q497="Neattiecināmās",'Lokālā tāme Nr.3'!$L497,0)) -> 0 | M494: =IF($C$2="Neattiecināmās izmaksas",IF('Lokālā tāme Nr.3'!$Q497="Neattiecināmās",'Lokālā tāme Nr.3'!$M497,0)) -> 0 | N494: =IF($C$2="Neattiecināmās izmaksas",IF('Lokālā tāme Nr.3'!$Q497="Neattiecināmās",'Lokālā tāme Nr.3'!$N497,0)) -> 0 | O494: =IF($C$2="Neattiecināmās izmaksas",IF('Lokālā tāme Nr.3'!$Q497="Neattiecināmās",'Lokālā tāme Nr.3'!$O497,0)) -> 0 | P494: =IF($C$2="Neattiecināmās izmaksas",IF('Lokālā tāme Nr.3'!$Q497="Neattiecināmās",'Lokālā tāme Nr.3'!$P497,0)) -> 0
A495: Tiešās izmaksas kopā, t. sk. darba devēja sociālais nodoklis __.__% | L495: =SUM(L8:L494) -> 0 | M495: =SUM(M8:M494) -> 0 | N495: =SUM(N8:N494) -> 0 | O495: =SUM(O8:O494) -> 0 | P495: =SUM(P8:P494) -> 0
A498: Sastādīja | C498: =_xlfn.SINGLE('Neatt izm.'!#REF!) -> #REF!
C499: (paraksts un tā atšifrējums, datums)
A501: =_xlfn.SINGLE('Neatt izm.'!#REF!) -> #REF!
A503: Pārbaudīja | C503: =_xlfn.SINGLE('Neatt izm.'!#REF!) -> #REF!
C504: (paraksts un tā atšifrējums, datums)
A506: Sertifikāta Nr. | C506: ='Neatt izm.'!#REF! -> #REF!
