Workbook
Name _Hlk175142014: 'Izmaksu sadalījums'!$F$30

Sheet Ievads
C2: PROJEKTA IZMAKSU TĀME Uzņemējdarbības zaļināšanas programmas 2.1.1.2. PASĀKUMĀ (Energo 21-27); 6.1.1. (Reģionu energo 21-27)
B4: Formas lietošana ir ieteicama. Piesakoties dalībai programmā var iesniegt arī citā formā sagatavotu tāmi.
B6: SKAIDROJUMI
C8: ŠŪNU KRĀSAS
C9: •zaļās šūnas norāda informācijas laukus, kuri aizpildāmi manuāli
C10: •dzeltenās šūnas norāda informācijas laukus, kuri aizpildās automātiski
C12: IZKLĀJLOKŠU AIZPILDĪŠANAS SECĪBA:
C13: • pirmās aizpildāmā izklājloksnes ir "Lokālā tāme Nr.1", "Lokālā tāme Nr. 2", "Lokālā tāme Nr. 3" utt.
C14: • pēc lokālo tāmju aizpildīšanas jāaizpilda izklājloksne "Koptāme a+n"
C15: •pārējās izklājloksnēs datu laiku aizpildīsies automātiski
C17: DARBĪBAS, KURAS NEDRĪKST VEIKT AIZPILDOT ŠO TĀMI:
C18: • pārsaukt darba lapas
C19: • atstāt neaizpildītas rindas lokālo tāmju tabulās
C20: • apvienot šūnas (merge cells)
C21: • pievienot vai dzēst kolonnas
... C32: •datu laukā "Objekta nosaukums" jānorāda, piemēram, "1.ražošanas cehs"; "3.noliktava"

Sheet Izmaksu sadalījums
B2: Attiecināmo un neattiecināmo izmaksu uzskaitījums
B4: Ēku energoefektivitātes paaugstināšanas projektu jomā attiecināmās izmaksas, attiecas uz pasākumiem 2.1.1.2 (Energo 21-27); 6.1.1.4 ( Reģionu energo 21-27) | F4: Iekārtu energoefektivitātes paaugstināšanas projektu attiecināmās izmaksas, kas nepieciešamas, lai sasniegtu augstāku energoefektivitātes līmeni, attiecas uz pasākumiem 2.1.1.2 (Energo 21-27); 6.1.1.4 (Reģionu energo 21-27)
B5: IZMAKSU APRAKSTS | C5: ATTIECINĀMĀS IZMAKSAS | D5: NEATTIECINĀMĀS IZMAKSAS | F5: IZMAKSU APRAKSTS | G5: ATTIECINĀMĀS IZMAKSAS | H5: NEATTIECINĀMĀS IZMAKSAS
B6: Energoefektivitāti paaugstinošu būvdarbu veikšana nedzīvojamās ēkas, noliktavas norobežojošajās konstrukcijās | C6: · demontāžas darbi, lai īstenotu noteiktos energoefektivitātes paaugstināšanas būvdarbus un ar tiem funkcionāli saistītos energoefektivitātes paaugstināšanas pasākumus; | D6: · būvdarbi, kas nepieciešami, lai ēkas energoefektivitātes klasi paaugstinātu no F uz E; | F6: Jaunu energoefektīvāku iekārtu iegāde un uzstādīšana, kuras nodrošina konkrētā atbalsta saņēmēja saimniecisko darbību (tai skaitā preču vai pakalpojumu ražošanu), kā arī saimniecisko darbību nodrošinošos blakusprocesus, ja tās aizstāj esošās iekārtas | G6: · jaunu iekārtu iegāde, ja ar tām tiek aizstātas jau esošas iekārtas; | H6: · lietotu iekārtu iegāde;
C7: · fasādes atjaunošana, t.sk. siltināšana; | D7: · būvdarbi, kas tieši nepaaugstina energoefektivitāti (piemēram, iekšējie apdares darbi); | G7: · elektroenerģijas uzskaites sistēmas izbūve; | H7: · iekārtu iegāde, kas nenodrošina enerģijas patēriņa samazināšanu;
C8: · ārsienu logu nomaiņa; | D8: · jumta, parapetu un ar to saistīto elementu atjaunošana, ja netiek paredzēta jumta vai bēniņu siltināšana; | G8: · iekārtu uzstādīšanas/montāžas; | H8: · iekārtu un procesus nodrošinošo blakusprocesu iekārtu iegādes izmaksas, ja iekārtas neaizstāj esošās iekārtas un procesus nodrošinošo blakusprocesu iekārtas;
C9: · ārdurvju nomaiņa; | D9: · ieejas jumtiņu remonts, ja nav paredzēta jumtiņu siltināšana; | G9: · projekta vadības izmaksas (ja ir iekļauts virsizdevumos); | H9: · izmaksas, kas saistītas ar fosilos energoresursus izmantojošas iekārtas uzstādīšanu, modernizāciju vai nomaiņu pret citu fosilos energoresursus izmantojošu iekārtu.
C10: · vārtu nomaiņa; | D10: · ieejas lieveņa, pandusa atjaunošana vai izbūve; | G10: · virsizdevumi t.sk. darba aizsardzība; | H10: · muitas nodokļi un ar to saistītie maksājumi;
C11: · jumta remonts, ja tiek veikti bēniņu vai jumta siltināšanas darbi; | D11: · apkures skursteņu, dūmvadu atjaunošana, ja netiek veikta siltumapgādes sistēmas atjaunošana. | G11: · pārvietojamā tehnika (elektrokrāvēji, elektrokāres, pacēlāji u.c. ar elektrisko piedziņu), kas nodrošina saimniecisko darbību un aizstāj esošās iekārtas, ja tiek pierādīts primārās enerģijas ietaupījums un iekārta nedrīkst būt reģistrējama. | H11: · personāla apmācības;
C12: · cokola un pamatu sienu atjaunošana, t.sk. hidroizolācija, siltināšana u.c. pasākumi; | D12: · ventilācijas skursteņu, izvadu atjaunošana, ja netiek veikta ventilācijas vai gaisa kondicionēšanas sistēmu atjaunošana;būvniecības dokumentācijas (apliecinājuma karte, būvprojekts, pagaidu energosertifikāts, energosertifikāts) izstrāde un ar to saistītās izmaksas; | G12: peļņa | H12: · būvspeciālista atzinumi;
C13: · pagraba pārseguma un sienu siltināšana; | D13: · būvspeciālista atzinumi; | H13: · transports un piegāde (ja nav iekļauts būvizstrādājumu / mehānismu vai mehānismu izmaksās);
C14: · bēniņu pārseguma, dūmvadu, ventilācijas kanālu un sienu energoefektivitātes paaugstināšanas pasākumi, tehnisko laipu atjaunošana vai izbūve; | D14: · auditora atzinumi; | H14: · projekta vadība (ja nav iekļauts virsizdevumos);
C15: · jumta, parapetu un ar to saistīto elementu atjaunošana, ja tiek veikti jumta energoefektivitātes pasākumi; | D15: · būvlaukuma apsardze, signalizācija, videonovērošana; | H15: · ekspluatācijas un apkopes izmaksas;
C16: · ailu aizpildījumu elementu izbūve vai nomaiņa (t.sk. iekšējā apdare) – logi, palodzes, lodžiju aizstiklošana, lūkas, restes, t.sk ventilācijas vārsti. | D16: · transporta un piegādes izdevumi (ja nav iekļauts būvizstrādājumu vai mehānismu tiešajās izmaksās); | H16: · projekta uzraudzības izmaksas (izņemot būvuzraudzības izmaksas);
C17: · funkcionāli saistītie būvdarbi, kuru izpilde ir nepieciešama, lai veiktu energoefektivitātes paaugstināšanas būvdarbus; | D17: · projekta vadības izmaksas (ja nav iekļauts virsizdevumos); | H17: · administratīvās izmaksas (ja nav iekļauts virsizdevumos);
C18: · projekta vadības izmaksas (ja ir iekļauts virsizdevumos); | D18: · ekspluatācijas un apkopes izmaksas; | H18: · apdrošināšanas izmaksas, licences izmaksas, konsultāciju izmaksas
C19: · būvdarbu vadīšana (ja ir iekļauts virsizdevumos); | D19: · projekta uzraudzības izmaksas (izņemot būvuzraudzības izmaksas); | H19: N1, M1, N2, M2 kategorijas transportlīdzekļus
C20: · virsizdevumi t.sk. darba aizsardzība; | D20: · administratīvās izmaksas (ja nav iekļauts virsizdevumos); | F20: Sekundāro energoresursu atgūšana no tehnoloģiskajiem procesiem vai cits tāds skaidri nosakāms ieguldījums esošajās iekārtās, kuras nodrošina konkrētā atbalsta saņēmēja saimniecisko darbību (tai skaitā preču vai pakalpojumu ražošanu), kā arī saimniecisko darbību nodrošinošos blakusprocesus, kuru vienīgais mērķis ir uzlabot energoefektivitāti | G20: · karstā ūdens apgādes sistēmas inženiertīklu ierīkošana vai pārbūve; | H20: · sistēmu izveidošana, ierīkošana vai pārbūve, kas nenodrošina sekundāro energoresursu atgūšanu.
C21: · peļņa | D21: · apdrošināšanas izmaksas, licences izmaksas, konsultāciju izmaksas, rakšanas un citu atļauju izmaksas; | G21: · apkures, ventilācijas un gaisa kondicionēšanas sistēmu inženiertīklu ierīkošana vai pārbūve, t.sk. individuālās uzskaites sistēmas izveide; | H21: · būvniecības dokumentācijas (apliecinājuma karte, būvprojekts, pagaidu energosertifikāts, energosertifikāts) izstrāde;
D22: · būvdarbu vadīšana (ja nav iekļauts virsizdevumos | G22: · piespiedu ventilācija ar siltuma atgūšanu no ražošanas tehnoloģiskajiem procesiem. | H22: · personāla apmācības;
G23: · būvniecības izpilddokumentācija un izpildmērījumi. | H23: · būvspeciālista atzinumi;
B24: Nedzīvojamās būves elementu inženiersistēmu atjaunošana, pārbūve vai izveide, t.sk. pieslēguma izveidošana centralizētajai siltumapgādes sistēmai un siltummezgla izveide | C24: · karstā ūdens apgādes sistēmas inženiertīklu ierīkošana vai pārbūve; | D24: · sadzīves kanalizācijas un aukstā ūdens apgādes sistēmu inženiertīklu ierīkošana vai pārbūve; | G24: · projekta vadība (ja ir iekļauts virsizdevumos); | H24: · transports un piegāde (ja nav iekļauts būvizstrādājumu / mehānismu vai mehānismu izmaksās);
C25: · apkures, ventilācijas un gaisa kondicionēšanas sistēmu inženiertīklu ierīkošana vai pārbūve, t.sk. individuālās uzskaites sistēmas izveide t.sk. viedās sistēmas izbūve; | D25: · aukstā ūdens sistēmas ievada pārbūve; | G25: · virsizdevumi t.sk. darba aizsardzība; | H25: · projekta vadība (ja nav iekļauts virsizdevumos);
C26: · siltummehānika, izņemot neatjaunojamo energoresursu apkures katli; | D26: · vājstrāvas tīklu ierīkošana vai pārbūve (izņemot, kas attiecas uz viedām sistēmām saistībā ar apkuri, apgaismojumu, ventilāciju); | G26: peļņa | H26: · ekspluatācijas un apkopes izmaksas;
C27: · lietus ūdens noteksistēmas atjaunošana vai izbūve; | D27: · būvniecības dokumentācijas (apliecinājuma karte, būvprojekts, pagaidu energosertifikāts, energosertifikāts) izstrāde; | H27: · projekta uzraudzības izmaksas (izņemot būvuzraudzības izmaksas);
C28: · elektroapgāde viedajiem risinājumiem un apgaismojuma izbūvei; | D28: · personāla apmācības; | H28: · administratīvās izmaksas (ja nav iekļauts virsizdevumos);
C29: · mehāniskā ventilācija ar siltuma atgūšanu (ne no ražošanas tehnoloģiskajiem procesiem); | D29: · būvspeciālista atzinumi; | H29: apdrošināšanas izmaksas, licences izmaksas, konsultāciju izmaksas
C30: · funkcionāli saistītie būvdarbi, kuru izpilde ir nepieciešama, lai veiktu energoefektivitātes paaugstināšanas būvdarbus; | D30: · auditora atzinumi; | F30: Komercteritorijas inženiersistēmu atjaunošana, pārbūve vai izveide, tai skaitā pieslēguma izveidošana centralizētajai siltumapgādes sistēmai un siltummezgla izveide | G30: · karstā ūdens apgādes sistēmas inženiertīklu ierīkošana vai pārbūve; | H30: · sadzīves kanalizācijas un aukstā ūdens apgādes sistēmu inženiertīklu ierīkošana vai pārbūve;
C31: · būvniecības izpilddokumentācija un izpildmērījumi; | D31: · būvlaukuma apsardze, signalizācija, videonovērošana; | G31: · apkures, ventilācijas un gaisa kondicionēšanas sistēmu inženiertīklu ierīkošana vai pārbūve, t.sk. individuālās uzskaites sistēmas izveide t.sk. viedās sistēmas izbūve; | H31: · aukstā ūdens sistēmas ievada pārbūve;
C32: · projekta vadība (ja ir iekļauts virsizdevumos); | D32: · transports un piegāde (ja nav iekļauts būvizstrādājumu / mehānismu vai mehānismu izmaksās); | G32: · siltummehānika, izņemot neatjaunojamo energoresursu apkures katli; | H32: · vājstrāvas tīklu ierīkošana vai pārbūve (izņemot, kas attiecas uz viedām sistēmām saistībā ar apkuri, apgaismojumu, ventilāciju);
C33: · būvdarbu vadīšana (ja ir iekļauts virsizdevumos); | D33: · projekta vadība (ja nav iekļauts virsizdevumos); | G33: · lietus ūdens noteksistēmas atjaunošana vai izbūve; | H33: · būvniecības dokumentācijas (apliecinājuma karte, būvprojekts, pagaidu energosertifikāts, energosertifikāts) izstrāde;
C34: · virsizdevumi t.sk. darba aizsardzība; | D34: · ekspluatācijas un apkopes izmaksas; | G34: · elektroapgāde viedajiem risinājumiem un apgaismojuma izbūvei; | H34: · personāla apmācības;
C35: · peļņa | D35: · projekta uzraudzības izmaksas (izņemot būvuzraudzības izmaksas); | G35: · mehāniskā ventilācija ar siltuma atgūšanu (ne no ražošanas tehnoloģiskajiem procesiem); | H35: · būvspeciālista atzinumi;
D36: · administratīvās izmaksas (ja nav iekļauts virsizdevumos); | G36: · funkcionāli saistītie būvdarbi, kuru izpilde ir nepieciešama, lai veiktu energoefektivitātes paaugstināšanas būvdarbus; | H36: · auditora atzinumi;
D37: · apdrošināšanas izmaksas, licences izmaksas, konsultāciju izmaksas, rakšanas un citu atļauju izmaksas | G37: · būvniecības izpilddokumentācija un izpildmērījumi; | H37: · būvlaukuma apsardze, signalizācija, videonovērošana;
G38: · projekta vadība (ja ir iekļauts virsizdevumos); | H38: · transports un piegāde (ja nav iekļauts būvizstrādājumu / mehānismu vai mehānismu izmaksās);
B39: Nedzīvojamās ēkas būves elementu energoefektīva apgaismojuma uzstādīšana | C39: · LED spuldžu iegāde, uzstādīšana; | D39: · spuldžu un gaismas ķermeņu, kas nav LED iegāde, piemēram, HPI metālhalogēnspuldzes, T5 luminiscences spuldzes; | G39: · būvdarbu vadīšana (ja ir iekļauts virsizdevumos); | H39: · projekta vadība (ja nav iekļauts virsizdevumos);
C40: · LED gaismas ķermeņu (gaismas armatūru) iegāde, uzstādīšana; | D40: · būvniecības dokumentācijas izstrāde t.sk. energoauditora sagatavotā dokumentācija; | G40: · virsizdevumi t.sk. darba aizsardzība; | H40: · ekspluatācijas un apkopes izmaksas;
C41: · uzstādīšanai nepieciešamās sistēmas (uzskaite, elektroinstalācija, ja tas nepieciešams apgaismojuma uzstādīšanas dēļ); | D41: · personāla apmācības; | G41: peļņa | H41: · projekta uzraudzības izmaksas (izņemot būvuzraudzības izmaksas);
C42: · būvniecībass izpilddokumentācija un izpildmērījumi; | D42: · būvspeciālista atzinumi; | H42: · administratīvās izmaksas (ja nav iekļauts virsizdevumos);
...

Sheet Koptāme a+n
B2: KOPTĀME A + N (kopējās projekta izmaksas + neattiecināmās izmaksas)
B5: Piegādātājs
B6: Reģ.Nr.
B7: Adrese
B9: Tāmes sastādītājs
B11: Pasūtītājs
B12: Reģ.Nr.
B13: Adrese
B16: Būves nosaukums
B17: Objekta nosaukums
B18: Objekta adrese
B20: OBJEKTA NOSAUKUMS | D20: IZMAKSAS
B21: =$C$17 -> 0 | D21: ='Kopssavilkums a+n'!F22 -> 0
B22: Kopā bez PVN: | D22: =SUM(D21:D21) -> 0
C24: PVN (21%) | D24: =ROUND(D22*21%,2) -> 0
C25: Pavisam kopā | D25: =ROUND(D22+D24,2) -> 0

Sheet Kopt a 
B2: KOPTĀME PROJEKTA ATTIECINĀMAJĀM IZMAKSĀM
B4: OBJEKTA NOSAUKUMS | D4: IZMAKSAS
B5: ='Koptāme a+n'!$C$17 -> 0 | D5: ='Kops attiec'!F19 -> 0
C6: Kopā bez PVN | D6: =SUM(D5:D5) -> 0
B8: PVN (21%) | D8: =ROUND(D6*21%,2) -> 0
C9: Pavisam kopā | D9: =ROUND(D6+D8,2) -> 0

Sheet Kopt n
B2: KOPTĀME PROJEKTA NEATTIECINĀMĀM IZMAKSĀM
B4: OBJEKTA NOSAUKUMS | D4: IZMAKSAS
B5: ='Koptāme a+n'!$C$17 -> 0 | D5: ='Neatt izm.'!F19 -> 0
C6: Kopā | D6: =SUM(D5:D5) -> 0
B8: PVN (21%) | D8: =ROUND(D6*21%,2) -> 0
C9: Pavisam kopā | D9: =ROUND(D6+D8,2) -> 0

Sheet Kopssavilkums a+n
B2: KOPSAVILKUMS PAR DARBU VAI KONSTRUKTĪVO ELEMENTU VEIDIEM (ATTIECINĀMĀS UN NEATTIECINĀMĀS IZMAKSAS)
B5: darbu veids
D7: Kopējās projekta izmaksas | E7: =F22 -> 0
D8: Kopējā darbietilpība, c/h | E8: =J18 -> 0
B10: Nr.p.k. | C10: Tāmes Nr. | D10: Darba veids vai konstruktīvā elementa nosaukums | F10: Tāmes izmaksas | G10: Tai skaitā | J10: Darbietilpība (c/h)
G11: darba alga | H11: materiāli | I11: mehānismi
B12: =IF(F12=0,0,IF(COUNTBLANK(F12)=1,0,COUNTA($F$12:F12))) -> 0 | C12: ='Kops attiec'!C12 -> 0 | D12: ='Neatt izm.'!D12:E12 -> 0 | F12: ='Kops attiec'!F12 -> 0 | G12: ='Kops attiec'!G12 -> 0 | H12: ='Kops attiec'!H12 -> 0 | I12: ='Kops attiec'!I12 -> 0 | J12: ='Kops attiec'!J12 -> 0
B13: =IF(F13=0,0,IF(COUNTBLANK(F13)=1,0,COUNTA($F$12:F13))) -> 0 | C13: ='Neatt izm.'!C12 -> 0 | D13: ='Neatt izm.'!D12:E12 -> 0 | F13: ='Neatt izm.'!F12 -> 0 | G13: ='Neatt izm.'!G12 -> 0 | H13: ='Neatt izm.'!H12 -> 0 | I13: ='Neatt izm.'!I12 -> 0 | J13: ='Neatt izm.'!J12 -> 0
B14: =IF(F14=0,0,IF(COUNTBLANK(F14)=1,0,COUNTA($F$12:F14))) -> 0 | C14: ='Kops attiec'!C13 -> 0 | D14: ='Kops attiec'!D13:E13 -> 0 | F14: ='Kops attiec'!F13 -> 0 | G14: ='Kops attiec'!G13 -> 0 | H14: ='Kops attiec'!H13 -> 0 | I14: ='Kops attiec'!I13 -> 0 | J14: ='Kops attiec'!J13 -> 0
B15: =IF(F15=0,0,IF(COUNTBLANK(F15)=1,0,COUNTA($F$12:F15))) -> 0 | C15: ='Neatt izm.'!C13 -> 0 | D15: ='Neatt izm.'!D13:E13 -> 0 | F15: ='Neatt izm.'!F13 -> 0 | G15: ='Neatt izm.'!G13 -> 0 | H15: ='Neatt izm.'!H13 -> 0 | I15: ='Neatt izm.'!I13 -> 0 | J15: ='Neatt izm.'!J13 -> 0
B16: =IF(F16=0,0,IF(COUNTBLANK(F16)=1,0,COUNTA($F$12:F16))) -> 0 | C16: ='Kops attiec'!C14 -> 0 | D16: ='Kops attiec'!D14:E14 -> 0 | F16: ='Kops attiec'!F14 -> 0 | G16: ='Kops attiec'!G14 -> 0 | H16: ='Kops attiec'!H14 -> 0 | I16: ='Kops attiec'!I14 -> 0 | J16: ='Kops attiec'!J14 -> 0
B17: =IF(F17=0,0,IF(COUNTBLANK(F17)=1,0,COUNTA($F$12:F17))) -> 0 | C17: ='Neatt izm.'!C14 -> 0 | D17: ='Neatt izm.'!D14:E14 -> 0 | F17: ='Neatt izm.'!F14 -> 0 | G17: ='Neatt izm.'!G14 -> 0 | H17: ='Neatt izm.'!H14 -> 0 | I17: ='Neatt izm.'!I14 -> 0 | J17: ='Neatt izm.'!J14 -> 0
B18: Kopā: | F18: =SUM(F12:F17) -> 0 | G18: =SUM(G12:G17) -> 0 | H18: =SUM(H12:H17) -> 0 | I18: =SUM(I12:I17) -> 0 | J18: =SUM(J12:J17) -> 0
B19: Virsizdevumi (%) | F19: =ROUND(F18*$E19,2) -> 0
B20: t.sk.darba aizsardzība (%) | F20: =ROUND(F19*$E20,2) -> 0
B21: Peļņa (%) | F21: =ROUND(F18*$E21,2) -> 0
B22: Pavisam kopā bez PVN: | F22: =SUM(F18:F21)-F20 -> 0

Sheet Kops attiec
B2: KOPSAVILKUMS PAR DARBU VAI KONSTRUKTĪVO ELEMENTU VEIDIEM (ATTIECINĀMĀS IZMAKSAS)
B5: darbu veids
D7: Kopējās attiecināmās izmaksas, EUR | E7: =F19 -> 0
D8: Kopējā darbietilpība, c/h | E8: =J15 -> 0
B10: Nr.p.k. | C10: Tāmes Nr. | D10: Darba veids vai konstruktīvā elementa nosaukums | F10: Tāmes izmaksas | G10: Tai skaitā | J10: Darbietilpība (c/h)
G11: darba alga | H11: materiāli | I11: mehānismi
B12: =IF(F12=0,0,IF(COUNTBLANK(F12)=1,0,COUNTA($F$12:F12))) -> 0 | C12: =IF(B12=0,0,CONCATENATE("Att-",B12)) -> 0 | D12: ='Lokālā tāme Nr.1'!N4 -> 0 | F12: ='1a'!P495 -> 0 | G12: ='1a'!M495 -> 0 | H12: ='1a'!N495 -> 0 | I12: ='1a'!O495 -> 0 | J12: ='1a'!L495 -> 0
B13: =IF(F13=0,0,IF(COUNTBLANK(F13)=1,0,COUNTA($F$12:F13))) -> 0 | C13: =IF(B13=0,0,CONCATENATE("Att-",B13)) -> 0 | D13: ='Lokālā tāme Nr.2'!N4 -> 0 | F13: ='2a'!P495 -> 0 | G13: ='2a'!M495 -> 0 | H13: ='2a'!N495 -> 0 | I13: ='2a'!O495 -> 0 | J13: ='2a'!L495 -> 0
B14: =IF(F14=0,0,IF(COUNTBLANK(F14)=1,0,COUNTA($F$12:F14))) -> 0 | C14: =IF(B14=0,0,CONCATENATE("Att-",B14)) -> 0 | D14: ='Lokālā tāme Nr.3'!N4 -> 0 | F14: ='3a'!P495 -> 0 | G14: ='3a'!M495 -> 0 | H14: ='3a'!N495 -> 0 | I14: ='3a'!O495 -> 0 | J14: ='3a'!L495 -> 0
B15: Kopā | F15: =SUM(F12:F14) -> 0 | G15: =SUM(G12:G14) -> 0 | H15: =SUM(H12:H14) -> 0 | I15: =SUM(I12:I14) -> 0 | J15: =SUM(J12:J14) -> 0
B16: Virsizdevumi (%) | E16: ='Kopssavilkums a+n'!E19 -> 0 | F16: =ROUND(F15*$E16,2) -> 0
B17: t.sk.darba aizsardzība (%) | E17: ='Kopssavilkums a+n'!E20 -> 0 | F17: =ROUND(F16*$E17,2) -> 0
B18: Peļņa (%) | E18: ='Kopssavilkums a+n'!E21 -> 0 | F18: =ROUND(F15*$E18,2) -> 0
B19: Pavisam kopā bez PVN | F19: =SUM(F15:F18)-F17 -> 0
D30: =_xlfn.SINGLE('Koptāme a+n'!#REF!) -> #REF!

Sheet Neatt izm.
B2: KOPSAVILKUMS PAR DARBU VAI KONSTRUKTĪVO ELEMENTU VEIDIEM (NEATTIECINĀMĀS IZMAKSAS)
B5: darbu veids
D7: Kopējās citas izmaksas | E7: =F19 -> 0
D8: Kopējā darbietilpība, c/h | E8: =J15 -> 0
B10: Nr.p.k. | C10: Tāmes Nr. | D10: Darba veids vai konstruktīvā elementa nosaukums | F10: Tāmes izmaksas | G10: Tai skaitā | J10: Darbietilpība (c/h)
G11: darba alga | H11: materiāli | I11: mehānismi
B12: =IF(F12=0,0,IF(COUNTBLANK(F12)=1,0,COUNTA($F$12:F12))) -> 0 | C12: =IF(B12=0,0,CONCATENATE("Citi-",B12)) -> 0 | D12: ='Lokālā tāme Nr.1'!N4 -> 0 | F12: ='1c'!P495 -> 0 | G12: ='1c'!M495 -> 0 | H12: ='1c'!N495 -> 0 | I12: ='1c'!O495 -> 0 | J12: ='1c'!L495 -> 0
B13: =IF(F13=0,0,IF(COUNTBLANK(F13)=1,0,COUNTA($F$12:F13))) -> 0 | C13: =IF(B13=0,0,CONCATENATE("Citi-",B13)) -> 0 | D13: ='Lokālā tāme Nr.2'!N4 -> 0 | F13: ='2c'!P497 -> 0 | G13: ='2c'!M497 -> 0 | H13: ='2c'!N497 -> 0 | I13: ='2c'!O497 -> 0 | J13: ='2c'!L497 -> 0
B14: =IF(F14=0,0,IF(COUNTBLANK(F14)=1,0,COUNTA($F$12:F14))) -> 0 | C14: =IF(B14=0,0,CONCATENATE("Citi-",B14)) -> 0 | D14: ='Lokālā tāme Nr.3'!N4 -> 0 | F14: ='3c'!P495 -> 0 | G14: ='3c'!M495 -> 0 | H14: ='3c'!N495 -> 0 | I14: ='3c'!O495 -> 0 | J14: ='3c'!L495 -> 0
B15: Kopā | F15: =SUM(F12:F14) -> 0 | G15: =SUM(G12:G14) -> 0 | H15: =SUM(H12:H14) -> 0 | I15: =SUM(I12:I14) -> 0 | J15: =SUM(J12:J14) -> 0
B16: Virsizdevumi (%) | E16: ='Kopssavilkums a+n'!E19 -> 0 | F16: =ROUND(F15*$E16,2) -> 0
B17: t.sk.darba aizsardzība (%) | E17: ='Kopssavilkums a+n'!E20 -> 0 | F17: =ROUND(F16*$E17,2) -> 0
B18: Peļņa (%) | E18: ='Kopssavilkums a+n'!E21 -> 0 | F18: =ROUND(F15*$E18,2) -> 0
B19: Pavisam kopā bez PVN | F19: =SUM(F15:F18)-F17 -> 0
D44: =_xlfn.SINGLE('Koptāme a+n'!#REF!) -> #REF!

Sheet Lokālā tāme Nr.1
B2: LOKĀLĀ TĀME NR. | P2: 1
N4: =B4 -> 0
C5: darba veids vai konstruktīvā elementa nosaukums
B7: KOPĒJĀS IZMAKSAS | D7: =$P$498 -> 0
B9: Nr.p.k. | C9: Darba nosaukums | D9: Mērvienība | E9: Daudzums | F9: Vienības izmaksas | L9: Kopā uz visu apjomu | Q9: Izmaksu veids (attiecināmās vai neattiecināmas)
F10: Laika norma (c/h) | G10: Darba samaksas likme (EUR/h) | H10: Darba alga (EUR) | I10: Būvizstrādājumi (EUR) | J10: Mehānismi (EUR) | K10: Kopā (EUR) | L10: Laika norma (c/h) | M10: Darba alga (EUR) | N10: Būvizstrādājumi (EUR) | O10: Mehānismi (EUR) | P10: Kopā (EUR)
H11: =ROUND(F11*G11,2) -> 0 | K11: =SUM(H11:J11) -> 0 | L11: =ROUND(E11*F11,2) -> 0 | M11: =ROUND(H11*E11,2) -> 0 | N11: =ROUND(I11*E11,2) -> 0 | O11: =ROUND(J11*E11,2) -> 0 | P11: =SUM(M11:O11) -> 0
H12: =ROUND(F12*G12,2) -> 0 | K12: =SUM(H12:J12) -> 0 | L12: =ROUND(E12*F12,2) -> 0 | M12: =ROUND(H12*E12,2) -> 0 | N12: =ROUND(I12*E12,2) -> 0 | O12: =ROUND(J12*E12,2) -> 0 | P12: =SUM(M12:O12) -> 0
H13: =ROUND(F13*G13,2) -> 0 | K13: =SUM(H13:J13) -> 0 | L13: =ROUND(E13*F13,2) -> 0 | M13: =ROUND(H13*E13,2) -> 0 | N13: =ROUND(I13*E13,2) -> 0 | O13: =ROUND(J13*E13,2) -> 0 | P13: =SUM(M13:O13) -> 0
H14: =ROUND(F14*G14,2) -> 0 | K14: =SUM(H14:J14) -> 0 | L14: =ROUND(E14*F14,2) -> 0 | M14: =ROUND(H14*E14,2) -> 0 | N14: =ROUND(I14*E14,2) -> 0 | O14: =ROUND(J14*E14,2) -> 0 | P14: =SUM(M14:O14) -> 0
H15: =ROUND(F15*G15,2) -> 0 | K15: =SUM(H15:J15) -> 0 | L15: =ROUND(E15*F15,2) -> 0 | M15: =ROUND(H15*E15,2) -> 0 | N15: =ROUND(I15*E15,2) -> 0 | O15: =ROUND(J15*E15,2) -> 0 | P15: =SUM(M15:O15) -> 0
H16: =ROUND(F16*G16,2) -> 0 | K16: =SUM(H16:J16) -> 0 | L16: =ROUND(E16*F16,2) -> 0 | M16: =ROUND(H16*E16,2) -> 0 | N16: =ROUND(I16*E16,2) -> 0 | O16: =ROUND(J16*E16,2) -> 0 | P16: =SUM(M16:O16) -> 0
H17: =ROUND(F17*G17,2) -> 0 | K17: =SUM(H17:J17) -> 0 | L17: =ROUND(E17*F17,2) -> 0 | M17: =ROUND(H17*E17,2) -> 0 | N17: =ROUND(I17*E17,2) -> 0 | O17: =ROUND(J17*E17,2) -> 0 | P17: =SUM(M17:O17) -> 0
H18: =ROUND(F18*G18,2) -> 0 | K18: =SUM(H18:J18) -> 0 | L18: =ROUND(E18*F18,2) -> 0 | M18: =ROUND(H18*E18,2) -> 0 | N18: =ROUND(I18*E18,2) -> 0 | O18: =ROUND(J18*E18,2) -> 0 | P18: =SUM(M18:O18) -> 0
H19: =ROUND(F19*G19,2) -> 0 | K19: =SUM(H19:J19) -> 0 | L19: =ROUND(E19*F19,2) -> 0 | M19: =ROUND(H19*E19,2) -> 0 | N19: =ROUND(I19*E19,2) -> 0 | O19: =ROUND(J19*E19,2) -> 0 | P19: =SUM(M19:O19) -> 0
H20: =ROUND(F20*G20,2) -> 0 | K20: =SUM(H20:J20) -> 0 | L20: =ROUND(E20*F20,2) -> 0 | M20: =ROUND(H20*E20,2) -> 0 | N20: =ROUND(I20*E20,2) -> 0 | O20: =ROUND(J20*E20,2) -> 0 | P20: =SUM(M20:O20) -> 0
H21: =ROUND(F21*G21,2) -> 0 | K21: =SUM(H21:J21) -> 0 | L21: =ROUND(E21*F21,2) -> 0 | M21: =ROUND(H21*E21,2) -> 0 | N21: =ROUND(I21*E21,2) -> 0 | O21: =ROUND(J21*E21,2) -> 0 | P21: =SUM(M21:O21) -> 0
H22: =ROUND(F22*G22,2) -> 0 | K22: =SUM(H22:J22) -> 0 | L22: =ROUND(E22*F22,2) -> 0 | M22: =ROUND(H22*E22,2) -> 0 | N22: =ROUND(I22*E22,2) -> 0 | O22: =ROUND(J22*E22,2) -> 0 | P22: =SUM(M22:O22) -> 0
... H497: =ROUND(F497*G497,2) -> 0 | K497: =SUM(H497:J497) -> 0 | L497: =ROUND(E497*F497,2) -> 0 | M497: =ROUND(H497*E497,2) -> 0 | N497: =ROUND(I497*E497,2) -> 0 | O497: =ROUND(J497*E497,2) -> 0 | P497: =SUM(M497:O497) -> 0
B498: Tiešās izmaksas kopā, t. sk. darba devēja sociālais nodoklis 23.59% | L498: =SUM(L11:L497) -> 0 | M498: =SUM(M11:M497) -> 0 | N498: =SUM(N11:N497) -> 0 | O498: =SUM(O11:O497) -> 0 | P498: =SUM(P11:P497) -> 0

Sheet 1a
C1: Lokālā tāme Nr. | D1: {='Lokālā tāme Nr.1'!P2:Q2} -> 1 | E1: 0
C2: Attiecināmās izmaksas
J3: Tāmes izmaksas EUR | N3: =P495 -> 0
A6: Nr.p.k. | B6: Kods | C6: Darba nosaukums | D6: Mērvienība | E6: Daudzums | F6: Vienības izmaksas | L6: Kopā uz visu apjomu
F7: Laika norma (c/h) | G7: Darba samaksas likme (EUR/h) | H7: Darba alga (EUR) | I7: Būvizstrādājumi (EUR) | J7: Mehānismi (EUR) | K7: Kopā (EUR) | L7: Laika norma (c/h) | M7: Darba alga (EUR) | N7: Būvizstrādājumi (EUR) | O7: Mehānismi (EUR) | P7: Kopā (EUR)
A8: =IF(P8=0,0,IF(COUNTBLANK(P8)=1,0,COUNTA($P$8:P8))) -> 0 | B8: =IF($C$2="Attiecināmās izmaksas",IF('Lokālā tāme Nr.1'!$Q11="Attiecināmās",'Lokālā tāme Nr.1'!$B11,0)) -> 0 | C8: =IF($C$2="Attiecināmās izmaksas",IF('Lokālā tāme Nr.1'!$Q11="Attiecināmās",'Lokālā tāme Nr.1'!C11,0)) -> 0 | D8: =IF($C$2="Attiecināmās izmaksas",IF('Lokālā tāme Nr.1'!$Q11="Attiecināmās",'Lokālā tāme Nr.1'!D11,0)) -> 0 | E8: =IF($C$2="Attiecināmās izmaksas",IF('Lokālā tāme Nr.1'!$Q11="Attiecināmās",'Lokālā tāme Nr.1'!E11,0)) -> 0 | F8: =IF($C$2="Attiecināmās izmaksas",IF('Lokālā tāme Nr.1'!$Q11="Attiecināmās",'Lokālā tāme Nr.1'!F11,0)) -> 0 | G8: =IF($C$2="Attiecināmās izmaksas",IF('Lokālā tāme Nr.1'!$Q11="Attiecināmās",'Lokālā tāme Nr.1'!G11,0)) -> 0 | H8: =IF($C$2="Attiecināmās izmaksas",IF('Lokālā tāme Nr.1'!$Q11="Attiecināmās",'Lokālā tāme Nr.1'!H11,0)) -> 0 | I8: =IF($C$2="Attiecināmās izmaksas",IF('Lokālā tāme Nr.1'!$Q11="Attiecināmās",'Lokālā tāme Nr.1'!I11,0)) -> 0 | J8: =IF($C$2="Attiecināmās izmaksas",IF('Lokālā tāme Nr.1'!$Q11="Attiecināmās",'Lokālā tāme Nr.1'!J11,0)) -> 0 | ... P8: =IF($C$2="Attiecināmās izmaksas",IF('Lokālā tāme Nr.1'!$Q11="Attiecināmās",'Lokālā tāme Nr.1'!P11,0)) -> 0
A9: =IF(P9=0,0,IF(COUNTBLANK(P9)=1,0,COUNTA($P$8:P9))) -> 0 | B9: =IF($C$2="Attiecināmās izmaksas",IF('Lokālā tāme Nr.1'!$Q12="Attiecināmās",'Lokālā tāme Nr.1'!$B12,0)) -> 0 | C9: =IF($C$2="Attiecināmās izmaksas",IF('Lokālā tāme Nr.1'!$Q12="Attiecināmās",'Lokālā tāme Nr.1'!C12,0)) -> 0 | D9: =IF($C$2="Attiecināmās izmaksas",IF('Lokālā tāme Nr.1'!$Q12="Attiecināmās",'Lokālā tāme Nr.1'!D12,0)) -> 0 | E9: =IF($C$2="Attiecināmās izmaksas",IF('Lokālā tāme Nr.1'!$Q12="Attiecināmās",'Lokālā tāme Nr.1'!E12,0)) -> 0 | F9: =IF($C$2="Attiecināmās izmaksas",IF('Lokālā tāme Nr.1'!$Q12="Attiecināmās",'Lokālā tāme Nr.1'!F12,0)) -> 0 | G9: =IF($C$2="Attiecināmās izmaksas",IF('Lokālā tāme Nr.1'!$Q12="Attiecināmās",'Lokālā tāme Nr.1'!G12,0)) -> 0 | H9: =IF($C$2="Attiecināmās izmaksas",IF('Lokālā tāme Nr.1'!$Q12="Attiecināmās",'Lokālā tāme Nr.1'!H12,0)) -> 0 | I9: =IF($C$2="Attiecināmās izmaksas",IF('Lokālā tāme Nr.1'!$Q12="Attiecināmās",'Lokālā tāme Nr.1'!I12,0)) -> 0 | J9: =IF($C$2="Attiecināmās izmaksas",IF('Lokālā tāme Nr.1'!$Q12="Attiecināmās",'Lokālā tāme Nr.1'!J12,0)) -> 0 | ... P9: =IF($C$2="Attiecināmās izmaksas",IF('Lokālā tāme Nr.1'!$Q12="Attiecināmās",'Lokālā tāme Nr.1'!P12,0)) -> 0
A10: =IF(P10=0,0,IF(COUNTBLANK(P10)=1,0,COUNTA($P$8:P10))) -> 0 | B10: =IF($C$2="Attiecināmās izmaksas",IF('Lokālā tāme Nr.1'!$Q13="Attiecināmās",'Lokālā tāme Nr.1'!$B13,0)) -> 0 | C10: =IF($C$2="Attiecināmās izmaksas",IF('Lokālā tāme Nr.1'!$Q13="Attiecināmās",'Lokālā tāme Nr.1'!C13,0)) -> 0 | D10: =IF($C$2="Attiecināmās izmaksas",IF('Lokālā tāme Nr.1'!$Q13="Attiecināmās",'Lokālā tāme Nr.1'!D13,0)) -> 0 | E10: =IF($C$2="Attiecināmās izmaksas",IF('Lokālā tāme Nr.1'!$Q13="Attiecināmās",'Lokālā tāme Nr.1'!E13,0)) -> 0 | F10: =IF($C$2="Attiecināmās izmaksas",IF('Lokālā tāme Nr.1'!$Q13="Attiecināmās",'Lokālā tāme Nr.1'!F13,0)) -> 0 | G10: =IF($C$2="Attiecināmās izmaksas",IF('Lokālā tāme Nr.1'!$Q13="Attiecināmās",'Lokālā tāme Nr.1'!G13,0)) -> 0 | H10: =IF($C$2="Attiecināmās izmaksas",IF('Lokālā tāme Nr.1'!$Q13="Attiecināmās",'Lokālā tāme Nr.1'!H13,0)) -> 0 | I10: =IF($C$2="Attiecināmās izmaksas",IF('Lokālā tāme Nr.1'!$Q13="Attiecināmās",'Lokālā tāme Nr.1'!I13,0)) -> 0 | J10: =IF($C$2="Attiecināmās izmaksas",IF('Lokālā tāme Nr.1'!$Q13="Attiecināmās",'Lokālā tāme Nr.1'!J13,0)) -> 0 | ... P10: =IF($C$2="Attiecināmās izmaksas",IF('Lokālā tāme Nr.1'!$Q13="Attiecināmās",'Lokālā tāme Nr.1'!P13,0)) -> 0
A11: =IF(P11=0,0,IF(COUNTBLANK(P11)=1,0,COUNTA($P$8:P11))) -> 0 | B11: =IF($C$2="Attiecināmās izmaksas",IF('Lokālā tāme Nr.1'!$Q14="Attiecināmās",'Lokālā tāme Nr.1'!$B14,0)) -> 0 | C11: =IF($C$2="Attiecināmās izmaksas",IF('Lokālā tāme Nr.1'!$Q14="Attiecināmās",'Lokālā tāme Nr.1'!C14,0)) -> 0 | D11: =IF($C$2="Attiecināmās izmaksas",IF('Lokālā tāme Nr.1'!$Q14="Attiecināmās",'Lokālā tāme Nr.1'!D14,0)) -> 0 | E11: =IF($C$2="Attiecināmās izmaksas",IF('Lokālā tāme Nr.1'!$Q14="Attiecināmās",'Lokālā tāme Nr.1'!E14,0)) -> 0 | F11: =IF($C$2="Attiecināmās izmaksas",IF('Lokālā tāme Nr.1'!$Q14="Attiecināmās",'Lokālā tāme Nr.1'!F14,0)) -> 0 | G11: =IF($C$2="Attiecināmās izmaksas",IF('Lokālā tāme Nr.1'!$Q14="Attiecināmās",'Lokālā tāme Nr.1'!G14,0)) -> 0 | H11: =IF($C$2="Attiecināmās izmaksas",IF('Lokālā tāme Nr.1'!$Q14="Attiecināmās",'Lokālā tāme Nr.1'!H14,0)) -> 0 | I11: =IF($C$2="Attiecināmās izmaksas",IF('Lokālā tāme Nr.1'!$Q14="Attiecināmās",'Lokālā tāme Nr.1'!I14,0)) -> 0 | J11: =IF($C$2="Attiecināmās izmaksas",IF('Lokālā tāme Nr.1'!$Q14="Attiecināmās",'Lokālā tāme Nr.1'!J14,0)) -> 0 | ... P11: =IF($C$2="Attiecināmās izmaksas",IF('Lokālā tāme Nr.1'!$Q14="Attiecināmās",'Lokālā tāme Nr.1'!P14,0)) -> 0
A12: =IF(P12=0,0,IF(COUNTBLANK(P12)=1,0,COUNTA($P$8:P12))) -> 0 | B12: =IF($C$2="Attiecināmās izmaksas",IF('Lokālā tāme Nr.1'!$Q15="Attiecināmās",'Lokālā tāme Nr.1'!$B15,0)) -> 0 | C12: =IF($C$2="Attiecināmās izmaksas",IF('Lokālā tāme Nr.1'!$Q15="Attiecināmās",'Lokālā tāme Nr.1'!C15,0)) -> 0 | D12: =IF($C$2="Attiecināmās izmaksas",IF('Lokālā tāme Nr.1'!$Q15="Attiecināmās",'Lokālā tāme Nr.1'!D15,0)) -> 0 | E12: =IF($C$2="Attiecināmās izmaksas",IF('Lokālā tāme Nr.1'!$Q15="Attiecināmās",'Lokālā tāme Nr.1'!E15,0)) -> 0 | F12: =IF($C$2="Attiecināmās izmaksas",IF('Lokālā tāme Nr.1'!$Q15="Attiecināmās",'Lokālā tāme Nr.1'!F15,0)) -> 0 | G12: =IF($C$2="Attiecināmās izmaksas",IF('Lokālā tāme Nr.1'!$Q15="Attiecināmās",'Lokālā tāme Nr.1'!G15,0)) -> 0 | H12: =IF($C$2="Attiecināmās izmaksas",IF('Lokālā tāme Nr.1'!$Q15="Attiecināmās",'Lokālā tāme Nr.1'!H15,0)) -> 0 | I12: =IF($C$2="Attiecināmās izmaksas",IF('Lokālā tāme Nr.1'!$Q15="Attiecināmās",'Lokālā tāme Nr.1'!I15,0)) -> 0 | J12: =IF($C$2="Attiecināmās izmaksas",IF('Lokālā tāme Nr.1'!$Q15="Attiecināmās",'Lokālā tāme Nr.1'!J15,0)) -> 0 | ... P12: =IF($C$2="Attiecināmās izmaksas",IF('Lokālā tāme Nr.1'!$Q15="Attiecināmās",'Lokālā tāme Nr.1'!P15,0)) -> 0
A13: =IF(P13=0,0,IF(COUNTBLANK(P13)=1,0,COUNTA($P$8:P13))) -> 0 | B13: =IF($C$2="Attiecināmās izmaksas",IF('Lokālā tāme Nr.1'!$Q16="Attiecināmās",'Lokālā tāme Nr.1'!$B16,0)) -> 0 | C13: =IF($C$2="Attiecināmās izmaksas",IF('Lokālā tāme Nr.1'!$Q16="Attiecināmās",'Lokālā tāme Nr.1'!C16,0)) -> 0 | D13: =IF($C$2="Attiecināmās izmaksas",IF('Lokālā tāme Nr.1'!$Q16="Attiecināmās",'Lokālā tāme Nr.1'!D16,0)) -> 0 | E13: =IF($C$2="Attiecināmās izmaksas",IF('Lokālā tāme Nr.1'!$Q16="Attiecināmās",'Lokālā tāme Nr.1'!E16,0)) -> 0 | F13: =IF($C$2="Attiecināmās izmaksas",IF('Lokālā tāme Nr.1'!$Q16="Attiecināmās",'Lokālā tāme Nr.1'!F16,0)) -> 0 | G13: =IF($C$2="Attiecināmās izmaksas",IF('Lokālā tāme Nr.1'!$Q16="Attiecināmās",'Lokālā tāme Nr.1'!G16,0)) -> 0 | H13: =IF($C$2="Attiecināmās izmaksas",IF('Lokālā tāme Nr.1'!$Q16="Attiecināmās",'Lokālā tāme Nr.1'!H16,0)) -> 0 | I13: =IF($C$2="Attiecināmās izmaksas",IF('Lokālā tāme Nr.1'!$Q16="Attiecināmās",'Lokālā tāme Nr.1'!I16,0)) -> 0 | J13: =IF($C$2="Attiecināmās izmaksas",IF('Lokālā tāme Nr.1'!$Q16="Attiecināmās",'Lokālā tāme Nr.1'!J16,0)) -> 0 | ... P13: =IF($C$2="Attiecināmās izmaksas",IF('Lokālā tāme Nr.1'!$Q16="Attiecināmās",'Lokālā tāme Nr.1'!P16,0)) -> 0
A14: =IF(P14=0,0,IF(COUNTBLANK(P14)=1,0,COUNTA($P$8:P14))) -> 0 | B14: =IF($C$2="Attiecināmās izmaksas",IF('Lokālā tāme Nr.1'!$Q17="Attiecināmās",'Lokālā tāme Nr.1'!$B17,0)) -> 0 | C14: =IF($C$2="Attiecināmās izmaksas",IF('Lokālā tāme Nr.1'!$Q17="Attiecināmās",'Lokālā tāme Nr.1'!C17,0)) -> 0 | D14: =IF($C$2="Attiecināmās izmaksas",IF('Lokālā tāme Nr.1'!$Q17="Attiecināmās",'Lokālā tāme Nr.1'!D17,0)) -> 0 | E14: =IF($C$2="Attiecināmās izmaksas",IF('Lokālā tāme Nr.1'!$Q17="Attiecināmās",'Lokālā tāme Nr.1'!E17,0)) -> 0 | F14: =IF($C$2="Attiecināmās izmaksas",IF('Lokālā tāme Nr.1'!$Q17="Attiecināmās",'Lokālā tāme Nr.1'!F17,0)) -> 0 | G14: =IF($C$2="Attiecināmās izmaksas",IF('Lokālā tāme Nr.1'!$Q17="Attiecināmās",'Lokālā tāme Nr.1'!G17,0)) -> 0 | H14: =IF($C$2="Attiecināmās izmaksas",IF('Lokālā tāme Nr.1'!$Q17="Attiecināmās",'Lokālā tāme Nr.1'!H17,0)) -> 0 | I14: =IF($C$2="Attiecināmās izmaksas",IF('Lokālā tāme Nr.1'!$Q17="Attiecināmās",'Lokālā tāme Nr.1'!I17,0)) -> 0 | J14: =IF($C$2="Attiecināmās izmaksas",IF('Lokālā tāme Nr.1'!$Q17="Attiecināmās",'Lokālā tāme Nr.1'!J17,0)) -> 0 | ... P14: =IF($C$2="Attiecināmās izmaksas",IF('Lokālā tāme Nr.1'!$Q17="Attiecināmās",'Lokālā tāme Nr.1'!P17,0)) -> 0
A15: =IF(P15=0,0,IF(COUNTBLANK(P15)=1,0,COUNTA($P$8:P15))) -> 0 | B15: =IF($C$2="Attiecināmās izmaksas",IF('Lokālā tāme Nr.1'!$Q18="Attiecināmās",'Lokālā tāme Nr.1'!$B18,0)) -> 0 | C15: =IF($C$2="Attiecināmās izmaksas",IF('Lokālā tāme Nr.1'!$Q18="Attiecināmās",'Lokālā tāme Nr.1'!C18,0)) -> 0 | D15: =IF($C$2="Attiecināmās izmaksas",IF('Lokālā tāme Nr.1'!$Q18="Attiecināmās",'Lokālā tāme Nr.1'!D18,0)) -> 0 | E15: =IF($C$2="Attiecināmās izmaksas",IF('Lokālā tāme Nr.1'!$Q18="Attiecināmās",'Lokālā tāme Nr.1'!E18,0)) -> 0 | F15: =IF($C$2="Attiecināmās izmaksas",IF('Lokālā tāme Nr.1'!$Q18="Attiecināmās",'Lokālā tāme Nr.1'!F18,0)) -> 0 | G15: =IF($C$2="Attiecināmās izmaksas",IF('Lokālā tāme Nr.1'!$Q18="Attiecināmās",'Lokālā tāme Nr.1'!G18,0)) -> 0 | H15: =IF($C$2="Attiecināmās izmaksas",IF('Lokālā tāme Nr.1'!$Q18="Attiecināmās",'Lokālā tāme Nr.1'!H18,0)) -> 0 | I15: =IF($C$2="Attiecināmās izmaksas",IF('Lokālā tāme Nr.1'!$Q18="Attiecināmās",'Lokālā tāme Nr.1'!I18,0)) -> 0 | J15: =IF($C$2="Attiecināmās izmaksas",IF('Lokālā tāme Nr.1'!$Q18="Attiecināmās",'Lokālā tāme Nr.1'!J18,0)) -> 0 | ... P15: =IF($C$2="Attiecināmās izmaksas",IF('Lokālā tāme Nr.1'!$Q18="Attiecināmās",'Lokālā tāme Nr.1'!P18,0)) -> 0
A16: =IF(P16=0,0,IF(COUNTBLANK(P16)=1,0,COUNTA($P$8:P16))) -> 0 | B16: =IF($C$2="Attiecināmās izmaksas",IF('Lokālā tāme Nr.1'!$Q19="Attiecināmās",'Lokālā tāme Nr.1'!$B19,0)) -> 0 | C16: =IF($C$2="Attiecināmās izmaksas",IF('Lokālā tāme Nr.1'!$Q19="Attiecināmās",'Lokālā tāme Nr.1'!C19,0)) -> 0 | D16: =IF($C$2="Attiecināmās izmaksas",IF('Lokālā tāme Nr.1'!$Q19="Attiecināmās",'Lokālā tāme Nr.1'!D19,0)) -> 0 | E16: =IF($C$2="Attiecināmās izmaksas",IF('Lokālā tāme Nr.1'!$Q19="Attiecināmās",'Lokālā tāme Nr.1'!E19,0)) -> 0 | F16: =IF($C$2="Attiecināmās izmaksas",IF('Lokālā tāme Nr.1'!$Q19="Attiecināmās",'Lokālā tāme Nr.1'!F19,0)) -> 0 | G16: =IF($C$2="Attiecināmās izmaksas",IF('Lokālā tāme Nr.1'!$Q19="Attiecināmās",'Lokālā tāme Nr.1'!G19,0)) -> 0 | H16: =IF($C$2="Attiecināmās izmaksas",IF('Lokālā tāme Nr.1'!$Q19="Attiecināmās",'Lokālā tāme Nr.1'!H19,0)) -> 0 | I16: =IF($C$2="Attiecināmās izmaksas",IF('Lokālā tāme Nr.1'!$Q19="Attiecināmās",'Lokālā tāme Nr.1'!I19,0)) -> 0 | J16: =IF($C$2="Attiecināmās izmaksas",IF('Lokālā tāme Nr.1'!$Q19="Attiecināmās",'Lokālā tāme Nr.1'!J19,0)) -> 0 | ... P16: =IF($C$2="Attiecināmās izmaksas",IF('Lokālā tāme Nr.1'!$Q19="Attiecināmās",'Lokālā tāme Nr.1'!P19,0)) -> 0
A17: =IF(P17=0,0,IF(COUNTBLANK(P17)=1,0,COUNTA($P$8:P17))) -> 0 | B17: =IF($C$2="Attiecināmās izmaksas",IF('Lokālā tāme Nr.1'!$Q20="Attiecināmās",'Lokālā tāme Nr.1'!$B20,0)) -> 0 | C17: =IF($C$2="Attiecināmās izmaksas",IF('Lokālā tāme Nr.1'!$Q20="Attiecināmās",'Lokālā tāme Nr.1'!C20,0)) -> 0 | D17: =IF($C$2="Attiecināmās izmaksas",IF('Lokālā tāme Nr.1'!$Q20="Attiecināmās",'Lokālā tāme Nr.1'!D20,0)) -> 0 | E17: =IF($C$2="Attiecināmās izmaksas",IF('Lokālā tāme Nr.1'!$Q20="Attiecināmās",'Lokālā tāme Nr.1'!E20,0)) -> 0 | F17: =IF($C$2="Attiecināmās izmaksas",IF('Lokālā tāme Nr.1'!$Q20="Attiecināmās",'Lokālā tāme Nr.1'!F20,0)) -> 0 | G17: =IF($C$2="Attiecināmās izmaksas",IF('Lokālā tāme Nr.1'!$Q20="Attiecināmās",'Lokālā tāme Nr.1'!G20,0)) -> 0 | H17: =IF($C$2="Attiecināmās izmaksas",IF('Lokālā tāme Nr.1'!$Q20="Attiecināmās",'Lokālā tāme Nr.1'!H20,0)) -> 0 | I17: =IF($C$2="Attiecināmās izmaksas",IF('Lokālā tāme Nr.1'!$Q20="Attiecināmās",'Lokālā tāme Nr.1'!I20,0)) -> 0 | J17: =IF($C$2="Attiecināmās izmaksas",IF('Lokālā tāme Nr.1'!$Q20="Attiecināmās",'Lokālā tāme Nr.1'!J20,0)) -> 0 | ... P17: =IF($C$2="Attiecināmās izmaksas",IF('Lokālā tāme Nr.1'!$Q20="Attiecināmās",'Lokālā tāme Nr.1'!P20,0)) -> 0
A18: =IF(P18=0,0,IF(COUNTBLANK(P18)=1,0,COUNTA($P$8:P18))) -> 0 | B18: =IF($C$2="Attiecināmās izmaksas",IF('Lokālā tāme Nr.1'!$Q21="Attiecināmās",'Lokālā tāme Nr.1'!$B21,0)) -> 0 | C18: =IF($C$2="Attiecināmās izmaksas",IF('Lokālā tāme Nr.1'!$Q21="Attiecināmās",'Lokālā tāme Nr.1'!C21,0)) -> 0 | D18: =IF($C$2="Attiecināmās izmaksas",IF('Lokālā tāme Nr.1'!$Q21="Attiecināmās",'Lokālā tāme Nr.1'!D21,0)) -> 0 | E18: =IF($C$2="Attiecināmās izmaksas",IF('Lokālā tāme Nr.1'!$Q21="Attiecināmās",'Lokālā tāme Nr.1'!E21,0)) -> 0 | F18: =IF($C$2="Attiecināmās izmaksas",IF('Lokālā tāme Nr.1'!$Q21="Attiecināmās",'Lokālā tāme Nr.1'!F21,0)) -> 0 | G18: =IF($C$2="Attiecināmās izmaksas",IF('Lokālā tāme Nr.1'!$Q21="Attiecināmās",'Lokālā tāme Nr.1'!G21,0)) -> 0 | H18: =IF($C$2="Attiecināmās izmaksas",IF('Lokālā tāme Nr.1'!$Q21="Attiecināmās",'Lokālā tāme Nr.1'!H21,0)) -> 0 | I18: =IF($C$2="Attiecināmās izmaksas",IF('Lokālā tāme Nr.1'!$Q21="Attiecināmās",'Lokālā tāme Nr.1'!I21,0)) -> 0 | J18: =IF($C$2="Attiecināmās izmaksas",IF('Lokālā tāme Nr.1'!$Q21="Attiecināmās",'Lokālā tāme Nr.1'!J21,0)) -> 0 | ... P18: =IF($C$2="Attiecināmās izmaksas",IF('Lokālā tāme Nr.1'!$Q21="Attiecināmās",'Lokālā tāme Nr.1'!P21,0)) -> 0
A19: =IF(P19=0,0,IF(COUNTBLANK(P19)=1,0,COUNTA($P$8:P19))) -> 0 | B19: =IF($C$2="Attiecināmās izmaksas",IF('Lokālā tāme Nr.1'!$Q22="Attiecināmās",'Lokālā tāme Nr.1'!$B22,0)) -> 0 | C19: =IF($C$2="Attiecināmās izmaksas",IF('Lokālā tāme Nr.1'!$Q22="Attiecināmās",'Lokālā tāme Nr.1'!C22,0)) -> 0 | D19: =IF($C$2="Attiecināmās izmaksas",IF('Lokālā tāme Nr.1'!$Q22="Attiecināmās",'Lokālā tāme Nr.1'!D22,0)) -> 0 | E19: =IF($C$2="Attiecināmās izmaksas",IF('Lokālā tāme Nr.1'!$Q22="Attiecināmās",'Lokālā tāme Nr.1'!E22,0)) -> 0 | F19: =IF($C$2="Attiecināmās izmaksas",IF('Lokālā tāme Nr.1'!$Q22="Attiecināmās",'Lokālā tāme Nr.1'!F22,0)) -> 0 | G19: =IF($C$2="Attiecināmās izmaksas",IF('Lokālā tāme Nr.1'!$Q22="Attiecināmās",'Lokālā tāme Nr.1'!G22,0)) -> 0 | H19: =IF($C$2="Attiecināmās izmaksas",IF('Lokālā tāme Nr.1'!$Q22="Attiecināmās",'Lokālā tāme Nr.1'!H22,0)) -> 0 | I19: =IF($C$2="Attiecināmās izmaksas",IF('Lokālā tāme Nr.1'!$Q22="Attiecināmās",'Lokālā tāme Nr.1'!I22,0)) -> 0 | J19: =IF($C$2="Attiecināmās izmaksas",IF('Lokālā tāme Nr.1'!$Q22="Attiecināmās",'Lokālā tāme Nr.1'!J22,0)) -> 0 | ... P19: =IF($C$2="Attiecināmās izmaksas",IF('Lokālā tāme Nr.1'!$Q22="Attiecināmās",'Lokālā tāme Nr.1'!P22,0)) -> 0
... A494: =IF(P494=0,0,IF(COUNTBLANK(P494)=1,0,COUNTA($P$8:P494))) -> 0 | B494: =IF($C$2="Attiecināmās izmaksas",IF('Lokālā tāme Nr.1'!$Q497="Attiecināmās",'Lokālā tāme Nr.1'!$B497,0)) -> 0 | C494: =IF($C$2="Attiecināmās izmaksas",IF('Lokālā tāme Nr.1'!$Q497="Attiecināmās",'Lokālā tāme Nr.1'!C497,0)) -> 0 | D494: =IF($C$2="Attiecināmās izmaksas",IF('Lokālā tāme Nr.1'!$Q497="Attiecināmās",'Lokālā tāme Nr.1'!D497,0)) -> 0 | E494: =IF($C$2="Attiecināmās izmaksas",IF('Lokālā tāme Nr.1'!$Q497="Attiecināmās",'Lokālā tāme Nr.1'!E497,0)) -> 0 | F494: =IF($C$2="Attiecināmās izmaksas",IF('Lokālā tāme Nr.1'!$Q497="Attiecināmās",'Lokālā tāme Nr.1'!F497,0)) -> 0 | G494: =IF($C$2="Attiecināmās izmaksas",IF('Lokālā tāme Nr.1'!$Q497="Attiecināmās",'Lokālā tāme Nr.1'!G497,0)) -> 0 | H494: =IF($C$2="Attiecināmās izmaksas",IF('Lokālā tāme Nr.1'!$Q497="Attiecināmās",'Lokālā tāme Nr.1'!H497,0)) -> 0 | I494: =IF($C$2="Attiecināmās izmaksas",IF('Lokālā tāme Nr.1'!$Q497="Attiecināmās",'Lokālā tāme Nr.1'!I497,0)) -> 0 | J494: =IF($C$2="Attiecināmās izmaksas",IF('Lokālā tāme Nr.1'!$Q497="Attiecināmās",'Lokālā tāme Nr.1'!J497,0)) -> 0 | ... P494: =IF($C$2="Attiecināmās izmaksas",IF('Lokālā tāme Nr.1'!$Q497="Attiecināmās",'Lokālā tāme Nr.1'!P497,0)) -> 0
A495: Tiešās izmaksas kopā, t. sk. darba devēja sociālais nodoklis __.__% | L495: =SUM(L8:L494) -> 0 | M495: =SUM(M8:M494) -> 0 | N495: =SUM(N8:N494) -> 0 | O495: =SUM(O8:O494) -> 0 | P495: =SUM(P8:P494) -> 0

Sheet 1c
C1: Lokālā tāme Nr. | D1: {='Lokālā tāme Nr.1'!P2:Q2} -> 1 | E1: 0
C2: Neattiecināmās izmaksas
J3: Tāmes izmaksas EUR | N3: =P495 -> 0
A6: Nr.p.k. | B6: Kods | C6: Darba nosaukums | D6: Mērvienība | E6: Daudzums | F6: Vienības izmaksas | L6: Kopā uz visu apjomu
F7: Laika norma (c/h) | G7: Darba samaksas likme (EUR/h) | H7: Darba alga (EUR) | I7: Būvizstrādājumi (EUR) | J7: Mehānismi (EUR) | K7: Kopā (EUR) | L7: Laika norma (c/h) | M7: Darba alga (EUR) | N7: Būvizstrādājumi (EUR) | O7: Mehānismi (EUR) | P7: Kopā (EUR)
A8: =IF(P8=0,0,IF(COUNTBLANK(P8)=1,0,COUNTA($P$8:P8))) -> 0 | B8: =IF($C$2="Neattiecināmās izmaksas",IF('Lokālā tāme Nr.1'!$Q11="Neattiecināmās",'Lokālā tāme Nr.1'!$B11,0)) -> 0 | C8: =IF($C$2="Neattiecināmās izmaksas",IF('Lokālā tāme Nr.1'!$Q11="Neattiecināmās",'Lokālā tāme Nr.1'!C11,0)) -> 0 | D8: =IF($C$2="Neattiecināmās izmaksas",IF('Lokālā tāme Nr.1'!$Q11="Neattiecināmās",'Lokālā tāme Nr.1'!D11,0)) -> 0 | E8: =IF($C$2="Neattiecināmās izmaksas",IF('Lokālā tāme Nr.1'!$Q11="Neattiecināmās",'Lokālā tāme Nr.1'!E11,0)) -> 0 | F8: =IF($C$2="Neattiecināmās izmaksas",IF('Lokālā tāme Nr.1'!$Q11="Neattiecināmās",'Lokālā tāme Nr.1'!F11,0)) -> 0 | G8: =IF($C$2="Neattiecināmās izmaksas",IF('Lokālā tāme Nr.1'!$Q11="Neattiecināmās",'Lokālā tāme Nr.1'!G11,0)) -> 0 | H8: =IF($C$2="Neattiecināmās izmaksas",IF('Lokālā tāme Nr.1'!$Q11="Neattiecināmās",'Lokālā tāme Nr.1'!H11,0)) -> 0 | I8: =IF($C$2="Neattiecināmās izmaksas",IF('Lokālā tāme Nr.1'!$Q11="Neattiecināmās",'Lokālā tāme Nr.1'!I11,0)) -> 0 | J8: =IF($C$2="Neattiecināmās izmaksas",IF('Lokālā tāme Nr.1'!$Q11="Neattiecināmās",'Lokālā tāme Nr.1'!J11,0)) -> 0 | ... P8: =IF($C$2="Neattiecināmās izmaksas",IF('Lokālā tāme Nr.1'!$Q11="Neattiecināmās",'Lokālā tāme Nr.1'!P11,0)) -> 0
A9: =IF(P9=0,0,IF(COUNTBLANK(P9)=1,0,COUNTA($P$8:P9))) -> 0 | B9: =IF($C$2="Neattiecināmās izmaksas",IF('Lokālā tāme Nr.1'!$Q12="Neattiecināmās",'Lokālā tāme Nr.1'!$B12,0)) -> 0 | C9: =IF($C$2="Neattiecināmās izmaksas",IF('Lokālā tāme Nr.1'!$Q12="Neattiecināmās",'Lokālā tāme Nr.1'!C12,0)) -> 0 | D9: =IF($C$2="Neattiecināmās izmaksas",IF('Lokālā tāme Nr.1'!$Q12="Neattiecināmās",'Lokālā tāme Nr.1'!D12,0)) -> 0 | E9: =IF($C$2="Neattiecināmās izmaksas",IF('Lokālā tāme Nr.1'!$Q12="Neattiecināmās",'Lokālā tāme Nr.1'!E12,0)) -> 0 | F9: =IF($C$2="Neattiecināmās izmaksas",IF('Lokālā tāme Nr.1'!$Q12="Neattiecināmās",'Lokālā tāme Nr.1'!F12,0)) -> 0 | G9: =IF($C$2="Neattiecināmās izmaksas",IF('Lokālā tāme Nr.1'!$Q12="Neattiecināmās",'Lokālā tāme Nr.1'!G12,0)) -> 0 | H9: =IF($C$2="Neattiecināmās izmaksas",IF('Lokālā tāme Nr.1'!$Q12="Neattiecināmās",'Lokālā tāme Nr.1'!H12,0)) -> 0 | I9: =IF($C$2="Neattiecināmās izmaksas",IF('Lokālā tāme Nr.1'!$Q12="Neattiecināmās",'Lokālā tāme Nr.1'!I12,0)) -> 0 | J9: =IF($C$2="Neattiecināmās izmaksas",IF('Lokālā tāme Nr.1'!$Q12="Neattiecināmās",'Lokālā tāme Nr.1'!J12,0)) -> 0 | ... P9: =IF($C$2="Neattiecināmās izmaksas",IF('Lokālā tāme Nr.1'!$Q12="Neattiecināmās",'Lokālā tāme Nr.1'!P12,0)) -> 0
A10: =IF(P10=0,0,IF(COUNTBLANK(P10)=1,0,COUNTA($P$8:P10))) -> 0 | B10: =IF($C$2="Neattiecināmās izmaksas",IF('Lokālā tāme Nr.1'!$Q13="Neattiecināmās",'Lokālā tāme Nr.1'!$B13,0)) -> 0 | C10: =IF($C$2="Neattiecināmās izmaksas",IF('Lokālā tāme Nr.1'!$Q13="Neattiecināmās",'Lokālā tāme Nr.1'!C13,0)) -> 0 | D10: =IF($C$2="Neattiecināmās izmaksas",IF('Lokālā tāme Nr.1'!$Q13="Neattiecināmās",'Lokālā tāme Nr.1'!D13,0)) -> 0 | E10: =IF($C$2="Neattiecināmās izmaksas",IF('Lokālā tāme Nr.1'!$Q13="Neattiecināmās",'Lokālā tāme Nr.1'!E13,0)) -> 0 | F10: =IF($C$2="Neattiecināmās izmaksas",IF('Lokālā tāme Nr.1'!$Q13="Neattiecināmās",'Lokālā tāme Nr.1'!F13,0)) -> 0 | G10: =IF($C$2="Neattiecināmās izmaksas",IF('Lokālā tāme Nr.1'!$Q13="Neattiecināmās",'Lokālā tāme Nr.1'!G13,0)) -> 0 | H10: =IF($C$2="Neattiecināmās izmaksas",IF('Lokālā tāme Nr.1'!$Q13="Neattiecināmās",'Lokālā tāme Nr.1'!H13,0)) -> 0 | I10: =IF($C$2="Neattiecināmās izmaksas",IF('Lokālā tāme Nr.1'!$Q13="Neattiecināmās",'Lokālā tāme Nr.1'!I13,0)) -> 0 | J10: =IF($C$2="Neattiecināmās izmaksas",IF('Lokālā tāme Nr.1'!$Q13="Neattiecināmās",'Lokālā tāme Nr.1'!J13,0)) -> 0 | ... P10: =IF($C$2="Neattiecināmās izmaksas",IF('Lokālā tāme Nr.1'!$Q13="Neattiecināmās",'Lokālā tāme Nr.1'!P13,0)) -> 0
A11: =IF(P11=0,0,IF(COUNTBLANK(P11)=1,0,COUNTA($P$8:P11))) -> 0 | B11: =IF($C$2="Neattiecināmās izmaksas",IF('Lokālā tāme Nr.1'!$Q14="Neattiecināmās",'Lokālā tāme Nr.1'!$B14,0)) -> 0 | C11: =IF($C$2="Neattiecināmās izmaksas",IF('Lokālā tāme Nr.1'!$Q14="Neattiecināmās",'Lokālā tāme Nr.1'!C14,0)) -> 0 | D11: =IF($C$2="Neattiecināmās izmaksas",IF('Lokālā tāme Nr.1'!$Q14="Neattiecināmās",'Lokālā tāme Nr.1'!D14,0)) -> 0 | E11: =IF($C$2="Neattiecināmās izmaksas",IF('Lokālā tāme Nr.1'!$Q14="Neattiecināmās",'Lokālā tāme Nr.1'!E14,0)) -> 0 | F11: =IF($C$2="Neattiecināmās izmaksas",IF('Lokālā tāme Nr.1'!$Q14="Neattiecināmās",'Lokālā tāme Nr.1'!F14,0)) -> 0 | G11: =IF($C$2="Neattiecināmās izmaksas",IF('Lokālā tāme Nr.1'!$Q14="Neattiecināmās",'Lokālā tāme Nr.1'!G14,0)) -> 0 | H11: =IF($C$2="Neattiecināmās izmaksas",IF('Lokālā tāme Nr.1'!$Q14="Neattiecināmās",'Lokālā tāme Nr.1'!H14,0)) -> 0 | I11: =IF($C$2="Neattiecināmās izmaksas",IF('Lokālā tāme Nr.1'!$Q14="Neattiecināmās",'Lokālā tāme Nr.1'!I14,0)) -> 0 | J11: =IF($C$2="Neattiecināmās izmaksas",IF('Lokālā tāme Nr.1'!$Q14="Neattiecināmās",'Lokālā tāme Nr.1'!J14,0)) -> 0 | ... P11: =IF($C$2="Neattiecināmās izmaksas",IF('Lokālā tāme Nr.1'!$Q14="Neattiecināmās",'Lokālā tāme Nr.1'!P14,0)) -> 0
A12: =IF(P12=0,0,IF(COUNTBLANK(P12)=1,0,COUNTA($P$8:P12))) -> 0 | B12: =IF($C$2="Neattiecināmās izmaksas",IF('Lokālā tāme Nr.1'!$Q15="Neattiecināmās",'Lokālā tāme Nr.1'!$B15,0)) -> 0 | C12: =IF($C$2="Neattiecināmās izmaksas",IF('Lokālā tāme Nr.1'!$Q15="Neattiecināmās",'Lokālā tāme Nr.1'!C15,0)) -> 0 | D12: =IF($C$2="Neattiecināmās izmaksas",IF('Lokālā tāme Nr.1'!$Q15="Neattiecināmās",'Lokālā tāme Nr.1'!D15,0)) -> 0 | E12: =IF($C$2="Neattiecināmās izmaksas",IF('Lokālā tāme Nr.1'!$Q15="Neattiecināmās",'Lokālā tāme Nr.1'!E15,0)) -> 0 | F12: =IF($C$2="Neattiecināmās izmaksas",IF('Lokālā tāme Nr.1'!$Q15="Neattiecināmās",'Lokālā tāme Nr.1'!F15,0)) -> 0 | G12: =IF($C$2="Neattiecināmās izmaksas",IF('Lokālā tāme Nr.1'!$Q15="Neattiecināmās",'Lokālā tāme Nr.1'!G15,0)) -> 0 | H12: =IF($C$2="Neattiecināmās izmaksas",IF('Lokālā tāme Nr.1'!$Q15="Neattiecināmās",'Lokālā tāme Nr.1'!H15,0)) -> 0 | I12: =IF($C$2="Neattiecināmās izmaksas",IF('Lokālā tāme Nr.1'!$Q15="Neattiecināmās",'Lokālā tāme Nr.1'!I15,0)) -> 0 | J12: =IF($C$2="Neattiecināmās izmaksas",IF('Lokālā tāme Nr.1'!$Q15="Neattiecināmās",'Lokālā tāme Nr.1'!J15,0)) -> 0 | ... P12: =IF($C$2="Neattiecināmās izmaksas",IF('Lokālā tāme Nr.1'!$Q15="Neattiecināmās",'Lokālā tāme Nr.1'!P15,0)) -> 0
A13: =IF(P13=0,0,IF(COUNTBLANK(P13)=1,0,COUNTA($P$8:P13))) -> 0 | B13: =IF($C$2="Neattiecināmās izmaksas",IF('Lokālā tāme Nr.1'!$Q16="Neattiecināmās",'Lokālā tāme Nr.1'!$B16,0)) -> 0 | C13: =IF($C$2="Neattiecināmās izmaksas",IF('Lokālā tāme Nr.1'!$Q16="Neattiecināmās",'Lokālā tāme Nr.1'!C16,0)) -> 0 | D13: =IF($C$2="Neattiecināmās izmaksas",IF('Lokālā tāme Nr.1'!$Q16="Neattiecināmās",'Lokālā tāme Nr.1'!D16,0)) -> 0 | E13: =IF($C$2="Neattiecināmās izmaksas",IF('Lokālā tāme Nr.1'!$Q16="Neattiecināmās",'Lokālā tāme Nr.1'!E16,0)) -> 0 | F13: =IF($C$2="Neattiecināmās izmaksas",IF('Lokālā tāme Nr.1'!$Q16="Neattiecināmās",'Lokālā tāme Nr.1'!F16,0)) -> 0 | G13: =IF($C$2="Neattiecināmās izmaksas",IF('Lokālā tāme Nr.1'!$Q16="Neattiecināmās",'Lokālā tāme Nr.1'!G16,0)) -> 0 | H13: =IF($C$2="Neattiecināmās izmaksas",IF('Lokālā tāme Nr.1'!$Q16="Neattiecināmās",'Lokālā tāme Nr.1'!H16,0)) -> 0 | I13: =IF($C$2="Neattiecināmās izmaksas",IF('Lokālā tāme Nr.1'!$Q16="Neattiecināmās",'Lokālā tāme Nr.1'!I16,0)) -> 0 | J13: =IF($C$2="Neattiecināmās izmaksas",IF('Lokālā tāme Nr.1'!$Q16="Neattiecināmās",'Lokālā tāme Nr.1'!J16,0)) -> 0 | ... P13: =IF($C$2="Neattiecināmās izmaksas",IF('Lokālā tāme Nr.1'!$Q16="Neattiecināmās",'Lokālā tāme Nr.1'!P16,0)) -> 0
A14: =IF(P14=0,0,IF(COUNTBLANK(P14)=1,0,COUNTA($P$8:P14))) -> 0 | B14: =IF($C$2="Neattiecināmās izmaksas",IF('Lokālā tāme Nr.1'!$Q17="Neattiecināmās",'Lokālā tāme Nr.1'!$B17,0)) -> 0 | C14: =IF($C$2="Neattiecināmās izmaksas",IF('Lokālā tāme Nr.1'!$Q17="Neattiecināmās",'Lokālā tāme Nr.1'!C17,0)) -> 0 | D14: =IF($C$2="Neattiecināmās izmaksas",IF('Lokālā tāme Nr.1'!$Q17="Neattiecināmās",'Lokālā tāme Nr.1'!D17,0)) -> 0 | E14: =IF($C$2="Neattiecināmās izmaksas",IF('Lokālā tāme Nr.1'!$Q17="Neattiecināmās",'Lokālā tāme Nr.1'!E17,0)) -> 0 | F14: =IF($C$2="Neattiecināmās izmaksas",IF('Lokālā tāme Nr.1'!$Q17="Neattiecināmās",'Lokālā tāme Nr.1'!F17,0)) -> 0 | G14: =IF($C$2="Neattiecināmās izmaksas",IF('Lokālā tāme Nr.1'!$Q17="Neattiecināmās",'Lokālā tāme Nr.1'!G17,0)) -> 0 | H14: =IF($C$2="Neattiecināmās izmaksas",IF('Lokālā tāme Nr.1'!$Q17="Neattiecināmās",'Lokālā tāme Nr.1'!H17,0)) -> 0 | I14: =IF($C$2="Neattiecināmās izmaksas",IF('Lokālā tāme Nr.1'!$Q17="Neattiecināmās",'Lokālā tāme Nr.1'!I17,0)) -> 0 | J14: =IF($C$2="Neattiecināmās izmaksas",IF('Lokālā tāme Nr.1'!$Q17="Neattiecināmās",'Lokālā tāme Nr.1'!J17,0)) -> 0 | ... P14: =IF($C$2="Neattiecināmās izmaksas",IF('Lokālā tāme Nr.1'!$Q17="Neattiecināmās",'Lokālā tāme Nr.1'!P17,0)) -> 0
A15: =IF(P15=0,0,IF(COUNTBLANK(P15)=1,0,COUNTA($P$8:P15))) -> 0 | B15: =IF($C$2="Neattiecināmās izmaksas",IF('Lokālā tāme Nr.1'!$Q18="Neattiecināmās",'Lokālā tāme Nr.1'!$B18,0)) -> 0 | C15: =IF($C$2="Neattiecināmās izmaksas",IF('Lokālā tāme Nr.1'!$Q18="Neattiecināmās",'Lokālā tāme Nr.1'!C18,0)) -> 0 | D15: =IF($C$2="Neattiecināmās izmaksas",IF('Lokālā tāme Nr.1'!$Q18="Neattiecināmās",'Lokālā tāme Nr.1'!D18,0)) -> 0 | E15: =IF($C$2="Neattiecināmās izmaksas",IF('Lokālā tāme Nr.1'!$Q18="Neattiecināmās",'Lokālā tāme Nr.1'!E18,0)) -> 0 | F15: =IF($C$2="Neattiecināmās izmaksas",IF('Lokālā tāme Nr.1'!$Q18="Neattiecināmās",'Lokālā tāme Nr.1'!F18,0)) -> 0 | G15: =IF($C$2="Neattiecināmās izmaksas",IF('Lokālā tāme Nr.1'!$Q18="Neattiecināmās",'Lokālā tāme Nr.1'!G18,0)) -> 0 | H15: =IF($C$2="Neattiecināmās izmaksas",IF('Lokālā tāme Nr.1'!$Q18="Neattiecināmās",'Lokālā tāme Nr.1'!H18,0)) -> 0 | I15: =IF($C$2="Neattiecināmās izmaksas",IF('Lokālā tāme Nr.1'!$Q18="Neattiecināmās",'Lokālā tāme Nr.1'!I18,0)) -> 0 | J15: =IF($C$2="Neattiecināmās izmaksas",IF('Lokālā tāme Nr.1'!$Q18="Neattiecināmās",'Lokālā tāme Nr.1'!J18,0)) -> 0 | ... P15: =IF($C$2="Neattiecināmās izmaksas",IF('Lokālā tāme Nr.1'!$Q18="Neattiecināmās",'Lokālā tāme Nr.1'!P18,0)) -> 0
A16: =IF(P16=0,0,IF(COUNTBLANK(P16)=1,0,COUNTA($P$8:P16))) -> 0 | B16: =IF($C$2="Neattiecināmās izmaksas",IF('Lokālā tāme Nr.1'!$Q19="Neattiecināmās",'Lokālā tāme Nr.1'!$B19,0)) -> 0 | C16: =IF($C$2="Neattiecināmās izmaksas",IF('Lokālā tāme Nr.1'!$Q19="Neattiecināmās",'Lokālā tāme Nr.1'!C19,0)) -> 0 | D16: =IF($C$2="Neattiecināmās izmaksas",IF('Lokālā tāme Nr.1'!$Q19="Neattiecināmās",'Lokālā tāme Nr.1'!D19,0)) -> 0 | E16: =IF($C$2="Neattiecināmās izmaksas",IF('Lokālā tāme Nr.1'!$Q19="Neattiecināmās",'Lokālā tāme Nr.1'!E19,0)) -> 0 | F16: =IF($C$2="Neattiecināmās izmaksas",IF('Lokālā tāme Nr.1'!$Q19="Neattiecināmās",'Lokālā tāme Nr.1'!F19,0)) -> 0 | G16: =IF($C$2="Neattiecināmās izmaksas",IF('Lokālā tāme Nr.1'!$Q19="Neattiecināmās",'Lokālā tāme Nr.1'!G19,0)) -> 0 | H16: =IF($C$2="Neattiecināmās izmaksas",IF('Lokālā tāme Nr.1'!$Q19="Neattiecināmās",'Lokālā tāme Nr.1'!H19,0)) -> 0 | I16: =IF($C$2="Neattiecināmās izmaksas",IF('Lokālā tāme Nr.1'!$Q19="Neattiecināmās",'Lokālā tāme Nr.1'!I19,0)) -> 0 | J16: =IF($C$2="Neattiecināmās izmaksas",IF('Lokālā tāme Nr.1'!$Q19="Neattiecināmās",'Lokālā tāme Nr.1'!J19,0)) -> 0 | ... P16: =IF($C$2="Neattiecināmās izmaksas",IF('Lokālā tāme Nr.1'!$Q19="Neattiecināmās",'Lokālā tāme Nr.1'!P19,0)) -> 0
A17: =IF(P17=0,0,IF(COUNTBLANK(P17)=1,0,COUNTA($P$8:P17))) -> 0 | B17: =IF($C$2="Neattiecināmās izmaksas",IF('Lokālā tāme Nr.1'!$Q20="Neattiecināmās",'Lokālā tāme Nr.1'!$B20,0)) -> 0 | C17: =IF($C$2="Neattiecināmās izmaksas",IF('Lokālā tāme Nr.1'!$Q20="Neattiecināmās",'Lokālā tāme Nr.1'!C20,0)) -> 0 | D17: =IF($C$2="Neattiecināmās izmaksas",IF('Lokālā tāme Nr.1'!$Q20="Neattiecināmās",'Lokālā tāme Nr.1'!D20,0)) -> 0 | E17: =IF($C$2="Neattiecināmās izmaksas",IF('Lokālā tāme Nr.1'!$Q20="Neattiecināmās",'Lokālā tāme Nr.1'!E20,0)) -> 0 | F17: =IF($C$2="Neattiecināmās izmaksas",IF('Lokālā tāme Nr.1'!$Q20="Neattiecināmās",'Lokālā tāme Nr.1'!F20,0)) -> 0 | G17: =IF($C$2="Neattiecināmās izmaksas",IF('Lokālā tāme Nr.1'!$Q20="Neattiecināmās",'Lokālā tāme Nr.1'!G20,0)) -> 0 | H17: =IF($C$2="Neattiecināmās izmaksas",IF('Lokālā tāme Nr.1'!$Q20="Neattiecināmās",'Lokālā tāme Nr.1'!H20,0)) -> 0 | I17: =IF($C$2="Neattiecināmās izmaksas",IF('Lokālā tāme Nr.1'!$Q20="Neattiecināmās",'Lokālā tāme Nr.1'!I20,0)) -> 0 | J17: =IF($C$2="Neattiecināmās izmaksas",IF('Lokālā tāme Nr.1'!$Q20="Neattiecināmās",'Lokālā tāme Nr.1'!J20,0)) -> 0 | ... P17: =IF($C$2="Neattiecināmās izmaksas",IF('Lokālā tāme Nr.1'!$Q20="Neattiecināmās",'Lokālā tāme Nr.1'!P20,0)) -> 0
A18: =IF(P18=0,0,IF(COUNTBLANK(P18)=1,0,COUNTA($P$8:P18))) -> 0 | B18: =IF($C$2="Neattiecināmās izmaksas",IF('Lokālā tāme Nr.1'!$Q21="Neattiecināmās",'Lokālā tāme Nr.1'!$B21,0)) -> 0 | C18: =IF($C$2="Neattiecināmās izmaksas",IF('Lokālā tāme Nr.1'!$Q21="Neattiecināmās",'Lokālā tāme Nr.1'!C21,0)) -> 0 | D18: =IF($C$2="Neattiecināmās izmaksas",IF('Lokālā tāme Nr.1'!$Q21="Neattiecināmās",'Lokālā tāme Nr.1'!D21,0)) -> 0 | E18: =IF($C$2="Neattiecināmās izmaksas",IF('Lokālā tāme Nr.1'!$Q21="Neattiecināmās",'Lokālā tāme Nr.1'!E21,0)) -> 0 | F18: =IF($C$2="Neattiecināmās izmaksas",IF('Lokālā tāme Nr.1'!$Q21="Neattiecināmās",'Lokālā tāme Nr.1'!F21,0)) -> 0 | G18: =IF($C$2="Neattiecināmās izmaksas",IF('Lokālā tāme Nr.1'!$Q21="Neattiecināmās",'Lokālā tāme Nr.1'!G21,0)) -> 0 | H18: =IF($C$2="Neattiecināmās izmaksas",IF('Lokālā tāme Nr.1'!$Q21="Neattiecināmās",'Lokālā tāme Nr.1'!H21,0)) -> 0 | I18: =IF($C$2="Neattiecināmās izmaksas",IF('Lokālā tāme Nr.1'!$Q21="Neattiecināmās",'Lokālā tāme Nr.1'!I21,0)) -> 0 | J18: =IF($C$2="Neattiecināmās izmaksas",IF('Lokālā tāme Nr.1'!$Q21="Neattiecināmās",'Lokālā tāme Nr.1'!J21,0)) -> 0 | ... P18: =IF($C$2="Neattiecināmās izmaksas",IF('Lokālā tāme Nr.1'!$Q21="Neattiecināmās",'Lokālā tāme Nr.1'!P21,0)) -> 0
A19: =IF(P19=0,0,IF(COUNTBLANK(P19)=1,0,COUNTA($P$8:P19))) -> 0 | B19: =IF($C$2="Neattiecināmās izmaksas",IF('Lokālā tāme Nr.1'!$Q22="Neattiecināmās",'Lokālā tāme Nr.1'!$B22,0)) -> 0 | C19: =IF($C$2="Neattiecināmās izmaksas",IF('Lokālā tāme Nr.1'!$Q22="Neattiecināmās",'Lokālā tāme Nr.1'!C22,0)) -> 0 | D19: =IF($C$2="Neattiecināmās izmaksas",IF('Lokālā tāme Nr.1'!$Q22="Neattiecināmās",'Lokālā tāme Nr.1'!D22,0)) -> 0 | E19: =IF($C$2="Neattiecināmās izmaksas",IF('Lokālā tāme Nr.1'!$Q22="Neattiecināmās",'Lokālā tāme Nr.1'!E22,0)) -> 0 | F19: =IF($C$2="Neattiecināmās izmaksas",IF('Lokālā tāme Nr.1'!$Q22="Neattiecināmās",'Lokālā tāme Nr.1'!F22,0)) -> 0 | G19: =IF($C$2="Neattiecināmās izmaksas",IF('Lokālā tāme Nr.1'!$Q22="Neattiecināmās",'Lokālā tāme Nr.1'!G22,0)) -> 0 | H19: =IF($C$2="Neattiecināmās izmaksas",IF('Lokālā tāme Nr.1'!$Q22="Neattiecināmās",'Lokālā tāme Nr.1'!H22,0)) -> 0 | I19: =IF($C$2="Neattiecināmās izmaksas",IF('Lokālā tāme Nr.1'!$Q22="Neattiecināmās",'Lokālā tāme Nr.1'!I22,0)) -> 0 | J19: =IF($C$2="Neattiecināmās izmaksas",IF('Lokālā tāme Nr.1'!$Q22="Neattiecināmās",'Lokālā tāme Nr.1'!J22,0)) -> 0 | ... P19: =IF($C$2="Neattiecināmās izmaksas",IF('Lokālā tāme Nr.1'!$Q22="Neattiecināmās",'Lokālā tāme Nr.1'!P22,0)) -> 0
... A494: =IF(P494=0,0,IF(COUNTBLANK(P494)=1,0,COUNTA($P$8:P494))) -> 0 | B494: =IF($C$2="Neattiecināmās izmaksas",IF('Lokālā tāme Nr.1'!$Q497="Neattiecināmās",'Lokālā tāme Nr.1'!$B497,0)) -> 0 | C494: =IF($C$2="Neattiecināmās izmaksas",IF('Lokālā tāme Nr.1'!$Q497="Neattiecināmās",'Lokālā tāme Nr.1'!C497,0)) -> 0 | D494: =IF($C$2="Neattiecināmās izmaksas",IF('Lokālā tāme Nr.1'!$Q497="Neattiecināmās",'Lokālā tāme Nr.1'!D497,0)) -> 0 | E494: =IF($C$2="Neattiecināmās izmaksas",IF('Lokālā tāme Nr.1'!$Q497="Neattiecināmās",'Lokālā tāme Nr.1'!E497,0)) -> 0 | F494: =IF($C$2="Neattiecināmās izmaksas",IF('Lokālā tāme Nr.1'!$Q497="Neattiecināmās",'Lokālā tāme Nr.1'!F497,0)) -> 0 | G494: =IF($C$2="Neattiecināmās izmaksas",IF('Lokālā tāme Nr.1'!$Q497="Neattiecināmās",'Lokālā tāme Nr.1'!G497,0)) -> 0 | H494: =IF($C$2="Neattiecināmās izmaksas",IF('Lokālā tāme Nr.1'!$Q497="Neattiecināmās",'Lokālā tāme Nr.1'!H497,0)) -> 0 | I494: =IF($C$2="Neattiecināmās izmaksas",IF('Lokālā tāme Nr.1'!$Q497="Neattiecināmās",'Lokālā tāme Nr.1'!I497,0)) -> 0 | J494: =IF($C$2="Neattiecināmās izmaksas",IF('Lokālā tāme Nr.1'!$Q497="Neattiecināmās",'Lokālā tāme Nr.1'!J497,0)) -> 0 | ... P494: =IF($C$2="Neattiecināmās izmaksas",IF('Lokālā tāme Nr.1'!$Q497="Neattiecināmās",'Lokālā tāme Nr.1'!P497,0)) -> 0
A495: Tiešās izmaksas kopā, t. sk. darba devēja sociālais nodoklis __.__% | L495: =SUM(L8:L494) -> 0 | M495: =SUM(M8:M494) -> 0 | N495: =SUM(N8:N494) -> 0 | O495: =SUM(O8:O494) -> 0 | P495: =SUM(P8:P494) -> 0

Sheet Lokālā tāme Nr.2
B2: LOKĀLĀ TĀME NR. | Q2: 2
N4: =B4 -> 0
B5: darba veids vai konstruktīvā elementa nosaukums
B7: KOPĒJĀS IZMAKSAS | G7: =P498 -> 0
B9: Nr.p.k. | C9: Darba nosaukums | D9: Mērvienība | E9: Daudzums | F9: Vienības izmaksas | L9: Kopā uz visu apjomu | Q9: Izmaksu veids (attiecināmās vai neattiecināmas)
F10: Laika norma (c/h) | G10: Darba samaksas likme (EUR/h) | H10: Darba alga (EUR) | I10: Būvizstrādājumi (EUR) | J10: Mehānismi (EUR) | K10: Kopā (EUR) | L10: Laika norma (c/h) | M10: Darba alga (EUR) | N10: Būvizstrādājumi (EUR) | O10: Mehānismi (EUR) | P10: Kopā (EUR)
H11: =ROUND(F11*G11,2) -> 0 | K11: =SUM(H11:J11) -> 0 | L11: =ROUND(E11*F11,2) -> 0 | M11: =ROUND(H11*E11,2) -> 0 | N11: =ROUND(I11*E11,2) -> 0 | O11: =ROUND(J11*E11,2) -> 0 | P11: =SUM(M11:O11) -> 0
H12: =ROUND(F12*G12,2) -> 0 | K12: =SUM(H12:J12) -> 0 | L12: =ROUND(E12*F12,2) -> 0 | M12: =ROUND(H12*E12,2) -> 0 | N12: =ROUND(I12*E12,2) -> 0 | O12: =ROUND(J12*E12,2) -> 0 | P12: =SUM(M12:O12) -> 0
H13: =ROUND(F13*G13,2) -> 0 | K13: =SUM(H13:J13) -> 0 | L13: =ROUND(E13*F13,2) -> 0 | M13: =ROUND(H13*E13,2) -> 0 | N13: =ROUND(I13*E13,2) -> 0 | O13: =ROUND(J13*E13,2) -> 0 | P13: =SUM(M13:O13) -> 0
H14: =ROUND(F14*G14,2) -> 0 | K14: =SUM(H14:J14) -> 0 | L14: =ROUND(E14*F14,2) -> 0 | M14: =ROUND(H14*E14,2) -> 0 | N14: =ROUND(I14*E14,2) -> 0 | O14: =ROUND(J14*E14,2) -> 0 | P14: =SUM(M14:O14) -> 0
H15: =ROUND(F15*G15,2) -> 0 | K15: =SUM(H15:J15) -> 0 | L15: =ROUND(E15*F15,2) -> 0 | M15: =ROUND(H15*E15,2) -> 0 | N15: =ROUND(I15*E15,2) -> 0 | O15: =ROUND(J15*E15,2) -> 0 | P15: =SUM(M15:O15) -> 0
H16: =ROUND(F16*G16,2) -> 0 | K16: =SUM(H16:J16) -> 0 | L16: =ROUND(E16*F16,2) -> 0 | M16: =ROUND(H16*E16,2) -> 0 | N16: =ROUND(I16*E16,2) -> 0 | O16: =ROUND(J16*E16,2) -> 0 | P16: =SUM(M16:O16) -> 0
H17: =ROUND(F17*G17,2) -> 0 | K17: =SUM(H17:J17) -> 0 | L17: =ROUND(E17*F17,2) -> 0 | M17: =ROUND(H17*E17,2) -> 0 | N17: =ROUND(I17*E17,2) -> 0 | O17: =ROUND(J17*E17,2) -> 0 | P17: =SUM(M17:O17) -> 0
H18: =ROUND(F18*G18,2) -> 0 | K18: =SUM(H18:J18) -> 0 | L18: =ROUND(E18*F18,2) -> 0 | M18: =ROUND(H18*E18,2) -> 0 | N18: =ROUND(I18*E18,2) -> 0 | O18: =ROUND(J18*E18,2) -> 0 | P18: =SUM(M18:O18) -> 0
H19: =ROUND(F19*G19,2) -> 0 | K19: =SUM(H19:J19) -> 0 | L19: =ROUND(E19*F19,2) -> 0 | M19: =ROUND(H19*E19,2) -> 0 | N19: =ROUND(I19*E19,2) -> 0 | O19: =ROUND(J19*E19,2) -> 0 | P19: =SUM(M19:O19) -> 0
H20: =ROUND(F20*G20,2) -> 0 | K20: =SUM(H20:J20) -> 0 | L20: =ROUND(E20*F20,2) -> 0 | M20: =ROUND(H20*E20,2) -> 0 | N20: =ROUND(I20*E20,2) -> 0 | O20: =ROUND(J20*E20,2) -> 0 | P20: =SUM(M20:O20) -> 0
H21: =ROUND(F21*G21,2) -> 0 | K21: =SUM(H21:J21) -> 0 | L21: =ROUND(E21*F21,2) -> 0 | M21: =ROUND(H21*E21,2) -> 0 | N21: =ROUND(I21*E21,2) -> 0 | O21: =ROUND(J21*E21,2) -> 0 | P21: =SUM(M21:O21) -> 0
H22: =ROUND(F22*G22,2) -> 0 | K22: =SUM(H22:J22) -> 0 | L22: =ROUND(E22*F22,2) -> 0 | M22: =ROUND(H22*E22,2) -> 0 | N22: =ROUND(I22*E22,2) -> 0 | O22: =ROUND(J22*E22,2) -> 0 | P22: =SUM(M22:O22) -> 0
... H497: =ROUND(F497*G497,2) -> 0 | K497: =SUM(H497:J497) -> 0 | L497: =ROUND(E497*F497,2) -> 0 | M497: =ROUND(H497*E497,2) -> 0 | N497: =ROUND(I497*E497,2) -> 0 | O497: =ROUND(J497*E497,2) -> 0 | P497: =SUM(M497:O497) -> 0
B498: Tiešās izmaksas kopā, t. sk. darba devēja sociālais nodoklis 23.59% | L498: =SUM(L11:L497) -> 0 | M498: =SUM(M11:M497) -> 0 | N498: =SUM(N11:N497) -> 0 | O498: =SUM(O11:O497) -> 0 | P498: =SUM(P11:P497) -> 0

